BEGIN:VCALENDAR
VERSION:2.0
PRODID:-//jEvents 2.0 for Joomla//EN
CALSCALE:GREGORIAN
METHOD:PUBLISH
BEGIN:VEVENT
UID:b2cc1d3e4c357f698e0e4e7b16a29a09
CATEGORIES:2. Bezirk
CREATED:20250603T173102
SUMMARY:Töpfer Ferienkurs für Kids
LOCATION:Rami Ceramics Volkertplatz 15
DESCRIPTION:\nDu möchtest dich kreativ austoben? Tauche ein in die aufregende Welt der 
 Keramik in unseren einwöchigen Camps für Kinder.\nVom Formen von Ton, Drehe
 n an der Drehscheibe, Bemalen von Werken bis zum Brennen fertiger Stücke – 
 lerne das Material Ton kennen und setze ein eigenes Projekt um.\nTagesplan\
 n8.30 – 9.00 Uhr: Ankunft und gemeinsames Frühstück bis 09.00 Uhr\n09.00 – 
 12.00 Uhr: Zeit für keramisches Arbeiten\n12.00 – 13.00 Uhr : Gemeinsame Mi
 ttagspause\n13.00 – 15.00 Uhr: Nachmittags Aktivitäten draußen im Augarten 
 bei Schönwetter ansonsten drinnen im Studio (Spiele, Malen, weiter mit Ton 
 arbeiten)\nDein Kind wird grundlegende keramische Fähigkeiten entwickeln un
 d seine Kreativität wird gefördert durch die Arbeit mit Ton. Die Kurssprach
 e bei diesem Kurs ist deutsch.\nAltersgruppe: 6 – 12 JahreKursgruppe max. 8
  Kinder auf zwei BetreuungspersonenJause bitte mitbringen, wir organisieren
  Snacks und Getränke (Wasser und Tee)\n
X-ALT-DESC;FMTTYPE=text/html:<p><button class="share-button__button" style="box-sizing: inherit; border:
  none; --tw-border-spacing-x: 0; --tw-border-spacing-y: 0; --tw-translate-x
 : 0; --tw-translate-y: 0; --tw-rotate: 0; --tw-skew-x: 0; --tw-skew-y: 0; -
 -tw-scale-x: 1; --tw-scale-y: 1; --tw-scroll-snap-strictness: proximity; --
 tw-ring-offset-width: 0px; --tw-ring-offset-color: #fff; --tw-ring-color: r
 gb(59 130 246 / .5); --tw-ring-offset-shadow: 0 0 #0000; --tw-ring-shadow: 
 0 0 #0000; --tw-shadow: 0 0 #0000; --tw-shadow-colored: 0 0 #0000; text-tra
 nsform: none; font-size: 1.4rem; display: flex; align-items: center; color:
  rgb(var(--color-link)); margin-left: 0px; padding-left: 0px; min-height: 4
 .4rem; cursor: pointer; background-color: transparent;"><span class="svg-wr
 apper" style="box-sizing: inherit; --tw-border-spacing-x: 0; --tw-border-sp
 acing-y: 0; --tw-translate-x: 0; --tw-translate-y: 0; --tw-rotate: 0; --tw-
 skew-x: 0; --tw-skew-y: 0; --tw-scale-x: 1; --tw-scale-y: 1; --tw-scroll-sn
 ap-strictness: proximity; --tw-ring-offset-width: 0px; --tw-ring-offset-col
 or: #fff; --tw-ring-color: rgb(59 130 246 / .5); --tw-ring-offset-shadow: 0
  0 #0000; --tw-ring-shadow: 0 0 #0000; --tw-shadow: 0 0 #0000; --tw-shadow-
 colored: 0 0 #0000; display: inline-flex; justify-content: center; align-it
 ems: center; width: 20px; height: 20px; border: 0px solid #e5e7eb;"></span>
 </button></p><div class="product__description rte quick-add-hidden" style="
 box-sizing: inherit; --tw-border-spacing-x: 0; --tw-border-spacing-y: 0; --
 tw-translate-x: 0; --tw-translate-y: 0; --tw-rotate: 0; --tw-skew-x: 0; --t
 w-skew-y: 0; --tw-scale-x: 1; --tw-scale-y: 1; --tw-scroll-snap-strictness:
  proximity; --tw-ring-offset-width: 0px; --tw-ring-offset-color: #fff; --tw
 -ring-color: rgb(59 130 246 / .5); --tw-ring-offset-shadow: 0 0 #0000; --tw
 -ring-shadow: 0 0 #0000; --tw-shadow: 0 0 #0000; --tw-shadow-colored: 0 0 #
 0000; margin: 2.5rem 0px; color: rgba(0, 0, 0, 0.75); font-family: 'Quattro
 cento Sans', sans-serif; font-size: 16px; font-style: normal; font-variant-
 ligatures: normal; font-variant-caps: normal; font-weight: 400; letter-spac
 ing: 0.6px; orphans: 2; text-align: start; text-indent: 0px; text-transform
 : none; widows: 2; word-spacing: 0px; -webkit-text-stroke-width: 0px; white
 -space: normal; background-color: #ffffff; text-decoration-thickness: initi
 al; text-decoration-style: initial; text-decoration-color: initial; border:
  0px solid #e5e7eb;"><p class="p1" style="box-sizing: inherit; --tw-border-
 spacing-x: 0; --tw-border-spacing-y: 0; --tw-translate-x: 0; --tw-translate
 -y: 0; --tw-rotate: 0; --tw-skew-x: 0; --tw-skew-y: 0; --tw-scale-x: 1; --t
 w-scale-y: 1; --tw-scroll-snap-strictness: proximity; --tw-ring-offset-widt
 h: 0px; --tw-ring-offset-color: #fff; --tw-ring-color: rgb(59 130 246 / .5)
 ; --tw-ring-offset-shadow: 0 0 #0000; --tw-ring-shadow: 0 0 #0000; --tw-sha
 dow: 0 0 #0000; --tw-shadow-colored: 0 0 #0000; border: 0px solid #e5e7eb;"
 >Du möchtest dich kreativ austoben? Tauche ein in die aufregende Welt der K
 eramik in unseren einwöchigen Camps für Kinder.</p><p class="p1" style="box
 -sizing: inherit; --tw-border-spacing-x: 0; --tw-border-spacing-y: 0; --tw-
 translate-x: 0; --tw-translate-y: 0; --tw-rotate: 0; --tw-skew-x: 0; --tw-s
 kew-y: 0; --tw-scale-x: 1; --tw-scale-y: 1; --tw-scroll-snap-strictness: pr
 oximity; --tw-ring-offset-width: 0px; --tw-ring-offset-color: #fff; --tw-ri
 ng-color: rgb(59 130 246 / .5); --tw-ring-offset-shadow: 0 0 #0000; --tw-ri
 ng-shadow: 0 0 #0000; --tw-shadow: 0 0 #0000; --tw-shadow-colored: 0 0 #000
 0; border: 0px solid #e5e7eb;">Vom Formen von Ton, Drehen an der Drehscheib
 e, Bemalen von Werken bis zum Brennen fertiger Stücke – lerne das Material 
 Ton kennen und setze ein eigenes Projekt um.</p><p class="p1" style="box-si
 zing: inherit; --tw-border-spacing-x: 0; --tw-border-spacing-y: 0; --tw-tra
 nslate-x: 0; --tw-translate-y: 0; --tw-rotate: 0; --tw-skew-x: 0; --tw-skew
 -y: 0; --tw-scale-x: 1; --tw-scale-y: 1; --tw-scroll-snap-strictness: proxi
 mity; --tw-ring-offset-width: 0px; --tw-ring-offset-color: #fff; --tw-ring-
 color: rgb(59 130 246 / .5); --tw-ring-offset-shadow: 0 0 #0000; --tw-ring-
 shadow: 0 0 #0000; --tw-shadow: 0 0 #0000; --tw-shadow-colored: 0 0 #0000; 
 border: 0px solid #e5e7eb;">Tagesplan</p><p class="p1" style="box-sizing: i
 nherit; --tw-border-spacing-x: 0; --tw-border-spacing-y: 0; --tw-translate-
 x: 0; --tw-translate-y: 0; --tw-rotate: 0; --tw-skew-x: 0; --tw-skew-y: 0; 
 --tw-scale-x: 1; --tw-scale-y: 1; --tw-scroll-snap-strictness: proximity; -
 -tw-ring-offset-width: 0px; --tw-ring-offset-color: #fff; --tw-ring-color: 
 rgb(59 130 246 / .5); --tw-ring-offset-shadow: 0 0 #0000; --tw-ring-shadow:
  0 0 #0000; --tw-shadow: 0 0 #0000; --tw-shadow-colored: 0 0 #0000; border:
  0px solid #e5e7eb;">8.30 – 9.00 Uhr: Ankunft und gemeinsames Frühstück bis
  09.00 Uhr</p><p class="p1" style="box-sizing: inherit; --tw-border-spacing
 -x: 0; --tw-border-spacing-y: 0; --tw-translate-x: 0; --tw-translate-y: 0; 
 --tw-rotate: 0; --tw-skew-x: 0; --tw-skew-y: 0; --tw-scale-x: 1; --tw-scale
 -y: 1; --tw-scroll-snap-strictness: proximity; --tw-ring-offset-width: 0px;
  --tw-ring-offset-color: #fff; --tw-ring-color: rgb(59 130 246 / .5); --tw-
 ring-offset-shadow: 0 0 #0000; --tw-ring-shadow: 0 0 #0000; --tw-shadow: 0 
 0 #0000; --tw-shadow-colored: 0 0 #0000; border: 0px solid #e5e7eb;">09.00 
 – 12.00 Uhr: Zeit für keramisches Arbeiten</p><p class="p1" style="box-sizi
 ng: inherit; --tw-border-spacing-x: 0; --tw-border-spacing-y: 0; --tw-trans
 late-x: 0; --tw-translate-y: 0; --tw-rotate: 0; --tw-skew-x: 0; --tw-skew-y
 : 0; --tw-scale-x: 1; --tw-scale-y: 1; --tw-scroll-snap-strictness: proximi
 ty; --tw-ring-offset-width: 0px; --tw-ring-offset-color: #fff; --tw-ring-co
 lor: rgb(59 130 246 / .5); --tw-ring-offset-shadow: 0 0 #0000; --tw-ring-sh
 adow: 0 0 #0000; --tw-shadow: 0 0 #0000; --tw-shadow-colored: 0 0 #0000; bo
 rder: 0px solid #e5e7eb;">12.00 – 13.00 Uhr : Gemeinsame Mittagspause</p><p
  class="p1" style="box-sizing: inherit; --tw-border-spacing-x: 0; --tw-bord
 er-spacing-y: 0; --tw-translate-x: 0; --tw-translate-y: 0; --tw-rotate: 0; 
 --tw-skew-x: 0; --tw-skew-y: 0; --tw-scale-x: 1; --tw-scale-y: 1; --tw-scro
 ll-snap-strictness: proximity; --tw-ring-offset-width: 0px; --tw-ring-offse
 t-color: #fff; --tw-ring-color: rgb(59 130 246 / .5); --tw-ring-offset-shad
 ow: 0 0 #0000; --tw-ring-shadow: 0 0 #0000; --tw-shadow: 0 0 #0000; --tw-sh
 adow-colored: 0 0 #0000; border: 0px solid #e5e7eb;">13.00 – 15.00 Uhr: Nac
 hmittags Aktivitäten draußen im Augarten bei Schönwetter ansonsten drinnen 
 im Studio (Spiele, Malen, weiter mit Ton arbeiten)</p><p class="p1" style="
 box-sizing: inherit; --tw-border-spacing-x: 0; --tw-border-spacing-y: 0; --
 tw-translate-x: 0; --tw-translate-y: 0; --tw-rotate: 0; --tw-skew-x: 0; --t
 w-skew-y: 0; --tw-scale-x: 1; --tw-scale-y: 1; --tw-scroll-snap-strictness:
  proximity; --tw-ring-offset-width: 0px; --tw-ring-offset-color: #fff; --tw
 -ring-color: rgb(59 130 246 / .5); --tw-ring-offset-shadow: 0 0 #0000; --tw
 -ring-shadow: 0 0 #0000; --tw-shadow: 0 0 #0000; --tw-shadow-colored: 0 0 #
 0000; border: 0px solid #e5e7eb;">Dein Kind wird grundlegende keramische Fä
 higkeiten entwickeln und seine Kreativität wird gefördert durch die Arbeit 
 mit Ton. Die Kurssprache bei diesem Kurs ist deutsch.</p><p style="box-sizi
 ng: inherit; --tw-border-spacing-x: 0; --tw-border-spacing-y: 0; --tw-trans
 late-x: 0; --tw-translate-y: 0; --tw-rotate: 0; --tw-skew-x: 0; --tw-skew-y
 : 0; --tw-scale-x: 1; --tw-scale-y: 1; --tw-scroll-snap-strictness: proximi
 ty; --tw-ring-offset-width: 0px; --tw-ring-offset-color: #fff; --tw-ring-co
 lor: rgb(59 130 246 / .5); --tw-ring-offset-shadow: 0 0 #0000; --tw-ring-sh
 adow: 0 0 #0000; --tw-shadow: 0 0 #0000; --tw-shadow-colored: 0 0 #0000; ma
 rgin-bottom: 0px; border: 0px solid #e5e7eb;">Altersgruppe: 6 – 12 Jahre<br
  style="box-sizing: inherit; --tw-border-spacing-x: 0; --tw-border-spacing-
 y: 0; --tw-translate-x: 0; --tw-translate-y: 0; --tw-rotate: 0; --tw-skew-x
 : 0; --tw-skew-y: 0; --tw-scale-x: 1; --tw-scale-y: 1; --tw-scroll-snap-str
 ictness: proximity; --tw-ring-offset-width: 0px; --tw-ring-offset-color: #f
 ff; --tw-ring-color: rgb(59 130 246 / .5); --tw-ring-offset-shadow: 0 0 #00
 00; --tw-ring-shadow: 0 0 #0000; --tw-shadow: 0 0 #0000; --tw-shadow-colore
 d: 0 0 #0000; border: 0px solid #e5e7eb;" />Kursgruppe max. 8 Kinder auf zw
 ei Betreuungspersonen<br style="box-sizing: inherit; --tw-border-spacing-x:
  0; --tw-border-spacing-y: 0; --tw-translate-x: 0; --tw-translate-y: 0; --t
 w-rotate: 0; --tw-skew-x: 0; --tw-skew-y: 0; --tw-scale-x: 1; --tw-scale-y:
  1; --tw-scroll-snap-strictness: proximity; --tw-ring-offset-width: 0px; --
 tw-ring-offset-color: #fff; --tw-ring-color: rgb(59 130 246 / .5); --tw-rin
 g-offset-shadow: 0 0 #0000; --tw-ring-shadow: 0 0 #0000; --tw-shadow: 0 0 #
 0000; --tw-shadow-colored: 0 0 #0000; border: 0px solid #e5e7eb;" />Jause b
 itte mitbringen, wir organisieren Snacks und Getränke (Wasser und Tee)</p><
 /div>
CONTACT:https://rami-ceramics.com/products/topfer-ferienkurs-fur-kids
X-EXTRAINFO:[preis='36500'][anmeldung='true']
DTSTAMP:20260425T231600
DTSTART:20250714T063000
DTEND:20250718T130000
SEQUENCE:0
TRANSP:OPAQUE
END:VEVENT
END:VCALENDAR