BEGIN:VCALENDAR
VERSION:2.0
PRODID:-//jEvents 2.0 for Joomla//EN
CALSCALE:GREGORIAN
METHOD:PUBLISH
BEGIN:VEVENT
UID:fe8c707366daae81d22dcabbabd5b888
CATEGORIES:2. Bezirk
CREATED:20250603T173403
SUMMARY:Töpfer Ferienkurs für Kids
LOCATION:Rami Ceramics Volkertplatz 15
DESCRIPTION:Du möchtest dich kreativ austoben? Tauche ein in die aufregende Welt der Ke
 ramik in unseren einwöchigen Camps für Kinder.\nVom Formen von Ton, Drehen 
 an der Drehscheibe, Bemalen von Werken bis zum Brennen fertiger Stücke – le
 rne das Material Ton kennen und setze ein eigenes Projekt um.\nTagesplan\n8
 .30 – 9.00 Uhr: Ankunft und gemeinsames Frühstück bis 09.00 Uhr\n09.00 – 12
 .00 Uhr: Zeit für keramisches Arbeiten\n12.00 – 13.00 Uhr : Gemeinsame Mitt
 agspause\n13.00 – 15.00 Uhr: Nachmittags Aktivitäten draußen im Augarten be
 i Schönwetter ansonsten drinnen im Studio (Spiele, Malen, weiter mit Ton ar
 beiten)\nDein Kind wird grundlegende keramische Fähigkeiten entwickeln und 
 seine Kreativität wird gefördert durch die Arbeit mit Ton. Die Kurssprache 
 bei diesem Kurs ist deutsch.\nAltersgruppe: 6 – 12 JahreKursgruppe max. 8 K
 inder auf zwei BetreuungspersonenJause bitte mitbringen, wir organisieren S
 nacks und Getränke (Wasser und Tee)\n
X-ALT-DESC;FMTTYPE=text/html:<p class="p1" style="box-sizing: inherit; --tw-border-spacing-x: 0; --tw-bo
 rder-spacing-y: 0; --tw-translate-x: 0; --tw-translate-y: 0; --tw-rotate: 0
 ; --tw-skew-x: 0; --tw-skew-y: 0; --tw-scale-x: 1; --tw-scale-y: 1; --tw-sc
 roll-snap-strictness: proximity; --tw-ring-offset-width: 0px; --tw-ring-off
 set-color: #fff; --tw-ring-color: rgb(59 130 246 / .5); --tw-ring-offset-sh
 adow: 0 0 #0000; --tw-ring-shadow: 0 0 #0000; --tw-shadow: 0 0 #0000; --tw-
 shadow-colored: 0 0 #0000; color: rgba(0, 0, 0, 0.75); font-family: 'Quattr
 ocento Sans', sans-serif; font-size: 16px; letter-spacing: 0.6px; border: 0
 px solid #e5e7eb;">Du möchtest dich kreativ austoben? Tauche ein in die auf
 regende Welt der Keramik in unseren einwöchigen Camps für Kinder.</p><p cla
 ss="p1" style="box-sizing: inherit; --tw-border-spacing-x: 0; --tw-border-s
 pacing-y: 0; --tw-translate-x: 0; --tw-translate-y: 0; --tw-rotate: 0; --tw
 -skew-x: 0; --tw-skew-y: 0; --tw-scale-x: 1; --tw-scale-y: 1; --tw-scroll-s
 nap-strictness: proximity; --tw-ring-offset-width: 0px; --tw-ring-offset-co
 lor: #fff; --tw-ring-color: rgb(59 130 246 / .5); --tw-ring-offset-shadow: 
 0 0 #0000; --tw-ring-shadow: 0 0 #0000; --tw-shadow: 0 0 #0000; --tw-shadow
 -colored: 0 0 #0000; color: rgba(0, 0, 0, 0.75); font-family: 'Quattrocento
  Sans', sans-serif; font-size: 16px; letter-spacing: 0.6px; border: 0px sol
 id #e5e7eb;">Vom Formen von Ton, Drehen an der Drehscheibe, Bemalen von Wer
 ken bis zum Brennen fertiger Stücke – lerne das Material Ton kennen und set
 ze ein eigenes Projekt um.</p><p class="p1" style="box-sizing: inherit; --t
 w-border-spacing-x: 0; --tw-border-spacing-y: 0; --tw-translate-x: 0; --tw-
 translate-y: 0; --tw-rotate: 0; --tw-skew-x: 0; --tw-skew-y: 0; --tw-scale-
 x: 1; --tw-scale-y: 1; --tw-scroll-snap-strictness: proximity; --tw-ring-of
 fset-width: 0px; --tw-ring-offset-color: #fff; --tw-ring-color: rgb(59 130 
 246 / .5); --tw-ring-offset-shadow: 0 0 #0000; --tw-ring-shadow: 0 0 #0000;
  --tw-shadow: 0 0 #0000; --tw-shadow-colored: 0 0 #0000; color: rgba(0, 0, 
 0, 0.75); font-family: 'Quattrocento Sans', sans-serif; font-size: 16px; le
 tter-spacing: 0.6px; border: 0px solid #e5e7eb;">Tagesplan</p><p class="p1"
  style="box-sizing: inherit; --tw-border-spacing-x: 0; --tw-border-spacing-
 y: 0; --tw-translate-x: 0; --tw-translate-y: 0; --tw-rotate: 0; --tw-skew-x
 : 0; --tw-skew-y: 0; --tw-scale-x: 1; --tw-scale-y: 1; --tw-scroll-snap-str
 ictness: proximity; --tw-ring-offset-width: 0px; --tw-ring-offset-color: #f
 ff; --tw-ring-color: rgb(59 130 246 / .5); --tw-ring-offset-shadow: 0 0 #00
 00; --tw-ring-shadow: 0 0 #0000; --tw-shadow: 0 0 #0000; --tw-shadow-colore
 d: 0 0 #0000; color: rgba(0, 0, 0, 0.75); font-family: 'Quattrocento Sans',
  sans-serif; font-size: 16px; letter-spacing: 0.6px; border: 0px solid #e5e
 7eb;">8.30 – 9.00 Uhr: Ankunft und gemeinsames Frühstück bis 09.00 Uhr</p><
 p class="p1" style="box-sizing: inherit; --tw-border-spacing-x: 0; --tw-bor
 der-spacing-y: 0; --tw-translate-x: 0; --tw-translate-y: 0; --tw-rotate: 0;
  --tw-skew-x: 0; --tw-skew-y: 0; --tw-scale-x: 1; --tw-scale-y: 1; --tw-scr
 oll-snap-strictness: proximity; --tw-ring-offset-width: 0px; --tw-ring-offs
 et-color: #fff; --tw-ring-color: rgb(59 130 246 / .5); --tw-ring-offset-sha
 dow: 0 0 #0000; --tw-ring-shadow: 0 0 #0000; --tw-shadow: 0 0 #0000; --tw-s
 hadow-colored: 0 0 #0000; color: rgba(0, 0, 0, 0.75); font-family: 'Quattro
 cento Sans', sans-serif; font-size: 16px; letter-spacing: 0.6px; border: 0p
 x solid #e5e7eb;">09.00 – 12.00 Uhr: Zeit für keramisches Arbeiten</p><p cl
 ass="p1" style="box-sizing: inherit; --tw-border-spacing-x: 0; --tw-border-
 spacing-y: 0; --tw-translate-x: 0; --tw-translate-y: 0; --tw-rotate: 0; --t
 w-skew-x: 0; --tw-skew-y: 0; --tw-scale-x: 1; --tw-scale-y: 1; --tw-scroll-
 snap-strictness: proximity; --tw-ring-offset-width: 0px; --tw-ring-offset-c
 olor: #fff; --tw-ring-color: rgb(59 130 246 / .5); --tw-ring-offset-shadow:
  0 0 #0000; --tw-ring-shadow: 0 0 #0000; --tw-shadow: 0 0 #0000; --tw-shado
 w-colored: 0 0 #0000; color: rgba(0, 0, 0, 0.75); font-family: 'Quattrocent
 o Sans', sans-serif; font-size: 16px; letter-spacing: 0.6px; border: 0px so
 lid #e5e7eb;">12.00 – 13.00 Uhr : Gemeinsame Mittagspause</p><p class="p1" 
 style="box-sizing: inherit; --tw-border-spacing-x: 0; --tw-border-spacing-y
 : 0; --tw-translate-x: 0; --tw-translate-y: 0; --tw-rotate: 0; --tw-skew-x:
  0; --tw-skew-y: 0; --tw-scale-x: 1; --tw-scale-y: 1; --tw-scroll-snap-stri
 ctness: proximity; --tw-ring-offset-width: 0px; --tw-ring-offset-color: #ff
 f; --tw-ring-color: rgb(59 130 246 / .5); --tw-ring-offset-shadow: 0 0 #000
 0; --tw-ring-shadow: 0 0 #0000; --tw-shadow: 0 0 #0000; --tw-shadow-colored
 : 0 0 #0000; color: rgba(0, 0, 0, 0.75); font-family: 'Quattrocento Sans', 
 sans-serif; font-size: 16px; letter-spacing: 0.6px; border: 0px solid #e5e7
 eb;">13.00 – 15.00 Uhr: Nachmittags Aktivitäten draußen im Augarten bei Sch
 önwetter ansonsten drinnen im Studio (Spiele, Malen, weiter mit Ton arbeite
 n)</p><p class="p1" style="box-sizing: inherit; --tw-border-spacing-x: 0; -
 -tw-border-spacing-y: 0; --tw-translate-x: 0; --tw-translate-y: 0; --tw-rot
 ate: 0; --tw-skew-x: 0; --tw-skew-y: 0; --tw-scale-x: 1; --tw-scale-y: 1; -
 -tw-scroll-snap-strictness: proximity; --tw-ring-offset-width: 0px; --tw-ri
 ng-offset-color: #fff; --tw-ring-color: rgb(59 130 246 / .5); --tw-ring-off
 set-shadow: 0 0 #0000; --tw-ring-shadow: 0 0 #0000; --tw-shadow: 0 0 #0000;
  --tw-shadow-colored: 0 0 #0000; color: rgba(0, 0, 0, 0.75); font-family: '
 Quattrocento Sans', sans-serif; font-size: 16px; letter-spacing: 0.6px; bor
 der: 0px solid #e5e7eb;">Dein Kind wird grundlegende keramische Fähigkeiten
  entwickeln und seine Kreativität wird gefördert durch die Arbeit mit Ton. 
 Die Kurssprache bei diesem Kurs ist deutsch.</p><p style="box-sizing: inher
 it; --tw-border-spacing-x: 0; --tw-border-spacing-y: 0; --tw-translate-x: 0
 ; --tw-translate-y: 0; --tw-rotate: 0; --tw-skew-x: 0; --tw-skew-y: 0; --tw
 -scale-x: 1; --tw-scale-y: 1; --tw-scroll-snap-strictness: proximity; --tw-
 ring-offset-width: 0px; --tw-ring-offset-color: #fff; --tw-ring-color: rgb(
 59 130 246 / .5); --tw-ring-offset-shadow: 0 0 #0000; --tw-ring-shadow: 0 0
  #0000; --tw-shadow: 0 0 #0000; --tw-shadow-colored: 0 0 #0000; margin-bott
 om: 0px; color: rgba(0, 0, 0, 0.75); font-family: 'Quattrocento Sans', sans
 -serif; font-size: 16px; letter-spacing: 0.6px; border: 0px solid #e5e7eb;"
 >Altersgruppe: 6 – 12 Jahre<br style="box-sizing: inherit; --tw-border-spac
 ing-x: 0; --tw-border-spacing-y: 0; --tw-translate-x: 0; --tw-translate-y: 
 0; --tw-rotate: 0; --tw-skew-x: 0; --tw-skew-y: 0; --tw-scale-x: 1; --tw-sc
 ale-y: 1; --tw-scroll-snap-strictness: proximity; --tw-ring-offset-width: 0
 px; --tw-ring-offset-color: #fff; --tw-ring-color: rgb(59 130 246 / .5); --
 tw-ring-offset-shadow: 0 0 #0000; --tw-ring-shadow: 0 0 #0000; --tw-shadow:
  0 0 #0000; --tw-shadow-colored: 0 0 #0000; border: 0px solid #e5e7eb;" />K
 ursgruppe max. 8 Kinder auf zwei Betreuungspersonen<br style="box-sizing: i
 nherit; --tw-border-spacing-x: 0; --tw-border-spacing-y: 0; --tw-translate-
 x: 0; --tw-translate-y: 0; --tw-rotate: 0; --tw-skew-x: 0; --tw-skew-y: 0; 
 --tw-scale-x: 1; --tw-scale-y: 1; --tw-scroll-snap-strictness: proximity; -
 -tw-ring-offset-width: 0px; --tw-ring-offset-color: #fff; --tw-ring-color: 
 rgb(59 130 246 / .5); --tw-ring-offset-shadow: 0 0 #0000; --tw-ring-shadow:
  0 0 #0000; --tw-shadow: 0 0 #0000; --tw-shadow-colored: 0 0 #0000; border:
  0px solid #e5e7eb;" />Jause bitte mitbringen, wir organisieren Snacks und 
 Getränke (Wasser und Tee)</p>
CONTACT:https://rami-ceramics.com/products/topfer-ferienkurs-fur-kids
X-EXTRAINFO:[preis='36500'][anmeldung='true']
DTSTAMP:20260425T104036
DTSTART:20251027T073000
DTEND:20251031T140000
SEQUENCE:0
TRANSP:OPAQUE
END:VEVENT
END:VCALENDAR