BEGIN:VCALENDAR
VERSION:2.0
PRODID:-//jEvents 2.0 for Joomla//EN
CALSCALE:GREGORIAN
METHOD:PUBLISH
BEGIN:VEVENT
UID:943a50bc6b4aa412362bd4177d391f10
CATEGORIES:6. Bezirk
CREATED:20250615T145712
SUMMARY:Minimampf - Bananenbeats: Musikbabyworkshop
LOCATION:KinderMusikGruppe | Mariahilferstraße 115 Im Innenhof rechts
DESCRIPTION:<p style="font-size: 16px; box-sizing: border-box; margin: 0px 0px 24px; pa
 dding: 0px; border: 0px; outline: 0px; font-family: Lato, Helvetica, sans-s
 erif; vertical-align: baseline; caret-color: #404040; color: #404040;">In d
 iesem Musik-Workshop dreht sich alles um das Thema Essen! Mit Liedern, Rhyt
 hmen und kleinen Bewegungsspielen rund um Bananen, Äpfel und Co. entdecken 
 Babys gemeinsam mit ihren Mamas oder Papas die Welt der Klänge und Küchenge
 räte. Wir singen, schaukeln, klatschen und tanzen – immer abgestimmt auf di
 e Bedürfnisse der Kleinsten. Lustige Reime, Instrumente, die auch die Kinde
 r schon spielen können und lustige Essenslieder sorgen für eine entspannte,
  freudige Atmosphäre voller Musik, Bewegung und erste Klangabenteuer.</p><p
  style="font-size: 16px; box-sizing: border-box; margin: 0px 0px 24px; padd
 ing: 0px; border: 0px; outline: 0px; font-family: Lato, Helvetica, sans-ser
 if; vertical-align: baseline; caret-color: #404040; color: #404040;">Für Ki
 nder von 6 – 18 Monaten mit einer erwachsenen Bezugsperson.<br /><br />www.
 kindermusikgruppe.at</p>
CONTACT:Agnes Haider
X-EXTRAINFO:[preis='3500'][anmeldung='true']
DTSTAMP:20260425T001240
DTSTART:20250709T090000
DTEND:20250709T100000
SEQUENCE:0
TRANSP:OPAQUE
END:VEVENT
END:VCALENDAR