BEGIN:VCALENDAR
VERSION:2.0
PRODID:-//jEvents 2.0 for Joomla//EN
CALSCALE:GREGORIAN
METHOD:PUBLISH
BEGIN:VEVENT
UID:8e9a6ec1713ab97384e745b9decefa96
CATEGORIES:6. Bezirk
CREATED:20250615T150400
SUMMARY:Musikbabys Meeresworkshop für Babys von 6 - 18 Monaten plus Mama/Papa
LOCATION:KinderMusikGruppe | Mariahilfer Straße 115 | im Innenhof rechts
DESCRIPTION:Gemeinsam mit Mama oder Papa tauchen wir ein in eine sanfte Klangwelt rund 
 ums Meer: Wir lauschen und spielen selbst plätschernde Wellen, hören das Gl
 ucksen von Fischen von Instrumenten, die auch die Eltern vielleicht noch ni
 e entdeckt haben. Die Erwachsenen musizieren, singen und bewegen sich für u
 nd mit den Babys – ganz nah, achtsam und liebevoll. Mit Tüchern, Instrument
 en und jeder Menge Zeit zum Staunen, Spüren und Mitmachen erkunden wir die 
 Welt des musikalischen Spiels. Und wenn dabei mal etwas in den Mund wandert
  – kein Problem, alles ist babygerecht!\nFür Kinder von 6 – 18 Monaten mit 
 einer erwachsenen Bezugsperson.\n\nFür mehr Information &amp; Anmeldung: ww
 w.kindermusikgruppe.at\n
X-ALT-DESC;FMTTYPE=text/html:<p style="font-size: 16px; box-sizing: border-box; margin: 0px 0px 24px; pa
 dding: 0px; border: 0px; outline: 0px; font-family: Lato, Helvetica, sans-s
 erif; vertical-align: baseline; caret-color: #404040; color: #404040;">Geme
 insam mit Mama oder Papa tauchen wir ein in eine sanfte Klangwelt rund ums 
 Meer: Wir lauschen und spielen selbst plätschernde Wellen, hören das Glucks
 en von Fischen von Instrumenten, die auch die Eltern vielleicht noch nie en
 tdeckt haben. Die Erwachsenen musizieren, singen und bewegen sich für und m
 it den Babys – ganz nah, achtsam und liebevoll. Mit Tüchern, Instrumenten u
 nd jeder Menge Zeit zum Staunen, Spüren und Mitmachen erkunden wir die Welt
  des musikalischen Spiels. Und wenn dabei mal etwas in den Mund wandert – k
 ein Problem, alles ist babygerecht!</p><p style="font-size: 16px; box-sizin
 g: border-box; margin: 0px 0px 24px; padding: 0px; border: 0px; outline: 0p
 x; font-family: Lato, Helvetica, sans-serif; vertical-align: baseline; care
 t-color: #404040; color: #404040;">Für Kinder von 6 – 18 Monaten mit einer 
 erwachsenen Bezugsperson.<br /><br />Für mehr Information &amp; Anmeldung: 
 www.kindermusikgruppe.at</p>
CONTACT:office@kindermusikgruppe.at
X-EXTRAINFO:[preis='3500'][anmeldung='true']
DTSTAMP:20260425T014247
DTSTART:20250724T073000
DTEND:20250724T083000
SEQUENCE:0
TRANSP:OPAQUE
END:VEVENT
END:VCALENDAR