BEGIN:VCALENDAR
VERSION:2.0
PRODID:-//jEvents 2.0 for Joomla//EN
CALSCALE:GREGORIAN
METHOD:PUBLISH
BEGIN:VEVENT
UID:09aa6dc1f007208c1fc95ac0ce9002bc
CATEGORIES:3. Bezirk
CREATED:20250702T104045
SUMMARY:Sing in Summer (0-2.5 years old and their carer)
LOCATION:Rhythmikstudio\, Untere Viaduktgasse 57/3
DESCRIPTION:🎵 Bond through music – while developing your child's musicality 💞\nThis sum
 mer, come and join us for a special short summer course.\nCuddles, rhythm, 
 and singing – just for you and your baby.\nThese 4 sessions are all about c
 onnection:🌸 Soft sounds🌈 Sensory play💃 Energy and dancing\nMusic that nurtu
 res the bond between you.\nSimple but rich – thanks to the incredible reper
 toire of songs and the musical dialogue we’ll create with your child.\nCome
  as you are – but leave a little lighter. ✨\n"I'd love to come but can't ma
 ke all the dates!"No worries – drop-ins are available.\nBook over the websi
 te: https://sophielusty.com/workshops/ (https://sophielusty.com/workshops/)
 \n
X-ALT-DESC;FMTTYPE=text/html:<p style="caret-color: #000000; color: #000000;" data-start="183" data-end=
 "254">🎵&nbsp;<strong data-start="186" data-end="251">Bond through music – w
 hile developing your child's musicality</strong>&nbsp;💞</p><p style="caret-
 color: #000000; color: #000000;" data-start="256" data-end="322">This summe
 r, come and join us for a special short summer course.</p><p style="caret-c
 olor: #000000; color: #000000;" data-start="324" data-end="384">Cuddles, rh
 ythm, and singing – just for you and your baby.</p><p style="caret-color: #
 000000; color: #000000;" data-start="386" data-end="489">These 4 sessions a
 re all about connection:<br data-start="428" data-end="431" />🌸 Soft sounds
 <br data-start="445" data-end="448" />🌈 Sensory play<br data-start="463" da
 ta-end="466" />💃 Energy and dancing</p><p style="caret-color: #000000; colo
 r: #000000;" data-start="491" data-end="534">Music that nurtures the bond b
 etween you.</p><p style="caret-color: #000000; color: #000000;" data-start=
 "536" data-end="655">Simple but rich – thanks to the incredible repertoire 
 of songs and the musical dialogue we’ll create with your child.</p><p style
 ="caret-color: #000000; color: #000000;" data-start="657" data-end="706">Co
 me as you are – but leave a little lighter. ✨</p><p style="caret-color: #00
 0000; color: #000000;" data-start="708" data-end="801"><em data-start="708"
  data-end="758">"I'd love to come but can't make all the dates!"</em><br da
 ta-start="758" data-end="761" />No worries –&nbsp;<strong data-start="774" 
 data-end="800">drop-ins are available</strong>.</p><p>Book over the website
 :&nbsp;<a href="https://sophielusty.com/workshops/" style="font-family: inh
 erit; font-size: 1rem;">https://sophielusty.com/workshops/</a></p>
CONTACT:contact@sophielusty.com
X-EXTRAINFO:[preis='1500'][anmeldung='true']
DTSTAMP:20260424T231532
DTSTART:20250813T080000
DTEND:20250813T084500
SEQUENCE:0
TRANSP:OPAQUE
END:VEVENT
END:VCALENDAR