BEGIN:VCALENDAR
VERSION:2.0
PRODID:-//jEvents 2.0 for Joomla//EN
CALSCALE:GREGORIAN
METHOD:PUBLISH
BEGIN:VEVENT
UID:0ffef5fb6a1e3f243be2472b801e3fb7
CATEGORIES:18. Bezirk
CREATED:19700101T010000
SUMMARY:KlangFarben mit Susanne im Sommer
LOCATION:Spielringel  Mollgasse  11-13
DESCRIPTION:Für Kinder ab 2 Jahren mit BegleitpersonKurstag: Dienstag 15:00-15:45\nTerm
 ine: 12.08./ 19.08.\nKosten: €20,- (für einen Termin)\nMusik &amp; Kunst mi
 t allen Sinnen erleben\nIn diesem fantasievollen Kurs verbinden sich Musik 
 und bildende Kunst zu einem kunterbunten Erlebnisraum: Wir malen, musiziere
 n, tanzen und staunen – mal laut und wild, mal leise und verträumt.  Die Ki
 nder lernen Farben und Formen kennen, entdecken Klänge als Klangfarben und 
 drücken ihre Eindrücke mit Pinseln, Tüchern, Händen oder Instrumenten aus.\
 nWir spielen auf einfachen Orff-Instrumenten, begleiten Musik mit Farben, b
 ewegen uns zu Klängen und lernen erste grafische Notationen kennen – ganz s
 pielerisch!\nOb Farbe klingt oder Musik malt – hier dürfen Kinder mit allen
  Sinnen erforschen, wie sich Kunst und Musik begegnen. Jede Einheit ist ein
  kreatives Abenteuer, das die Fantasie anregt, die Wahrnehmung stärkt und g
 anz nebenbei Musikalität und Ausdrucksfähigkeit fördert.\nJede Einheit wech
 selt zwischen musikalischen Impulsen und künstlerischen Phasen, wobei beide
  Bereiche sich gegenseitig inspirieren: Musik malt Farben, Farben tanzen Kl
 änge.\nIm Sommer gibt es zweimal die Möglichkeit eine Einzeleinheit von die
 sem neuen Kurs zu buchen:\n
X-ALT-DESC;FMTTYPE=text/html:<h4 style="box-sizing: border-box; margin-top: 0px; margin-bottom: 1rem; fo
 nt-family: Montserrat; font-weight: 300; line-height: 1.2; font-size: 1.5re
 m; color: #2b2b2b;">Für Kinder ab 2 Jahren mit Begleitperson</h4><p style="
 box-sizing: border-box; margin-top: 0px; margin-bottom: 1rem; color: #2b2b2
 b; font-family: Roboto; font-size: 16px;"><span class="text-primary font-we
 ight-bold" style="box-sizing: border-box; font-weight: 700 !important; colo
 r: #158795 !important;">Kurstag:&nbsp;</span>Dienstag 15:00-15:45</p><p sty
 le="box-sizing: border-box; margin-top: 0px; margin-bottom: 1rem; color: #2
 b2b2b; font-family: Roboto; font-size: 16px;"><span class="text-primary fon
 t-weight-bold" style="box-sizing: border-box; font-weight: 700 !important; 
 color: #158795 !important;">Termine:&nbsp;</span>12.08./ 19.08.</p><p style
 ="box-sizing: border-box; margin-top: 0px; margin-bottom: 1rem; color: #2b2
 b2b; font-family: Roboto; font-size: 16px;"><span class="text-primary font-
 weight-bold" style="box-sizing: border-box; font-weight: 700 !important; co
 lor: #158795 !important;">Kosten:&nbsp;</span>€20,- (für einen Termin)</p><
 p style="box-sizing: border-box; margin-top: 0px; margin-bottom: 1rem; colo
 r: #2b2b2b; font-family: Roboto; font-size: 16px;"><span style="box-sizing:
  border-box; font-weight: bolder;">Musik &amp; Kunst mit allen Sinnen erleb
 en</span></p><p style="box-sizing: border-box; margin-top: 0px; margin-bott
 om: 1rem; color: #2b2b2b; font-family: Roboto; font-size: 16px;">In diesem 
 fantasievollen Kurs verbinden sich Musik und bildende Kunst zu einem kunter
 bunten Erlebnisraum: Wir malen, musizieren, tanzen und staunen – mal laut u
 nd wild, mal leise und verträumt.&nbsp; Die Kinder lernen Farben und Formen
  kennen, entdecken Klänge als Klangfarben und drücken ihre Eindrücke mit Pi
 nseln, Tüchern, Händen oder Instrumenten aus.</p><p style="box-sizing: bord
 er-box; margin-top: 0px; margin-bottom: 1rem; color: #2b2b2b; font-family: 
 Roboto; font-size: 16px;">Wir spielen auf einfachen Orff-Instrumenten, begl
 eiten Musik mit Farben, bewegen uns zu Klängen und lernen erste grafische N
 otationen kennen – ganz spielerisch!</p><p style="box-sizing: border-box; m
 argin-top: 0px; margin-bottom: 1rem; color: #2b2b2b; font-family: Roboto; f
 ont-size: 16px;">Ob Farbe klingt oder Musik malt – hier dürfen Kinder mit a
 llen Sinnen erforschen, wie sich Kunst und Musik begegnen. Jede Einheit ist
  ein kreatives Abenteuer, das die Fantasie anregt, die Wahrnehmung stärkt u
 nd ganz nebenbei Musikalität und Ausdrucksfähigkeit fördert.</p><p style="b
 ox-sizing: border-box; margin-top: 0px; margin-bottom: 1rem; color: #2b2b2b
 ; font-family: Roboto; font-size: 16px;">Jede Einheit wechselt zwischen mus
 ikalischen Impulsen und künstlerischen Phasen, wobei beide Bereiche sich ge
 genseitig inspirieren: Musik malt Farben, Farben tanzen Klänge.</p><p style
 ="box-sizing: border-box; margin-top: 0px; margin-bottom: 1rem; color: #2b2
 b2b; font-family: Roboto; font-size: 16px;"><span style="box-sizing: border
 -box; font-weight: bolder;">Im Sommer gibt es zweimal die Möglichkeit eine 
 Einzeleinheit von diesem neuen Kurs zu buchen:</span></p>
CONTACT:www.spielringel.at
X-EXTRAINFO:[preis='2000'][anmeldung='true']
DTSTAMP:20260425T032741
DTSTART:20250812T130000
DTEND:20250812T134500
SEQUENCE:0
RRULE:FREQ=WEEKLY;UNTIL=20250821T000000Z;INTERVAL=1;BYDAY=TU
TRANSP:OPAQUE
END:VEVENT
END:VCALENDAR