BEGIN:VCALENDAR
VERSION:2.0
PRODID:-//jEvents 2.0 for Joomla//EN
CALSCALE:GREGORIAN
METHOD:PUBLISH
BEGIN:VEVENT
UID:42bc6f8e83009275b9a484733cb53c10
CATEGORIES:6. Bezirk
CREATED:20250717T105331
SUMMARY:Baby-Atelier (Sitzalter bis 2,5 Jahre)
LOCATION:6.\, Sandwirtgasse 13/12
DESCRIPTION:<h1>Biolino Baby-Atelier</h1><h2>Für Kinder ab dem Sitzalter bis 2,5 Jahre<
 /h2><p style="margin: 0cm; margin-bottom: .0001pt;"><strong>Gruppe 1</stron
 g>: 09.30 - 10.30 Uhr<br /> <strong>Gruppe 2</strong>: 11.00 - 12.00 Uhr</p
 ><p style="margin: 0cm; margin-bottom: .0001pt;"><strong>Gruppe 3</strong>:
  14.30 - 15.30 Uhr</p><p>&nbsp;</p><p><strong>Spielgruppe mit dem Schwerpun
 kt haptische Sinnesschulung</strong></p><p>- Experimentieren mit Farben, Ko
 nsistenzen und unterschiedlichsten Materialien</p><p>Die kleinen Künstlerin
 nen und Künstler können im Biolino Baby-Atelier nach Herzenslust mit selbst
  hergestellten Bio-Farben matschen und gatschen, ohne dass Mama oder Papa n
 achher aufräumen müssen. Über das ganze Semester verteilt führen wir immer 
 wieder neues Erlebnismaterial in die Gruppe ein.<br /> <br /> Klebrig, mats
 chig, bröselig, kratzig: Sand, Erde, Getreidekörner, Holz und viele andere 
 haptische Anregungen warten auf experimentierfreudige Entdecker*innen. Die 
 Kinder können nach Herzenslust die Bio-Farben und Materialien mischen und d
 abei mit allen Sinnen erleben, wie sie ihre Eigenschaften verändern.</p><p>
 weitere Infos unter: <a href="https://www.biolino.at/spielgruppen/baby-atel
 ier/" title="Baby-Atelier">Baby-Atelier</a></p><p>&nbsp;</p><p><b style="ms
 o-bidi-font-weight: normal;">Termine im Wintersemester 205/2026</b></p><p>S
 eptember 2025 10., 17., 25.</p><p>Oktober 2025 1., 8., 15., 22., 29.</p><p>
 November 2025 12., 19., 26.</p><p>Dezember 2025 3., 10., 17.</p><p>Jänner <
 span style="mso-spacerun: yes;"></span>2026 7., 14., 21., 28.</p><p>&nbsp;<
 /p><h2><span style="font-size: 12.0pt; color: red;">Einstieg jederzeit mögl
 ich!</span></h2><h2>Flexibel mit der Biolino Blockkarte:</h2><h2><a href="h
 ttps://www.biolino.at/Blockkarte">www.biolino.at/Blockkarte</a><span style=
 "font-size: 12.0pt;"></span></h2><p>&nbsp;</p><p>Wir freuen uns auf euch! &
 lt;3</p><p>Martina und das Biolino Team</p><p>&nbsp;</p><p>&nbsp;</p><p><a 
 href="http://www.biolino.at" title="www.biolion.at">www.biolino.at</a> <a h
 ref="mailto:martina.novak@biolino.at">martina.novak@biolino.at</a><span sty
 le="mso-spacerun: yes;">&nbsp; </span></p><p>0677 628 929 70</p><p>Sandwirt
 gasse 13/12, 1060 Wien</p><p>&nbsp;</p>
CONTACT:martina.novak@biolino.at, 067762892970
X-EXTRAINFO:[preis='2200'][anmeldung='true']
DTSTAMP:20260425T015027
DTSTART:20250910T123000
DTEND:20250910T133000
SEQUENCE:0
TRANSP:OPAQUE
END:VEVENT
END:VCALENDAR