BEGIN:VCALENDAR
VERSION:2.0
PRODID:-//jEvents 2.0 for Joomla//EN
CALSCALE:GREGORIAN
METHOD:PUBLISH
BEGIN:VEVENT
UID:0e75a69019451e125c8dad90879c2c4e
CATEGORIES:2. Bezirk
CREATED:20250719T080718
SUMMARY:Bewegungsreich 14 bis 24 Monate TINIS BEWEGUNGSRAUM
LOCATION:Tini's Bewegungsraum
DESCRIPTION:SOMMERANGEBOT\nIm Bewegungsreich werden Babys auf spielerische Weise geförd
 ert. Das Angebot bietet eine Vielzahl von Aktivitäten, die die motorische E
 ntwicklung und Koordination verbessern. Darüber hinaus kann das Bewegungsre
 ich dazu beitragen, das Selbstbewusstsein und das Selbstvertrauen der Babys
  zu stärken. Es bietet auch eine großartige Gelegenheit, soziale Kontakte z
 u knüpfen und die sozialen Fähigkeiten zu verbessern.\nDie Aktivitäten sind
  auf die Bedürfnisse der Babys abgestimmt und bieten eine sichere Umgebung 
 für sie, um zu lernen und zu wachsen.\nEine typische Einheit im Bewegungsre
 ich beginnt mit gemeinsamen Liedern und Bewegungsübungen. Im Anschluss habe
 n die Babys die Möglichkeit, sich frei im Raum zu bewegen und selbstständig
  zu entdecken. Die Eltern begleiten ihre Kinder dabei und können ihnen helf
 en, wenn sie Unterstützung benötigen.\nGebühr pro Kind 19€\nGebühr für Zwil
 linge: 34€\nDiese Einheit kann bis 24h vor Kursstart kostenlos storniert we
 rden.\nAnmeldung unter Tinis Bewegungsraum | Website (https://tiniskinderzi
 mmer.kursimple.de/?course=140)\n
X-ALT-DESC;FMTTYPE=text/html:<p>SOMMERANGEBOT</p><p style="box-sizing: border-box; margin: 0.8rem 0px 0.
 2rem; color: #212529; font-family: Titillium, sans-serif; font-size: 16px;"
 >Im Bewegungsreich werden Babys auf spielerische Weise gefördert. Das Angeb
 ot bietet eine Vielzahl von Aktivitäten, die die motorische Entwicklung und
  Koordination verbessern. Darüber hinaus kann das Bewegungsreich dazu beitr
 agen, das Selbstbewusstsein und das Selbstvertrauen der Babys zu stärken. E
 s bietet auch eine großartige Gelegenheit, soziale Kontakte zu knüpfen und 
 die sozialen Fähigkeiten zu verbessern.</p><p style="box-sizing: border-box
 ; margin: 0.8rem 0px 0.2rem; color: #212529; font-family: Titillium, sans-s
 erif; font-size: 16px;">Die Aktivitäten sind auf die Bedürfnisse der Babys 
 abgestimmt und bieten eine sichere Umgebung für sie, um zu lernen und zu wa
 chsen.</p><p style="box-sizing: border-box; margin: 0.8rem 0px 0.2rem; colo
 r: #212529; font-family: Titillium, sans-serif; font-size: 16px;">Eine typi
 sche Einheit im Bewegungsreich beginnt mit gemeinsamen Liedern und Bewegung
 sübungen. Im Anschluss haben die Babys die Möglichkeit, sich frei im Raum z
 u bewegen und selbstständig zu entdecken. Die Eltern begleiten ihre Kinder 
 dabei und können ihnen helfen, wenn sie Unterstützung benötigen.</p><p styl
 e="box-sizing: border-box; margin: 0.8rem 0px 0.2rem; color: #212529; font-
 family: Titillium, sans-serif; font-size: 16px;">Gebühr pro Kind 19€</p><p 
 style="box-sizing: border-box; margin: 0.8rem 0px 0.2rem; color: #212529; f
 ont-family: Titillium, sans-serif; font-size: 16px;">Gebühr für Zwillinge: 
 34€</p><p style="box-sizing: border-box; margin: 0.8rem 0px 0.2rem; color: 
 #212529; font-family: Titillium, sans-serif; font-size: 16px;"><span style=
 "box-sizing: border-box; color: #111111;">Diese Einheit kann bis 24h vor Ku
 rsstart kostenlos storniert werden.</span></p><p>Anmeldung unter&nbsp;<a hr
 ef="https://tiniskinderzimmer.kursimple.de/?course=140" style="font-family:
  inherit; font-size: 1rem;">Tinis Bewegungsraum | Website</a></p>
CONTACT:office@tinis.at, 0699 17 36 01 95
X-EXTRAINFO:[preis='1900'][anmeldung='true']
DTSTAMP:20260425T220859
DTSTART:20250721T084000
DTEND:20250721T093000
SEQUENCE:0
TRANSP:OPAQUE
END:VEVENT
END:VCALENDAR