BEGIN:VCALENDAR
VERSION:2.0
PRODID:-//jEvents 2.0 for Joomla//EN
CALSCALE:GREGORIAN
METHOD:PUBLISH
BEGIN:VEVENT
UID:358a0feab84739da605d42c319bd60ca
CATEGORIES:1. Bezirk
CREATED:20250722T103344
SUMMARY:Kinderflohmarkt im Arkadenhof des Erzbischöflichen Palais
LOCATION:Rotenturmstrasse 2\, 1010 Wien
DESCRIPTION:Am 12. Oktober 2025, von 9:00-14:00 Uhr, laden meinefamilie.at https://www.
 meinefamilie.at/ in Kooperation mit der St. Elisabeth-Stiftung Wien https:/
 /www.elisabethstiftung.at/ Familien, Kinder und Flohmarktbegeisterte zum St
 öbern auf dem Kinderflohmarkt im Arkadenhof des Erzbischöflichen Palais ein
 . \nDas erwartet dich beim Kinderflohmarkt am Stephansplatz:\n- Viele Ständ
 e zum Stöbern: Kinderkleidung, Bücher, Spielzeug, Schulwaren und vieles meh
 r!\n- Kinderschminken \n- Die Andreaskapelle im Erzbischöflichen Palais läd
 t zum Entdecken ein! \nUnd das alles bei freiem Eintritt!\n\nFür Aussteller
 :\nStandplatzgebühr: € 25,- \nTische &amp; Bänke werden zur Verfügung geste
 llt (pro Aussteller ein Tisch und eine Bank)\nAnlieferung: 12. Oktober, ab 
 07:30 bis 08:30 Uhr\nAbholung: 12. Oktober, ab 14:00 bis 15:00 Uhr\nDie Zuf
 ahrt mit dem Auto ist möglich, es besteht jedoch im Hof keine Parkmöglichke
 it!\n\nNicht verkaufte Sachen werden seitens der Erzdiözese nicht entsorgt!
 \n\nAnmeldung und Informationen unter: \nHomepage: https://www.meinefamilie
 .at/veranstaltungen/kinderflohmarkt-wien\nTelefon: 01/51552/3971\nE-Mail-Ad
 resse: kinderflohmarkt@meinefamilie.at\nEine Anmeldung für Aussteller ist u
 nbedingt erforderlich!\n
X-ALT-DESC;FMTTYPE=text/html:<p>Am <strong>12. Oktober 2025, von 9:00-14:00 Uhr,</strong> laden meinefam
 ilie.at https://www.meinefamilie.at/ in Kooperation mit der St. Elisabeth-S
 tiftung Wien https://www.elisabethstiftung.at/ Familien, Kinder und Flohmar
 ktbegeisterte zum Stöbern auf dem <strong>Kinderflohmarkt im Arkadenhof des
  Erzbischöflichen Palais</strong> ein.&nbsp;<br />Das erwartet dich beim Ki
 nderflohmarkt am Stephansplatz:<br />- Viele Stände zum Stöbern: Kinderklei
 dung, Bücher, Spielzeug, Schulwaren und vieles mehr!<br />- Kinderschminken
 &nbsp;<br />- Die Andreaskapelle im Erzbischöflichen Palais lädt zum Entdec
 ken ein!&nbsp;<br />Und das alles bei freiem Eintritt!<br /><br /><strong>F
 ür Aussteller:</strong><br />Standplatzgebühr: € 25,-&nbsp;<br />Tische &am
 p; Bänke werden zur Verfügung gestellt (pro Aussteller ein Tisch und eine B
 ank)<br />Anlieferung: 12. Oktober, ab 07:30 bis 08:30 Uhr<br />Abholung: 1
 2. Oktober, ab 14:00 bis 15:00 Uhr<br />Die Zufahrt mit dem Auto ist möglic
 h, es besteht jedoch im Hof keine Parkmöglichkeit!<br /><br />Nicht verkauf
 te Sachen werden seitens der Erzdiözese nicht entsorgt!<br /><br /><strong>
 Anmeldung und Informationen unter:&nbsp;</strong><br />Homepage: https://ww
 w.meinefamilie.at/veranstaltungen/kinderflohmarkt-wien<br />Telefon: 01/515
 52/3971<br />E-Mail-Adresse: kinderflohmarkt@meinefamilie.at<br />Eine Anme
 ldung für Aussteller ist unbedingt erforderlich!</p>
CONTACT:Sabine Niedl, meinefamilie.at
DTSTAMP:20260425T003707
DTSTART;VALUE=DATE:20251012
DTEND;VALUE=DATE:20251013
SEQUENCE:0
TRANSP:OPAQUE
END:VEVENT
END:VCALENDAR