BEGIN:VCALENDAR
VERSION:2.0
PRODID:-//jEvents 2.0 for Joomla//EN
CALSCALE:GREGORIAN
METHOD:PUBLISH
BEGIN:VEVENT
UID:6de5ba28447b04ab9ccd7cf4c9d9fd77
CATEGORIES:2. Bezirk
CREATED:20250722T135549
SUMMARY: Child’Space® – Feldenkrais für Babys 
LOCATION:Eltern-Kind-Zentrum Kind&amp;Kegel\, Praterstraße 14/8\, 1020 Wien
DESCRIPTION:Child’Space® – Feldenkrais für BabysBabys in ihrer Entwicklung begleiten.Ih
 r erfährt wie ihr euer Baby mit sanfter Berührung und Bewegung in deren ind
 ividuellen Entwicklung unterstützen könnt.\nBeispielsweise wie sich euer Ba
 by wohler auf dem Bauch fühlt, das Rollen, Krabbeln oder Sitzen findet, sic
 h ganzheitlich bewegt und starke einseitige Vorlieben ausgeglichen werden.\
 n \nTermine» Freitag, 26.09.25, 10:00 – 12:00 Uhr\nKosten: € 28,-\nAnmeldun
 g erforderlich !\nLeitung: Mag.a Claudia Lui Springer,\nFeldenkrais®Methode
 , Somatic Experiencing® i.A.\nTrainings in gewaltfreier Kommunikation, Ganz
 heitliche Tanz- und Bewegungspädagogik\ngleich anmelden (https://kind-und-k
 egel.at//?page_id=855) \n
X-ALT-DESC;FMTTYPE=text/html:<div class="et_pb_column et_pb_column_1_2 et_pb_column_8 et_pb_css_mix_blen
 d_mode_passthrough et-last-child"><div id="Breikost" class="et_pb_with_bord
 er et_pb_module et_pb_text et_pb_text_11 et_pb_text_align_left et_pb_bg_lay
 out_light"><div class="et_pb_text_inner"><h3 class="unterstrich">Child’Spac
 e® – Feldenkrais für Babys</h3></div></div><div class="et_pb_with_border et
 _pb_module et_pb_text et_pb_text_12 et_pb_text_align_left et_pb_bg_layout_l
 ight"><div class="et_pb_text_inner"><h4><em>Babys in ihrer Entwicklung begl
 eiten.</em></h4><p>Ihr erfährt wie ihr euer Baby mit sanfter Berührung und 
 Bewegung in deren individuellen Entwicklung unterstützen könnt.<br />Beispi
 elsweise wie sich euer Baby wohler auf dem Bauch fühlt, das Rollen, Krabbel
 n oder Sitzen findet, sich ganzheitlich bewegt und starke einseitige Vorlie
 ben ausgeglichen werden.</p><p>&nbsp;</p></div></div><div class="et_pb_modu
 le et_pb_toggle et_pb_toggle_3 et_pb_toggle_item et_pb_toggle_open"><h5 cla
 ss="et_pb_toggle_title">Termine</h5><div class="et_pb_toggle_content clearf
 ix" style="display: block;"><p>» Freitag, 26.09.25, 10:00 – 12:00 Uhr</p><p
 ><strong>Kosten:</strong> € 28,-<br />Anmeldung erforderlich !</p><p><stron
 g>Leitung:</strong> Mag.a Claudia Lui Springer,<br />Feldenkrais®Methode, S
 omatic Experiencing® i.A.<br />Trainings in gewaltfreier Kommunikation, Gan
 zheitliche Tanz- und Bewegungspädagogik</p></div></div><div class="et_pb_bu
 tton_module_wrapper et_pb_button_3_wrapper et_pb_button_alignment_right et_
 pb_module"><a href="https://kind-und-kegel.at//?page_id=855" target="_blank
 " rel="noopener" class="et_pb_button et_pb_button_3 et_pb_bg_layout_light" 
 data-icon="b">gleich anmelden</a></div></div><p>&nbsp;</p>
CONTACT:info@kind-und-kegel.at, 01 503 71 88, www.kind-und-kegel.at
X-EXTRAINFO:[preis='2800'][anmeldung='true']
DTSTAMP:20260425T153707
DTSTART:20250926T080000
DTEND:20250926T100000
SEQUENCE:0
TRANSP:OPAQUE
END:VEVENT
END:VCALENDAR