BEGIN:VCALENDAR
VERSION:2.0
PRODID:-//jEvents 2.0 for Joomla//EN
CALSCALE:GREGORIAN
METHOD:PUBLISH
BEGIN:VEVENT
UID:985c5c907ee6629974ba1ad2b3b1efc7
CATEGORIES:2. Bezirk
CREATED:20250722T141211
SUMMARY: Trotzkind? Wutzwerg? – Welteroberer!  Kinder in der Autonomiephase besser verstehen. ONLINE Vortrag
LOCATION:Eltern-Kind-Zentrum Kind&amp;Kegel\, Praterstraße 14/8\, 1020 Wien
DESCRIPTION:Trotzkind? Wutzwerg? – Welteroberer! Kinder in der Autonomiephase besser ve
 rstehen.Welche wichtigen geistigen Entwicklungen passieren in der Kleinkind
 zeit?\nUnd wie können wir unsere Kinder durch diese turbulente Zeit begleit
 en, ohne dabei selbst den Kopf zu verlieren?\n In diesem Workshop bekommt i
 hr theoretisches Hintergrundwissen, handfeste Praxistipps und vor allem neu
 e Perspektiven.\nTermineOnline Vortrag:\n» Dienstag, 30.09.25, 19:30 – 21:0
 0 Uhr\nKosten: € 28,-\nAnmeldung erforderlich!\nLeitung: Mag.a Sophie Schön
 wälder-Rieder\nDieser Vortrag findet online statt.\ngleich anmelden (https:
 //kind-und-kegel.at//?page_id=855) \n
X-ALT-DESC;FMTTYPE=text/html:<div class="et_pb_column et_pb_column_1_2 et_pb_column_7 et_pb_css_mix_blen
 d_mode_passthrough"><div id="Trotzkind" class="et_pb_with_border et_pb_modu
 le et_pb_text et_pb_text_9 et_pb_text_align_left et_pb_bg_layout_light"><di
 v class="et_pb_text_inner"><h3 class="unterstrich"><span style="text-decora
 tion: underline;"><strong>Trotzkind? Wutzwerg? – Welteroberer!&nbsp;</stron
 g></span></h3></div></div><div class="et_pb_with_border et_pb_module et_pb_
 text et_pb_text_10 et_pb_text_align_left et_pb_bg_layout_light"><div class=
 "et_pb_text_inner"><h4><em>Kinder in der Autonomiephase besser verstehen.</
 em></h4><p><span>Welche wichtigen geistigen Entwicklungen passieren in der 
 Kleinkindzeit?</span></p><p><span>Und wie können wir unsere Kinder durch di
 ese turbulente Zeit begleiten, ohne dabei selbst den Kopf zu verlieren?</sp
 an></p><p><span> In diesem Workshop bekommt ihr theoretisches Hintergrundwi
 ssen, handfeste Praxistipps und vor allem neue Perspektiven.</span></p></di
 v></div><div class="et_pb_module et_pb_toggle et_pb_toggle_2 et_pb_toggle_i
 tem et_pb_toggle_open"><h5 class="et_pb_toggle_title">Termine</h5><div clas
 s="et_pb_toggle_content clearfix" style="display: block;"><p><strong>Online
  Vortrag:</strong></p><p>» Dienstag, 30.09.25, 19:30 – 21:00 Uhr</p><p><str
 ong>Kosten:</strong> € 28,-<br />Anmeldung erforderlich!</p><p><strong>Leit
 ung:</strong> Mag.a Sophie Schönwälder-Rieder</p><p><strong>Dieser Vortrag 
 findet online statt.</strong></p></div></div><div class="et_pb_button_modul
 e_wrapper et_pb_button_2_wrapper et_pb_button_alignment_right et_pb_module"
 ><a href="https://kind-und-kegel.at//?page_id=855" target="_blank" rel="noo
 pener" class="et_pb_button et_pb_button_2 et_pb_bg_layout_light" data-icon=
 "b">gleich anmelden</a></div></div><p>&nbsp;</p>
CONTACT:info@kind-und-kegel.at, 01 503 71 88, www.kind-und-kegel.at
X-EXTRAINFO:[preis='2800'][anmeldung='true']
DTSTAMP:20260425T153632
DTSTART:20250930T173000
DTEND:20250930T190000
SEQUENCE:0
TRANSP:OPAQUE
END:VEVENT
END:VCALENDAR