BEGIN:VCALENDAR
VERSION:2.0
PRODID:-//jEvents 2.0 for Joomla//EN
CALSCALE:GREGORIAN
METHOD:PUBLISH
BEGIN:VEVENT
UID:59c06c46d6238b8f7014c82d1b0f5c42
CATEGORIES:2. Bezirk
CREATED:20250722T141439
SUMMARY:(Ein)schlafen mit Papa - Workshop
LOCATION:Eltern-Kind-Zentrum Kind&amp;Kegel\, Praterstraße 14/8\, 1020 Wien
DESCRIPTION:(Ein-)schlafen mit PapaBabys und Kinder dürfen und sollen auch mit Papa (ei
 n)schlafen – nur klappt das nicht immer so, wie man es sich wünschen würde.
 \nIn diesem Workshop werden Möglichkeiten aufgezeigt, wie auch Papa das Kin
 d achtsam in den Schlaf begleiten, und wie man dabei etwaige Hürden überwin
 den kann.\nFür persönliche Fragen ist ebenfalls genügend Zeit.\nTermine» Mo
 ntag, 13.10.2025, 18:00-19:30 Uhr\nKosten: € 28,-\nAnmeldung erforderlich!\
 nLeitung: Eva Dittinger, PhD\nNeurowissenschafterin, Mutter und zertifizier
 te Baby- und Kinderschlafbegleiterin\nWorkshop\ngleich anmelden (https://ki
 nd-und-kegel.at//?page_id=855) \n
X-ALT-DESC;FMTTYPE=text/html:<div class="et_pb_column et_pb_column_1_2 et_pb_column_5 et_pb_css_mix_blen
 d_mode_passthrough"><div id="Einschlafen-mit-Papa" class="et_pb_with_border
  et_pb_module et_pb_text et_pb_text_5 et_pb_text_align_left et_pb_bg_layout
 _light"><div class="et_pb_text_inner"><h3 class="unterstrich"><span style="
 text-decoration: underline;"><strong>(Ein-)schlafen mit Papa</strong></span
 ></h3></div></div><div class="et_pb_with_border et_pb_module et_pb_text et_
 pb_text_6 et_pb_text_align_left et_pb_bg_layout_light"><div class="et_pb_te
 xt_inner"><p>Babys und Kinder dürfen und sollen auch mit Papa (ein)schlafen
  – nur klappt das nicht immer so, wie man es sich wünschen würde.</p><p>In 
 diesem Workshop werden Möglichkeiten aufgezeigt, wie auch Papa das Kind ach
 tsam in den Schlaf begleiten, und wie man dabei etwaige Hürden überwinden k
 ann.<br />Für persönliche Fragen ist ebenfalls genügend Zeit.</p></div></di
 v><div class="et_pb_module et_pb_toggle et_pb_toggle_0 et_pb_toggle_item et
 _pb_toggle_open"><h5 class="et_pb_toggle_title">Termine</h5><div class="et_
 pb_toggle_content clearfix" style="display: block;"><p>» Montag, 13.10.2025
 , 18:00-19:30 Uhr</p><p><strong>Kosten: € 28,-<br /></strong>Anmeldung erfo
 rderlich!</p><p><strong>Leitung:</strong> Eva Dittinger, PhD<br />Neurowiss
 enschafterin, Mutter und zertifizierte Baby- und Kinderschlafbegleiterin</p
 ><p>Workshop</p></div></div><div class="et_pb_button_module_wrapper et_pb_b
 utton_0_wrapper et_pb_button_alignment_right et_pb_module"><a href="https:/
 /kind-und-kegel.at//?page_id=855" target="_blank" rel="noopener" class="et_
 pb_button et_pb_button_0 et_pb_bg_layout_light" data-icon="b">gleich anmeld
 en</a></div></div><p>&nbsp;</p>
CONTACT:info@kind-und-kegel.at, 01 503 71 88, www.kind-und-kegel.at
X-EXTRAINFO:[preis='2800'][anmeldung='true']
DTSTAMP:20260425T121540
DTSTART:20251013T160000
DTEND:20251013T173000
SEQUENCE:0
TRANSP:OPAQUE
END:VEVENT
END:VCALENDAR