BEGIN:VCALENDAR
VERSION:2.0
PRODID:-//jEvents 2.0 for Joomla//EN
CALSCALE:GREGORIAN
METHOD:PUBLISH
BEGIN:VEVENT
UID:4f0f8f346fd1ab356dd6850dbbe2cc97
CATEGORIES:23. Bezirk
CREATED:19700101T010000
SUMMARY:Eltern-Kind-Turnen (3-6 Jahre)
LOCATION:VHS Liesing\, Liesinger Platz 3
DESCRIPTION:25591422a Eltern-Kind-Turnen (3-6 Jahre)\nDo 6x, 02.10.-13.11.2025, 16-17 U
 hr\nMS Dirmhirngasse\nAngela Caren Van Vlijmen, MA\nGebühr: 49 €\nDieses ab
 wechslungsreiche Spiel- und Bewegungsprogramm bietet Kindern die Möglichkei
 t, gemeinsam mit ihren Eltern neue Bewegungserfahrungen zu machen. Sie erle
 rnen so mehr Sicherheit und Vertrauen in die eigenen Fähigkeiten. Nebenbei 
 werden auch soziale Kontakte geknüpft. \nIm Eltern-Kind-Turnen wird getanzt
 , in Bewegungslandschaften geklettert und auf Matten geturnt, wobei die Fre
 ude an der spielerischen Bewegung immer im Vordergrund steht.\nTermine:\n02
 .10.2025, 16:00:00 - 17:00:00\n09.10.2025, 16:00:00 - 17:00:00\n16.10.2025,
  16:00:00 - 17:00:00\n23.10.2025, 16:00:00 - 17:00:00\n06.11.2025, 16:00:00
  - 17:00:00\n13.11.2025, 16:00:00 - 17:00:00\n
X-ALT-DESC;FMTTYPE=text/html:<p>25591422a Eltern-Kind-Turnen (3-6 Jahre)</p><p>Do 6x, 02.10.-13.11.2025,
  16-17 Uhr</p><p>MS Dirmhirngasse</p><p>Angela Caren Van Vlijmen, MA</p><p>
 Gebühr: 49 €</p><p>Dieses abwechslungsreiche Spiel- und Bewegungsprogramm b
 ietet Kindern die Möglichkeit, gemeinsam mit ihren Eltern neue Bewegungserf
 ahrungen zu machen. Sie erlernen so mehr Sicherheit und Vertrauen in die ei
 genen Fähigkeiten. Nebenbei werden auch soziale Kontakte geknüpft.&nbsp;</p
 ><p>Im Eltern-Kind-Turnen wird getanzt, in Bewegungslandschaften geklettert
  und auf Matten geturnt, wobei die Freude an der spielerischen Bewegung imm
 er im Vordergrund steht.</p><p>Termine:</p><p>02.10.2025, 16:00:00 - 17:00:
 00</p><p>09.10.2025, 16:00:00 - 17:00:00</p><p>16.10.2025, 16:00:00 - 17:00
 :00</p><p>23.10.2025, 16:00:00 - 17:00:00</p><p>06.11.2025, 16:00:00 - 17:0
 0:00</p><p>13.11.2025, 16:00:00 - 17:00:00</p>
CONTACT:liesing@vhs.at, +43-1-89174-123000
X-EXTRAINFO:[preis='4900'][anmeldung='true']
DTSTAMP:20260425T104922
DTSTART:20251002T140000
DTEND:20251113T160000
SEQUENCE:0
RRULE:FREQ=WEEKLY;UNTIL=20251114T000000Z;INTERVAL=1;BYDAY=TH
TRANSP:OPAQUE
END:VEVENT
END:VCALENDAR