BEGIN:VCALENDAR
VERSION:2.0
PRODID:-//jEvents 2.0 for Joomla//EN
CALSCALE:GREGORIAN
METHOD:PUBLISH
BEGIN:VEVENT
UID:28c2218842d9b1666d66eb7d055ad13f
CATEGORIES:23. Bezirk
CREATED:20250728T140206
SUMMARY:KLASSIK COOL! Peter und der Wolf, Mitmachkonzert für Kinder ab 2 Jahren
LOCATION:VHS Liesing\, Liesinger Platz 3
DESCRIPTION:25611403 KLASSIK COOL! Peter und der Wolf \nMitmachkonzert für Kinder ab 2 
 Jahren\nDo 1x, 23.10.2025, 10-10:45 Uhr\nVHS Liesing\nKulturverein grossund
 klein | Szilvia Hegyi\nGebühr: 8 €\nInteraktives Mitmachkonzert für Kinder 
 ab 2 Jahren.\nWarum Kinder auf die Älteren hören sollten, welche Turbulenze
 n eine offene Gartentür nach sich ziehen kann, wie Peter am Ende alles in O
 rdnung bringt und sogar der Wolf seinen Platz findet – Prokofjews musikalis
 ches Märchen mit viel Schwung und Interaktion erzählt, begleitet von den ei
 nprägsamen Melodien des Stückes. Lasso werfen? Werden wir auch!  \nMit Erzä
 hlung, Cello, Klavier\nNach dem Konzert können interessierte Kinder die Ins
 trumente auch ausprobieren.\nDauer: ca. 45 Minuten\nKarten: € 8,00 pro Pers
 on (Für begleitende Pädagog*innen von Kinderbetreuungseinrichtungen ist der
  Eintritt frei.)\nAnmeldung:\nKulturverein grossundklein\noffice@grossundkl
 ein.info\n0660 581 33 96\nTermine:\n23.10.2025, 10:00:00 - 10:45:00\n
X-ALT-DESC;FMTTYPE=text/html:<p>25611403 KLASSIK COOL! Peter und der Wolf&nbsp;</p><p>Mitmachkonzert für
  Kinder ab 2 Jahren</p><p>Do 1x, 23.10.2025, 10-10:45 Uhr</p><p>VHS Liesing
 </p><p>Kulturverein grossundklein | Szilvia Hegyi</p><p>Gebühr: 8 €</p><p>I
 nteraktives Mitmachkonzert für Kinder ab 2 Jahren.</p><p>Warum Kinder auf d
 ie Älteren hören sollten, welche Turbulenzen eine offene Gartentür nach sic
 h ziehen kann, wie Peter am Ende alles in Ordnung bringt und sogar der Wolf
  seinen Platz findet – Prokofjews musikalisches Märchen mit viel Schwung un
 d Interaktion erzählt, begleitet von den einprägsamen Melodien des Stückes.
  Lasso werfen? Werden wir auch!&nbsp;&nbsp;</p><p>Mit Erzählung, Cello, Kla
 vier</p><p>Nach dem Konzert können interessierte Kinder die Instrumente auc
 h ausprobieren.</p><p>Dauer: ca. 45 Minuten</p><p>Karten: € 8,00 pro Person
  (Für begleitende Pädagog*innen von Kinderbetreuungseinrichtungen ist der E
 intritt frei.)</p><p>Anmeldung:</p><p>Kulturverein grossundklein</p><p>offi
 ce@grossundklein.info</p><p>0660 581 33 96</p><p>Termine:</p><p>23.10.2025,
  10:00:00 - 10:45:00</p>
CONTACT:liesing@vhs.at, +43-1-89174-123000
X-EXTRAINFO:[preis='800'][anmeldung='true']
DTSTAMP:20260425T103904
DTSTART:20251023T080000
DTEND:20251023T084500
SEQUENCE:0
TRANSP:OPAQUE
END:VEVENT
END:VCALENDAR