BEGIN:VCALENDAR
VERSION:2.0
PRODID:-//jEvents 2.0 for Joomla//EN
CALSCALE:GREGORIAN
METHOD:PUBLISH
BEGIN:VEVENT
UID:df2d2a441e77504241d851d5703589b6
CATEGORIES:23. Bezirk
CREATED:20250728T143230
SUMMARY:Babyturnen (9-18 Monate)
LOCATION:VHS Liesing\, Liesinger Platz 3
DESCRIPTION:<p>25591329b Babyturnen (9-18 Monate)</p><p>Mi 6x, 19.11.2025-07.01.2026, 1
 0-11 Uhr</p><p>VHS Liesing</p><p>Ilaria Chiappetta</p><p>Gebühr: 49 €</p><p
 >Ziel des Babyturnens ist es, die Babys mit einfachen, spielerischen Übunge
 n in ihrer Bewegungsentwicklung zu fördern. Gleichzeitig werden die Sinne g
 eschärft und die Körperwahrnehmung positiv beeinflusst. Vor allem aber soll
 en Kinder und Eltern Spaß an der gemeinsamen Bewegung haben.</p><p>Termine:
 </p><p>19.11.2025, 10:00:00 - 11:00:00</p><p>26.11.2025, 10:00:00 - 11:00:0
 0</p><p>03.12.2025, 10:00:00 - 11:00:00</p><p>10.12.2025, 10:00:00 - 11:00:
 00</p><p>17.12.2025, 10:00:00 - 11:00:00</p><p>07.01.2026, 10:00:00 - 11:00
 :00</p>
CONTACT:liesing@vhs.at, +43-1-89174-123000
X-EXTRAINFO:[preis='4900'][anmeldung='true']
DTSTAMP:20260423T123508
DTSTART:20251119T090000
DTEND:20260107T100000
SEQUENCE:0
TRANSP:OPAQUE
END:VEVENT
END:VCALENDAR