BEGIN:VCALENDAR
VERSION:2.0
PRODID:-//jEvents 2.0 for Joomla//EN
CALSCALE:GREGORIAN
METHOD:PUBLISH
BEGIN:VEVENT
UID:b921471471458b8e10469179bc9e8016
CATEGORIES:18. Bezirk
CREATED:19700101T010000
SUMMARY:KlangFarben
LOCATION:Spielringel  Mollgasse  11-13
DESCRIPTION:KlangFarben Für Kinder von 2 bis 4 Jahren (mit Begleitperson)Mit: Susanne (
 https://spielringel.at/angebote/das-team/susanne)Kurstag: Dienstag 15:00-15
 :45Termine: 09.09., 16.09., 23.09., 07.10., 14.10.Kosten: €95,- (5 Einheite
 n)Musik &amp; Kunst mit allen Sinnen erleben\nIn diesem fantasievollen Kurs
  verbinden sich Musik und bildende Kunst zu einem kunterbunten Erlebnisraum
 : Wir malen, musizieren, tanzen und staunen – mal laut und wild, mal leise 
 und verträumt.  Die Kinder lernen Farben und Formen kennen, entdecken Kläng
 e als Klangfarben und drücken ihre Eindrücke mit Pinseln, Tüchern, Händen o
 der Instrumenten aus.\nWir spielen auf einfachen Orff-Instrumenten, begleit
 en Musik mit Farben, bewegen uns zu Klängen und lernen erste grafische Nota
 tionen kennen – ganz spielerisch!\nOb Farbe klingt oder Musik malt – hier d
 ürfen Kinder mit allen Sinnen erforschen, wie sich Kunst und Musik begegnen
 . Jede Einheit ist ein kreatives Abenteuer, das die Fantasie anregt, die Wa
 hrnehmung stärkt und ganz nebenbei Musikalität und Ausdrucksfähigkeit förde
 rt.\nJede Einheit wechselt zwischen musikalischen Impulsen und künstlerisch
 en Phasen, wobei beide Bereiche sich gegenseitig inspirieren: Musik malt Fa
 rben, Farben tanzen Klänge.\n \n Onlineanmeldung    
X-ALT-DESC;FMTTYPE=text/html:<h2 class="element-header" style="box-sizing: border-box; margin-top: 0px; 
 margin-bottom: 0.5rem; font-family: Montserrat; font-weight: 300; line-heig
 ht: 1.2; font-size: 2.275rem; color: #2b2b2b;">KlangFarben&nbsp;</h2><h4 st
 yle="box-sizing: border-box; margin-top: 0px; margin-bottom: 1rem; font-fam
 ily: Montserrat; font-weight: 300; line-height: 1.2; font-size: 1.625rem; c
 olor: #2b2b2b;">Für Kinder von 2 bis 4 Jahren (mit Begleitperson)</h4><h4 s
 tyle="box-sizing: border-box; margin-top: 0px; margin-bottom: 1rem; font-fa
 mily: Montserrat; font-weight: 300; line-height: 1.2; font-size: 1.625rem; 
 color: #2b2b2b;"><span class="text-primary font-weight-bold" style="box-siz
 ing: border-box; font-weight: 700 !important; color: #158795 !important;">M
 it:&nbsp;</span><a href="https://spielringel.at/angebote/das-team/susanne" 
 style="box-sizing: border-box; color: #158795; text-decoration-line: none; 
 background-color: transparent;">Susanne</a></h4><h4 style="box-sizing: bord
 er-box; margin-top: 0px; margin-bottom: 1rem; font-family: Montserrat; font
 -weight: 300; line-height: 1.2; font-size: 1.625rem; color: #2b2b2b;"><span
  class="text-primary font-weight-bold" style="box-sizing: border-box; font-
 weight: 700 !important; color: #158795 !important;">Kurstag:&nbsp;</span>Di
 enstag 15:00-15:45</h4><h4 style="box-sizing: border-box; margin-top: 0px; 
 margin-bottom: 1rem; font-family: Montserrat; font-weight: 300; line-height
 : 1.2; font-size: 1.625rem; color: #2b2b2b;"><span class="text-primary font
 -weight-bold" style="box-sizing: border-box; font-weight: 700 !important; c
 olor: #158795 !important;">Termine:&nbsp;</span>09.09., 16.09., 23.09., 07.
 10., 14.10.</h4><h4 style="box-sizing: border-box; margin-top: 0px; margin-
 bottom: 1rem; font-family: Montserrat; font-weight: 300; line-height: 1.2; 
 font-size: 1.625rem; color: #2b2b2b;"><span class="text-primary font-weight
 -bold" style="box-sizing: border-box; font-weight: 700 !important; color: #
 158795 !important;">Kosten:&nbsp;</span>€95,- (5 Einheiten)</h4><div id="pa
 ge-content" class="bp-page-content main-section" style="box-sizing: border-
 box;"><div class="section section-default" style="box-sizing: border-box; o
 verflow: hidden;"><div class="container" style="box-sizing: border-box; wid
 th: 1140px; padding-right: 20px; padding-left: 20px; margin-right: auto; ma
 rgin-left: auto; max-width: 1140px;"><div class="section-row" style="box-si
 zing: border-box; display: flex; flex-wrap: wrap; margin-left: -20px; margi
 n-right: -20px;"><div class="frame frame-default frame-type-textpic frame-l
 ayout-0 frame-background-none frame-no-backgroundimage frame-space-before-n
 one frame-space-after-none" style="box-sizing: border-box; position: relati
 ve; padding-top: 3.5rem; padding-bottom: 3.5rem; margin-top: 0rem; margin-b
 ottom: 0rem;"><div class="frame-container" style="box-sizing: border-box; p
 osition: relative; width: 815px; padding-right: 0px; padding-left: 0px; mar
 gin-right: auto; margin-left: auto; max-width: 1140px; margin-bottom: 0px;"
 ><div class="frame-inner" style="box-sizing: border-box;"><div class="textp
 ic textpic-right" style="box-sizing: border-box; display: flex; flex-wrap: 
 wrap; margin-left: -20px; margin-right: -20px; margin-bottom: 0px;"><div cl
 ass="textpic-item textpic-text" style="box-sizing: border-box; order: 1; wi
 dth: 427.5px; padding-left: 20px; padding-right: 20px; margin-bottom: 0px;"
 ><p style="box-sizing: border-box; margin-top: 0px; margin-bottom: 1rem;"><
 span style="box-sizing: border-box; font-weight: bolder;">Musik &amp; Kunst
  mit allen Sinnen erleben</span></p><p style="box-sizing: border-box; margi
 n-top: 0px; margin-bottom: 1rem;">In diesem fantasievollen Kurs verbinden s
 ich Musik und bildende Kunst zu einem kunterbunten Erlebnisraum: Wir malen,
  musizieren, tanzen und staunen – mal laut und wild, mal leise und verträum
 t.&nbsp; Die Kinder lernen Farben und Formen kennen, entdecken Klänge als K
 langfarben und drücken ihre Eindrücke mit Pinseln, Tüchern, Händen oder Ins
 trumenten aus.</p><p style="box-sizing: border-box; margin-top: 0px; margin
 -bottom: 1rem;">Wir spielen auf einfachen Orff-Instrumenten, begleiten Musi
 k mit Farben, bewegen uns zu Klängen und lernen erste grafische Notationen 
 kennen – ganz spielerisch!</p><p style="box-sizing: border-box; margin-top:
  0px; margin-bottom: 1rem;">Ob Farbe klingt oder Musik malt – hier dürfen K
 inder mit allen Sinnen erforschen, wie sich Kunst und Musik begegnen. Jede 
 Einheit ist ein kreatives Abenteuer, das die Fantasie anregt, die Wahrnehmu
 ng stärkt und ganz nebenbei Musikalität und Ausdrucksfähigkeit fördert.</p>
 <p style="box-sizing: border-box; margin-top: 0px; margin-bottom: 1rem;">Je
 de Einheit wechselt zwischen musikalischen Impulsen und künstlerischen Phas
 en, wobei beide Bereiche sich gegenseitig inspirieren: Musik malt Farben, F
 arben tanzen Klänge.</p><p style="box-sizing: border-box; margin-top: 0px; 
 margin-bottom: 0px;">&nbsp;</p></div></div></div></div></div><div id="c1415
 " class="frame frame-default frame-type-form_formframework frame-layout-0 f
 rame-background-none frame-no-backgroundimage frame-space-before-none frame
 -space-after-none" style="box-sizing: border-box; position: relative; paddi
 ng-top: 3.5rem; padding-bottom: 3.5rem; margin-top: -3.5rem; margin-bottom:
  0rem;"><div class="frame-container" style="box-sizing: border-box; positio
 n: relative; width: 815px; padding-right: 0px; padding-left: 0px; margin-ri
 ght: auto; margin-left: auto; max-width: 1140px; margin-bottom: 0px;"><div 
 class="frame-inner" style="box-sizing: border-box;"><div class="form-contai
 ner form-identifier-anmeldeformular-1415" style="box-sizing: border-box; ma
 rgin-bottom: 0px;"><form enctype="multipart/form-data" method="post" novali
 date="novalidate" id="anmeldeformular-1415" style="box-sizing: border-box;"
 ><div style="box-sizing: border-box;">&nbsp;</div><input autocomplete="0bZy
 KdefzRu" name="tx_form_formframework[anmeldeformular-1415][0bZyKdefzRu]" ty
 pe="text" id="anmeldeformular-1415-0bZyKdefzRu" style="box-sizing: border-b
 ox; margin: 0px 0px 0px -999em; font-family: inherit; font-size: inherit; l
 ine-height: inherit; overflow: visible; position: absolute;" tabindex="-1" 
 aria-hidden="true" /><div class="form-actions" style="box-sizing: border-bo
 x; margin-top: 1em;"><nav class="form-navigation" style="box-sizing: border
 -box;"><div class="btn-toolbar" style="box-sizing: border-box; display: fle
 x; flex-wrap: wrap; justify-content: flex-start;" role="toolbar"><div class
 ="btn-group" style="box-sizing: border-box; position: relative; display: in
 line-flex; vertical-align: middle;" role="group"><span class="btn-group nex
 t" style="box-sizing: border-box; position: relative; display: inline-flex;
  vertical-align: middle;"><button name="tx_form_formframework[anmeldeformul
 ar-1415][__currentPage]" type="submit" value="1" class="btn btn-primary" st
 yle="border-radius: 0.25rem; margin: 0px; font-family: inherit; font-size: 
 1rem; line-height: 1.5; overflow: visible; appearance: button; font-weight:
  400; color: #ffffff; vertical-align: middle; user-select: none; background
 -color: #158795; padding: 0.375rem 0.75rem; transition: color 0.15s ease-in
 -out, background-color 0.15s ease-in-out, border-color 0.15s ease-in-out, b
 ox-shadow 0.15s ease-in-out; cursor: pointer; position: relative; flex: 1 1
  auto; border: 1px solid #158795;">Onlineanmeldung</button></span></div></d
 iv></nav></div></form></div></div></div></div></div></div></div></div><foot
 er id="page-footer" class="bp-page-footer" style="box-sizing: border-box;">
 <section class="section footer-section footer-section-content" style="box-s
 izing: border-box; overflow: hidden; color: #ffffff; background-color: #2b2
 b2b; font-family: Roboto; font-size: 16px;"><div class="container" style="b
 ox-sizing: border-box; width: 1140px; padding-right: 20px; padding-left: 20
 px; margin-right: auto; margin-left: auto; max-width: 1140px;"><div class="
 section-row" style="box-sizing: border-box; display: flex; flex-wrap: wrap;
  margin-left: -20px; margin-right: -20px;"><div class="section-column foote
 r-section-content-column footer-section-content-column-left" style="box-siz
 ing: border-box; width: 379.99px; padding-left: 20px; padding-right: 20px;"
 >&nbsp;</div><div class="section-column footer-section-content-column foote
 r-section-content-column-middle" style="box-sizing: border-box; width: 379.
 99px; padding-left: 20px; padding-right: 20px;">&nbsp;</div><div class="sec
 tion-column footer-section-content-column footer-section-content-column-rig
 ht" style="box-sizing: border-box; width: 379.99px; padding-left: 20px; pad
 ding-right: 20px;">&nbsp;</div></div></div></section><section class="sectio
 n footer-section footer-section-meta" style="box-sizing: border-box; overfl
 ow: hidden; color: #ffffff; background-color: #232323; text-align: center; 
 font-family: Roboto; font-size: 16px;"><div class="frame frame-background-n
 one frame-space-before-none frame-space-after-none" style="box-sizing: bord
 er-box; position: relative; padding-top: 3.5rem; padding-bottom: 3.5rem; ma
 rgin-top: 0rem; margin-bottom: 0rem;"><div class="frame-container" style="b
 ox-sizing: border-box; position: relative; width: 1140px; padding-right: 20
 px; padding-left: 20px; margin-right: auto; margin-left: auto; max-width: 1
 140px; margin-bottom: 0px;"><div class="frame-inner" style="box-sizing: bor
 der-box;"><div class="footer-meta" style="box-sizing: border-box; overflow:
  hidden;">&nbsp;</div></div></div></div></section></footer>
CONTACT:www.spielringel.at
X-EXTRAINFO:[preis='9500'][anmeldung='true']
DTSTAMP:20260425T105037
DTSTART:20250909T130000
DTEND:20250909T134500
SEQUENCE:0
RRULE:FREQ=WEEKLY;UNTIL=20251016T000000Z;INTERVAL=1;BYDAY=TU
TRANSP:OPAQUE
END:VEVENT
END:VCALENDAR