BEGIN:VCALENDAR
VERSION:2.0
PRODID:-//jEvents 2.0 for Joomla//EN
CALSCALE:GREGORIAN
METHOD:PUBLISH
BEGIN:VEVENT
UID:dec213335821f9d16dfc9db066c93b17
CATEGORIES:23. Bezirk
CREATED:20250728T144320
SUMMARY:Pizza selbst gemacht – herzhaft und süß, Eltern-Kind-Kochkurs
LOCATION:VHS Liesing\, Liesinger Platz 3
DESCRIPTION:25591601 Pizza selbst gemacht – herzhaft und süß\nEltern-Kind-Kochkurs (4-1
 0 Jahre + Begleitperson) \nSa 1x, 04.10.2025, 10-13 Uhr\nVHS Liesing\nFranc
 esca Buanne\nZusatzinfo: Lebensmittelkosten sind in der Kursgebühr nicht in
 kludiert und werden direkt mit den Kursleiter*innen verrechnet (ca. 15 Euro
  pro Abend)!\nZu allen Kochkursen bitte ein Geschirrtuch, eine Schürze und 
 eventuell Gefäße/Alufolie mitbringen!\nGebühr: 31 €\nKochen Sie und Ihr Kin
 d gerne zusammen, oder möchte Ihr Kind beim Kochen gerne mithelfen! Oder su
 chen Sie neue Inspirationen für das gemeinsame Abendessen? \nDann ist diese
 r Kurs genau das Richtige! Hier lernen Eltern/Großeltern und Kinder, wie si
 e den idealen Pizzateig selbst und vor allem gemeinsam für Zuhause herstell
 en – und das im Handumdrehen! \nWir werden gemeinsam ein paar herzhafte Piz
 zen und süße Pizzen kreieren und sie anschließend zusammen bei Tisch genieß
 en.\nIm Laufe des Nachmittags lernen wir auch ein paar grundlegende italien
 ische Sätze!\nBon appetito!\nLebensmittelkosten sind in der Kursgebühr nich
 t inkludiert und werden direkt mit den Kursleiter*innen verrechnet (ca. 15 
 Euro pro Abend)!\nZu allen Kochkursen bitte ein Geschirrtuch, eine Schürze 
 und eventuell Gefäße/Alufolie mitbringen!\nTermine:\n04.10.2025, 10:00:00 -
  13:00:00\n
X-ALT-DESC;FMTTYPE=text/html:<p>25591601 Pizza selbst gemacht – herzhaft und süß</p><p>Eltern-Kind-Kochk
 urs (4-10 Jahre + Begleitperson)&nbsp;</p><p>Sa 1x, 04.10.2025, 10-13 Uhr</
 p><p>VHS Liesing</p><p>Francesca Buanne</p><p>Zusatzinfo: Lebensmittelkoste
 n sind in der Kursgebühr nicht inkludiert und werden direkt mit den Kurslei
 ter*innen verrechnet (ca. 15 Euro pro Abend)!</p><p>Zu allen Kochkursen bit
 te ein Geschirrtuch, eine Schürze und eventuell Gefäße/Alufolie mitbringen!
 </p><p>Gebühr: 31 €</p><p>Kochen Sie und Ihr Kind gerne zusammen, oder möch
 te Ihr Kind beim Kochen gerne mithelfen! Oder suchen Sie neue Inspirationen
  für das gemeinsame Abendessen?&nbsp;</p><p>Dann ist dieser Kurs genau das 
 Richtige! Hier lernen Eltern/Großeltern und Kinder, wie sie den idealen Piz
 zateig selbst und vor allem gemeinsam für Zuhause herstellen – und das im H
 andumdrehen!&nbsp;</p><p>Wir werden gemeinsam ein paar herzhafte Pizzen und
  süße Pizzen kreieren und sie anschließend zusammen bei Tisch genießen.</p>
 <p>Im Laufe des Nachmittags lernen wir auch ein paar grundlegende italienis
 che Sätze!</p><p>Bon appetito!</p><p>Lebensmittelkosten sind in der Kursgeb
 ühr nicht inkludiert und werden direkt mit den Kursleiter*innen verrechnet 
 (ca. 15 Euro pro Abend)!</p><p>Zu allen Kochkursen bitte ein Geschirrtuch, 
 eine Schürze und eventuell Gefäße/Alufolie mitbringen!</p><p>Termine:</p><p
 >04.10.2025, 10:00:00 - 13:00:00</p>
CONTACT:liesing@vhs.at, +43-1-89174-123000
X-EXTRAINFO:[preis='3100'][anmeldung='true']
DTSTAMP:20260425T103923
DTSTART:20251004T080000
DTEND:20251004T110000
SEQUENCE:0
TRANSP:OPAQUE
END:VEVENT
END:VCALENDAR