BEGIN:VCALENDAR
VERSION:2.0
PRODID:-//jEvents 2.0 for Joomla//EN
CALSCALE:GREGORIAN
METHOD:PUBLISH
BEGIN:VEVENT
UID:41c5914cd3c52c1326fb7d1348b86ffa
CATEGORIES:3. Bezirk
CREATED:20250729T184621
SUMMARY:lieblingsflohmarkt-KIDS
LOCATION:Parkplatz Marxhalle Wien\, Karl-Farkas-Gasse 2 in 1030 Wien
DESCRIPTION:lieblingsflohmarkt - dein großer Kinder &amp; Frauen FlohmarktSonntag 31.Au
 gust 2025Samstag 27.September 2025Sonntag 26.Oktober 2025Parkplatz Marxhall
 eKarl Farkas Gasse 21030 Wien Uhrzeit:9-13h Baby-Kinder-Flohmarkt (Kinderkl
 eidung, Spielzeug, Kinderbücher) GLEICHZEITIG mit Frauen-Flohmarkt (Damenkl
 eidung, Schuhe, Taschen, Schmuck) Eintritt frei für BesucherInnenviele Park
 plätze am Flohmarktgeländekleines Buffet mit Snacks, Getränken und KaffeeGu
 te Öffi-Anbindung (U3 Erdberg und 5min zu Fuß)Standplätze noch verfügbar!St
 andgebühr 35 Euro, Tisch bitte selbst mitbringenOnline-Reservierung hier ww
 w.lieblingsflohmarkt.at (http://www.lieblingsflohmarkt.at/) Instagram https
 ://www.instagram.com/lieblingsflohmarkt.at/ (https://www.instagram.com/lieb
 lingsflohmarkt.at_/)Facebook https://www.facebook.com/lieblingsflohmarkt.at
  (https://www.facebook.com/lieblingsflohmarkt.at)Youtube https://www.youtub
 e.com/@lieblingsflohmarkt (https://www.youtube.com/@lieblingsflohmarkt) 
X-ALT-DESC;FMTTYPE=text/html:<div style="color: #000000; font-family: -apple-system, BlinkMacSystemFont,
  'Helvetica Neue', 'Segoe UI', Arial, sans-serif, 'Apple Color Emoji', 'Seg
 oe UI Emoji', 'Segoe UI Symbol';">lieblingsflohmarkt - dein großer Kinder &
 amp; Frauen Flohmarkt</div><div class="default-style" style="color: #000000
 ; font-family: -apple-system, BlinkMacSystemFont, 'Helvetica Neue', 'Segoe 
 UI', Arial, sans-serif, 'Apple Color Emoji', 'Segoe UI Emoji', 'Segoe UI Sy
 mbol';"><div class="default-style"><div class="default-style"><div class="d
 efault-style"><div class="default-style"><div class="default-style"><div cl
 ass="default-style"><div class="default-style"><div class="default-style"><
 div class="default-style"><div class="default-style"><div class="default-st
 yle"><div class="default-style"><div class="default-style"><div><strong>Son
 ntag 31.August 2025</strong></div><div><strong>Samstag 27.September 2025</s
 trong></div><div><strong>Sonntag 26.Oktober 2025</strong></div><div>Parkpla
 tz Marxhalle</div><div class="default-style">Karl Farkas Gasse 2</div><div 
 class="default-style">1030 Wien</div><div>&nbsp;</div><div>Uhrzeit:</div><d
 iv>9-13h Baby-Kinder-Flohmarkt (Kinderkleidung, Spielzeug, Kinderbücher)&nb
 sp;<span style="text-decoration-line: underline;">GLEICHZEITIG</span>&nbsp;
 mit Frauen-Flohmarkt (Damenkleidung, Schuhe, Taschen, Schmuck)</div><div>&n
 bsp;</div><ul style="padding: 0px 0px 0px 16px; margin: 1em 0px 1em 24px;">
 <li style="line-height: normal; margin-bottom: 0.5em;">Eintritt frei für Be
 sucherInnen</li><li class="default-style" style="line-height: normal; margi
 n-bottom: 0.5em;">viele Parkplätze am Flohmarktgelände</li><li class="defau
 lt-style" style="line-height: normal; margin-bottom: 0.5em;">kleines Buffet
  mit Snacks, Getränken und Kaffee</li><li class="default-style" style="line
 -height: normal; margin-bottom: 0.5em;">Gute Öffi-Anbindung (U3 Erdberg und
  5min zu Fuß)</li><li style="line-height: normal; margin-bottom: 0.5em;">St
 andplätze noch verfügbar!</li><li class="default-style" style="line-height:
  normal; margin-bottom: 0.5em;">Standgebühr 35 Euro, Tisch bitte selbst mit
 bringen</li><li style="line-height: normal; margin-bottom: 0.5em;">Online-R
 eservierung hier&nbsp;<a href="http://www.lieblingsflohmarkt.at/" target="_
 blank" rel="noopener" style="word-break: break-word; color: #3c61aa;">www.l
 ieblingsflohmarkt.at</a></li></ul><div>&nbsp;</div><div>Instagram&nbsp;<a h
 ref="https://www.instagram.com/lieblingsflohmarkt.at_/" target="_blank" rel
 ="noopener" style="word-break: break-word; color: #3c61aa;">https://www.ins
 tagram.com/lieblingsflohmarkt.at/</a></div><div>Facebook&nbsp;<a href="http
 s://www.facebook.com/lieblingsflohmarkt.at" target="_blank" rel="noopener" 
 style="word-break: break-word; color: #3c61aa;">https://www.facebook.com/li
 eblingsflohmarkt.at</a></div><div class="default-style">Youtube&nbsp;<a hre
 f="https://www.youtube.com/@lieblingsflohmarkt" target="_blank" rel="noopen
 er" style="word-break: break-word; color: #3c61aa;">https://www.youtube.com
 /@lieblingsflohmarkt</a>&nbsp;</div></div></div></div></div></div></div></d
 iv></div></div></div></div></div></div></div>
CONTACT:info@lieblingsflohmarkt.at
DTSTAMP:20260425T034220
DTSTART:20250831T070000
DTEND:20250831T110000
SEQUENCE:0
TRANSP:OPAQUE
END:VEVENT
END:VCALENDAR