BEGIN:VCALENDAR
VERSION:2.0
PRODID:-//jEvents 2.0 for Joomla//EN
CALSCALE:GREGORIAN
METHOD:PUBLISH
BEGIN:VEVENT
UID:dd6802932aba71774af1a8e7842e46a5
CATEGORIES:3. Bezirk
CREATED:20250729T202022
SUMMARY:lieblingsflohmarkt-KIDS dein großer Baby-Kinder-Flohmarkt 
LOCATION:Parkplatz Marxhalle Wien\, Karl-Farkas-Gasse 2 in 1030 Wien
DESCRIPTION:Sonntag 31.August 2025\nSamstag 27.September 2025\nSonntag 26.Oktober 2025\
 nParkplatz MarxhalleKarl Farkas Gasse 21030 Wien Uhrzeit:9-13h Baby-Kinder-
 Flohmarkt (Kinderkleidung, Spielzeug, Kinderbücher) GLEICHZEITIG mit Frauen
 -Flohmarkt (Damenkleidung, Schuhe, Taschen, Schmuck) Eintritt frei für Besu
 cherInnenviele Parkplätze am Flohmarktgeländekleines Buffet mit Snacks, Get
 ränken und KaffeeGute Öffi-Anbindung (U3 Erdberg und 5min zu Fuß)Standplätz
 e noch verfügbar!Standgebühr 35 Euro, Tisch bitte selbst mitbringenOnline-R
 eservierung hier www.lieblingsflohmarkt.at (http://www.lieblingsflohmarkt.a
 t/) Instagram https://www.instagram.com/lieblingsflohmarkt.at/ (https://www
 .instagram.com/lieblingsflohmarkt.at_/)Facebook https://www.facebook.com/li
 eblingsflohmarkt.at (https://www.facebook.com/lieblingsflohmarkt.at)Youtube
  https://www.youtube.com/@lieblingsflohmarkt (https://www.youtube.com/@lieb
 lingsflohmarkt) 
X-ALT-DESC;FMTTYPE=text/html:<div style="color: #000000; font-family: -apple-system, BlinkMacSystemFont,
  'Helvetica Neue', 'Segoe UI', Arial, sans-serif, 'Apple Color Emoji', 'Seg
 oe UI Emoji', 'Segoe UI Symbol';"><p style="margin: 0cm 0cm 0.0001pt; backg
 round-image: initial; background-position: initial; background-size: initia
 l; background-repeat: initial; background-attachment: initial; background-o
 rigin: initial; background-clip: initial;"><strong><span style="font-size: 
 10.0pt; font-family: 'Helvetica',sans-serif; color: #2e2e2e;">Sonntag 31.Au
 gust 2025</span></strong></p><p style="margin: 0cm 0cm 0.0001pt; background
 -image: initial; background-position: initial; background-size: initial; ba
 ckground-repeat: initial; background-attachment: initial; background-origin
 : initial; background-clip: initial;"><strong><span style="font-size: 10.0p
 t; font-family: 'Helvetica',sans-serif; color: #2e2e2e;">Samstag 27.Septemb
 er 2025</span></strong></p><p style="margin: 0cm 0cm 0.0001pt; background-i
 mage: initial; background-position: initial; background-size: initial; back
 ground-repeat: initial; background-attachment: initial; background-origin: 
 initial; background-clip: initial;"><strong><span style="font-size: 10.0pt;
  font-family: 'Helvetica',sans-serif; color: #2e2e2e;">Sonntag 26.Oktober 2
 025</span></strong></p></div><div style="color: #000000; font-family: -appl
 e-system, BlinkMacSystemFont, 'Helvetica Neue', 'Segoe UI', Arial, sans-ser
 if, 'Apple Color Emoji', 'Segoe UI Emoji', 'Segoe UI Symbol';">Parkplatz Ma
 rxhalle</div><div class="default-style" style="color: #000000; font-family:
  -apple-system, BlinkMacSystemFont, 'Helvetica Neue', 'Segoe UI', Arial, sa
 ns-serif, 'Apple Color Emoji', 'Segoe UI Emoji', 'Segoe UI Symbol';">Karl F
 arkas Gasse 2</div><div class="default-style" style="color: #000000; font-f
 amily: -apple-system, BlinkMacSystemFont, 'Helvetica Neue', 'Segoe UI', Ari
 al, sans-serif, 'Apple Color Emoji', 'Segoe UI Emoji', 'Segoe UI Symbol';">
 1030 Wien</div><div style="color: #000000; font-family: -apple-system, Blin
 kMacSystemFont, 'Helvetica Neue', 'Segoe UI', Arial, sans-serif, 'Apple Col
 or Emoji', 'Segoe UI Emoji', 'Segoe UI Symbol';">&nbsp;</div><div style="co
 lor: #000000; font-family: -apple-system, BlinkMacSystemFont, 'Helvetica Ne
 ue', 'Segoe UI', Arial, sans-serif, 'Apple Color Emoji', 'Segoe UI Emoji', 
 'Segoe UI Symbol';">Uhrzeit:</div><div style="color: #000000; font-family: 
 -apple-system, BlinkMacSystemFont, 'Helvetica Neue', 'Segoe UI', Arial, san
 s-serif, 'Apple Color Emoji', 'Segoe UI Emoji', 'Segoe UI Symbol';"><strong
 >9-13h Baby-Kinder-Flohmarkt</strong> (Kinderkleidung, Spielzeug, Kinderbüc
 her)&nbsp;<span style="text-decoration-line: underline;">GLEICHZEITIG</span
 >&nbsp;mit <strong>Frauen-Flohmarkt</strong> (Damenkleidung, Schuhe, Tasche
 n, Schmuck)</div><div style="color: #000000; font-family: -apple-system, Bl
 inkMacSystemFont, 'Helvetica Neue', 'Segoe UI', Arial, sans-serif, 'Apple C
 olor Emoji', 'Segoe UI Emoji', 'Segoe UI Symbol';">&nbsp;</div><ul style="p
 adding: 0px 0px 0px 16px; margin: 1em 0px 1em 24px; color: #000000; font-fa
 mily: -apple-system, BlinkMacSystemFont, 'Helvetica Neue', 'Segoe UI', Aria
 l, sans-serif, 'Apple Color Emoji', 'Segoe UI Emoji', 'Segoe UI Symbol';"><
 li style="line-height: normal; margin-bottom: 0.5em;">Eintritt frei für Bes
 ucherInnen</li><li class="default-style" style="line-height: normal; margin
 -bottom: 0.5em;">viele Parkplätze am Flohmarktgelände</li><li class="defaul
 t-style" style="line-height: normal; margin-bottom: 0.5em;">kleines Buffet 
 mit Snacks, Getränken und Kaffee</li><li class="default-style" style="line-
 height: normal; margin-bottom: 0.5em;">Gute Öffi-Anbindung (U3 Erdberg und 
 5min zu Fuß)</li><li style="line-height: normal; margin-bottom: 0.5em;"><st
 rong>Standplätze noch verfügbar!</strong></li><li class="default-style" sty
 le="line-height: normal; margin-bottom: 0.5em;">Standgebühr 35 Euro, Tisch 
 bitte selbst mitbringen</li><li style="line-height: normal; margin-bottom: 
 0.5em;">Online-Reservierung hier&nbsp;<a href="http://www.lieblingsflohmark
 t.at/" target="_blank" rel="noopener" style="word-break: break-word; color:
  #3c61aa;">www.lieblingsflohmarkt.at</a></li></ul><div style="color: #00000
 0; font-family: -apple-system, BlinkMacSystemFont, 'Helvetica Neue', 'Segoe
  UI', Arial, sans-serif, 'Apple Color Emoji', 'Segoe UI Emoji', 'Segoe UI S
 ymbol';">&nbsp;</div><div style="color: #000000; font-family: -apple-system
 , BlinkMacSystemFont, 'Helvetica Neue', 'Segoe UI', Arial, sans-serif, 'App
 le Color Emoji', 'Segoe UI Emoji', 'Segoe UI Symbol';">Instagram&nbsp;<a hr
 ef="https://www.instagram.com/lieblingsflohmarkt.at_/" target="_blank" rel=
 "noopener" style="word-break: break-word; color: #3c61aa;">https://www.inst
 agram.com/lieblingsflohmarkt.at/</a></div><div style="color: #000000; font-
 family: -apple-system, BlinkMacSystemFont, 'Helvetica Neue', 'Segoe UI', Ar
 ial, sans-serif, 'Apple Color Emoji', 'Segoe UI Emoji', 'Segoe UI Symbol';"
 >Facebook&nbsp;<a href="https://www.facebook.com/lieblingsflohmarkt.at" tar
 get="_blank" rel="noopener" style="word-break: break-word; color: #3c61aa;"
 >https://www.facebook.com/lieblingsflohmarkt.at</a></div><div class="defaul
 t-style" style="color: #000000; font-family: -apple-system, BlinkMacSystemF
 ont, 'Helvetica Neue', 'Segoe UI', Arial, sans-serif, 'Apple Color Emoji', 
 'Segoe UI Emoji', 'Segoe UI Symbol';">Youtube&nbsp;<a href="https://www.you
 tube.com/@lieblingsflohmarkt" target="_blank" rel="noopener" style="word-br
 eak: break-word; color: #3c61aa;">https://www.youtube.com/@lieblingsflohmar
 kt</a>&nbsp;</div>
CONTACT:info@lieblingsflohmarkt.at
DTSTAMP:20260424T231454
DTSTART:20250927T070000
DTEND:20250927T110000
SEQUENCE:0
TRANSP:OPAQUE
END:VEVENT
END:VCALENDAR