BEGIN:VCALENDAR
VERSION:2.0
PRODID:-//jEvents 2.0 for Joomla//EN
CALSCALE:GREGORIAN
METHOD:PUBLISH
BEGIN:VEVENT
UID:424c5959dd6c024963d210037e4bb5ba
CATEGORIES:23. Bezirk
CREATED:19700101T010000
SUMMARY:Babyturnen (9-18 Monate)
LOCATION:VHS Erlaa\, Putzendoplergasse 4\, 1230 Wien
DESCRIPTION:Ziel des Babyturnens ist es, die Babys mit einfachen, spielerischen Übungen
  in ihrer Bewegungsentwicklung zu fördern. Gleichzeitig werden die Sinne ge
 schärft und die Körperwahrnehmung positiv beeinflusst. Vor allem aber solle
 n Kinder und Eltern Spaß an der gemeinsamen Bewegung haben.\nLink zur Anmel
 dung: https://www.vhs.at/de/k/285725628 (https://www.vhs.at/de/k/285725628)
 \n
X-ALT-DESC;FMTTYPE=text/html:<p>Ziel des Babyturnens ist es, die Babys mit einfachen, spielerischen Übun
 gen in ihrer Bewegungsentwicklung zu fördern. Gleichzeitig werden die Sinne
  geschärft und die Körperwahrnehmung positiv beeinflusst. Vor allem aber so
 llen Kinder und Eltern Spaß an der gemeinsamen Bewegung haben.</p><p>Link z
 ur Anmeldung: <a href="https://www.vhs.at/de/k/285725628">https://www.vhs.a
 t/de/k/285725628</a></p>
CONTACT:erlaa@vhs.at oder 01 / 89 174 123 302
X-EXTRAINFO:[preis='1600'][anmeldung='true']
DTSTAMP:20260425T155522
DTSTART:20250908T080000
DTEND:20250908T090000
SEQUENCE:0
RRULE:FREQ=WEEKLY;COUNT=2;INTERVAL=1;BYDAY=MO
TRANSP:OPAQUE
END:VEVENT
END:VCALENDAR