BEGIN:VCALENDAR
VERSION:2.0
PRODID:-//jEvents 2.0 for Joomla//EN
CALSCALE:GREGORIAN
METHOD:PUBLISH
BEGIN:VEVENT
UID:887fabc48b82792bb4cc5f0295ddf1b8
CATEGORIES:23. Bezirk
CREATED:19700101T010000
SUMMARY:Rückbildungsgymnastik für Frauen mit Baby (2-8 Monate)
LOCATION:VHS Erlaa\, Putzendoplergasse 4\, 1230 Wien
DESCRIPTION:<p>Mit den sanften Übungen der Rückbildungsgymnastik wird der Beckenboden g
 estärkt und die Rücken- und Bauchmuskulatur trainiert. Entspannungselemente
  tragen zum körperlichen und seelischen Wohlbefinden bei. Zusätzlich gibt d
 ie Möglichkeit zumErfahrungsaustausch mit anderen Müttern mehr Sicherheit i
 n der neuen Lebensphase. Voraussetzung für die Teilnahme: Abklärung mit Arz
 t bzw. Ärztin.<br />Die Bezahlung mit AK-Bildungsgutschein ist möglich. <br
  />Der AK-Gutschein kann telefonisch und kostenfrei unter der Nummer 0800 3
 11 311 bei der Arbeiterkammer Wien bestellt werden.</p><p>Link zur Anmeldun
 g: <a href="https://www.vhs.at/de/k/285725613">https://www.vhs.at/de/k/2857
 25613</a></p>
CONTACT:erlaa@vhs.at oder 01 / 89 174 123 302
X-EXTRAINFO:[preis='4900'][anmeldung='true']
DTSTAMP:20260425T154214
DTSTART:20250929T090000
DTEND:20250929T100000
SEQUENCE:0
RRULE:FREQ=WEEKLY;COUNT=6;INTERVAL=1;BYDAY=MO
TRANSP:OPAQUE
END:VEVENT
END:VCALENDAR