BEGIN:VCALENDAR
VERSION:2.0
PRODID:-//jEvents 2.0 for Joomla//EN
CALSCALE:GREGORIAN
METHOD:PUBLISH
BEGIN:VEVENT
UID:bb28444ee922f6fcdc69f3d0059c7118
CATEGORIES:23. Bezirk
CREATED:19700101T010000
SUMMARY:Yoga für Schwangere
LOCATION:VHS Erlaa\, Putzendoplergasse 4\, 1230 Wien
DESCRIPTION:Dieser Kurs begleitet werdende Mütter durch die besondere Zeit der Schwange
 rschaft und trägt dazu bei, diese bewusst und entspannt erleben zu können. 
 Die Yogapositionen werden sanfter ausgeführt als beim herkömmlichen Yoga un
 d sind auf die Bedürfnisse werdender Mütter abgestimmt, um bestmöglich auf 
 die Geburt vorzubereiten. \nDie Teilnahme ist ab der 13. Schwangerschaftswo
 che bis zur Geburt möglich.\nLink zur direkten Anmeldung: https://www.vhs.a
 t/de/k/285727914\n \n
X-ALT-DESC;FMTTYPE=text/html:<p>Dieser Kurs begleitet werdende Mütter durch die besondere Zeit der Schwa
 ngerschaft und trägt dazu bei, diese bewusst und entspannt erleben zu könne
 n. Die Yogapositionen werden sanfter ausgeführt als beim herkömmlichen Yoga
  und sind auf die Bedürfnisse werdender Mütter abgestimmt, um bestmöglich a
 uf die Geburt vorzubereiten.&nbsp;</p><p>Die Teilnahme ist ab der 13. Schwa
 ngerschaftswoche bis zur Geburt möglich.</p><p>Link zur direkten Anmeldung:
 &nbsp;<a href="https://www.vhs.at/de/k/285727914">https://www.vhs.at/de/k/2
 85727914</a></p><p>&nbsp;</p>
CONTACT:01 89 174 123 302 oder erlaa@vhs.at
X-EXTRAINFO:[preis='3200'][anmeldung='true']
DTSTAMP:20260425T103901
DTSTART:20251014T090000
DTEND:20251014T100000
SEQUENCE:0
RRULE:FREQ=WEEKLY;COUNT=4;INTERVAL=1;BYDAY=TU
TRANSP:OPAQUE
END:VEVENT
END:VCALENDAR