BEGIN:VCALENDAR
VERSION:2.0
PRODID:-//jEvents 2.0 for Joomla//EN
CALSCALE:GREGORIAN
METHOD:PUBLISH
BEGIN:VEVENT
UID:40b47bb4d6030c375fcc64757ecaee9e
CATEGORIES:23. Bezirk
CREATED:19700101T010000
SUMMARY:Yoga mit Baby
LOCATION:VHS Erlaa\, Putzendoplergasse 4\, 1230 Wien
DESCRIPTION:Dieser Kurs bietet Ihnen die Möglichkeit, Ihr Baby (bis etwa 20 Monate) dab
 ei zu haben und mit einzubeziehen, während Sie etwas für sich selbst tun. I
 n Verbindung mit gezielter Atmung trainieren die Körperübungen (Asanas) des
  Hatha Yoga die Beweglichkeit, Kraftausdauer, Koordination, Haltung und das
  Gleichgewicht. Durch die Konzentration auf die jeweilige Übung kommen auch
  die Gedanken zur Ruhe. Die Asanas orientieren sich an den Bedürfnissen der
  Teilnehmer*innen.\nLink zur direkten Anmeldung: https://www.vhs.at/de/k/28
 5727908 (https://www.vhs.at/de/k/285727908) \n
X-ALT-DESC;FMTTYPE=text/html:<p>Dieser Kurs bietet Ihnen die Möglichkeit, Ihr Baby (bis etwa 20 Monate) 
 dabei zu haben und mit einzubeziehen, während Sie etwas für sich selbst tun
 . In Verbindung mit gezielter Atmung trainieren die Körperübungen (Asanas) 
 des Hatha Yoga die Beweglichkeit, Kraftausdauer, Koordination, Haltung und 
 das Gleichgewicht. Durch die Konzentration auf die jeweilige Übung kommen a
 uch die Gedanken zur Ruhe. Die Asanas orientieren sich an den Bedürfnissen 
 der Teilnehmer*innen.</p><p>Link zur direkten Anmeldung:&nbsp;<a href="http
 s://www.vhs.at/de/k/285727908">https://www.vhs.at/de/k/285727908</a>&nbsp;<
 /p>
CONTACT:01 89 174 123 302 oder erlaa@vhs.at
X-EXTRAINFO:[preis='3200'][anmeldung='true']
DTSTAMP:20260425T153904
DTSTART:20251014T080000
DTEND:20251014T090000
SEQUENCE:0
RRULE:FREQ=WEEKLY;COUNT=4;INTERVAL=1;BYDAY=TU
TRANSP:OPAQUE
END:VEVENT
END:VCALENDAR