BEGIN:VCALENDAR
VERSION:2.0
PRODID:-//jEvents 2.0 for Joomla//EN
CALSCALE:GREGORIAN
METHOD:PUBLISH
BEGIN:VEVENT
UID:01920784f972afab0e5a14a8c8b34f6a
CATEGORIES:15. Bezirk
CREATED:19700101T010000
SUMMARY:Yoga mit Baby (ab 8 Wochen nach der Geburt)
LOCATION:VHS Rudolfsheim-Fünfhaus
DESCRIPTION:Dieser Kurs bietet Ihnen die Möglichkeit, Ihr Baby (bis etwa 20 Monate) dab
 ei zu haben und mit einzubeziehen, während Sie etwas für sich selbst tun. I
 n Verbindung mit gezielter Atmung trainieren die Körperübungen (Asanas) des
  Hatha Yoga die Beweglichkeit, Kraftausdauer, Koordination, Haltung und das
  Gleichgewicht. Durch die Konzentration auf die jeweilige Übung kommen auch
  die Gedanken zur Ruhe. Die Asanas orientieren sich an den Bedürfnissen der
  Teilnehmer*innen.\nDo 7x, 25.9.-6.11.2025, 11:30-12:30\n
X-ALT-DESC;FMTTYPE=text/html:<p>Dieser Kurs bietet Ihnen die Möglichkeit, Ihr Baby (bis etwa 20 Monate) 
 dabei zu haben und mit einzubeziehen, während Sie etwas für sich selbst tun
 . In Verbindung mit gezielter Atmung trainieren die Körperübungen (Asanas) 
 des Hatha Yoga die Beweglichkeit, Kraftausdauer, Koordination, Haltung und 
 das Gleichgewicht. Durch die Konzentration auf die jeweilige Übung kommen a
 uch die Gedanken zur Ruhe. Die Asanas orientieren sich an den Bedürfnissen 
 der Teilnehmer*innen.</p><p>Do 7x, 25.9.-6.11.2025, 11:30-12:30</p>
CONTACT:01/891 74 115 000
X-EXTRAINFO:[preis='5700'][anmeldung='true']
DTSTAMP:20260425T104035
DTSTART:20250925T093000
DTEND:20251106T113000
SEQUENCE:0
RRULE:FREQ=WEEKLY;COUNT=6;INTERVAL=1;BYDAY=TH
TRANSP:OPAQUE
END:VEVENT
END:VCALENDAR