BEGIN:VCALENDAR
VERSION:2.0
PRODID:-//jEvents 2.0 for Joomla//EN
CALSCALE:GREGORIAN
METHOD:PUBLISH
BEGIN:VEVENT
UID:7f7875404172b98f8b0e05ed8f8f9589
CATEGORIES:15. Bezirk
CREATED:20250819T094818
SUMMARY:Meine Familie und das Geld
LOCATION:VHS Rudolfsheim-Fünfhaus
DESCRIPTION:Den Umgang mit Geld lernen wir von unserem Umfeld, als Kinder von unseren E
 ltern und anderen Bezugspersonen. Doch wie sollen wir es lernen, wenn über 
 das Thema Geld immer noch (leider) zu wenig gesprochen wird? \n \nWarum ist
  es aber überhaupt wichtig, in der Familie über Geld zu sprechen?\nUnd wie 
 vermittle ich meinem Kind einen guten Umgang mit Geld?\nAntworten auf diese
  und viele weitere Fragen rund ums "Money Mindset" erhalten Sie im Kurs "Me
 ine Familie und das Geld". Wir freuen uns auf Sie!\n \nBitte beachten Sie, 
 dass es sich bei diesem Vortrag rein um Wissensvermittlung handelt, keine i
 ndividuelle (Anlage-)Beratung. Die Vortragende ist seit über 20 Jahren im B
 ankgeschäft und möchte ihre Erfahrungen und ihr Know-how in finanziellen An
 gelegenheiten weitergeben. \n \nDieser Kurs wird von der AK Wien gefördert 
 und kann mit dem AK Bildungsgutschein bezahlt werden.\nDer AK Bildungsgutsc
 hein kann telefonisch und kostenfrei unter der Nummer 0800 311 311 oder übe
 r https://wien.arbeiterkammer.at/bildungsgutscheinbei der AK Wien bestellt 
 werden.\n
X-ALT-DESC;FMTTYPE=text/html:<p>Den Umgang mit Geld lernen wir von unserem Umfeld, als Kinder von unsere
 n Eltern und anderen Bezugspersonen. Doch wie sollen wir es lernen, wenn üb
 er das Thema Geld immer noch (leider) zu wenig gesprochen wird?&nbsp;</p><p
 >&nbsp;</p><p>Warum ist es aber überhaupt wichtig, in der Familie über Geld
  zu sprechen?</p><p>Und wie vermittle ich meinem Kind einen guten Umgang mi
 t Geld?</p><p>Antworten auf diese und viele weitere Fragen rund ums "Money 
 Mindset" erhalten Sie im Kurs "Meine Familie und das Geld". Wir freuen uns 
 auf Sie!</p><p>&nbsp;</p><p>Bitte beachten Sie, dass es sich bei diesem Vor
 trag rein um Wissensvermittlung handelt, keine individuelle (Anlage-)Beratu
 ng. Die Vortragende ist seit über 20 Jahren im Bankgeschäft und möchte ihre
  Erfahrungen und ihr Know-how in finanziellen Angelegenheiten weitergeben.&
 nbsp;</p><p>&nbsp;</p><p>Dieser Kurs wird von der AK Wien gefördert und kan
 n mit dem AK Bildungsgutschein bezahlt werden.</p><p>Der AK Bildungsgutsche
 in kann telefonisch und kostenfrei unter der Nummer 0800 311 311 oder über 
 https://wien.arbeiterkammer.at/bildungsgutscheinbei der AK Wien bestellt we
 rden.</p>
CONTACT:01/891 74 115 000
X-EXTRAINFO:[preis='1800'][anmeldung='true']
DTSTAMP:20260425T153806
DTSTART:20251015T160000
DTEND:20251015T180000
SEQUENCE:0
TRANSP:OPAQUE
END:VEVENT
END:VCALENDAR