BEGIN:VCALENDAR
VERSION:2.0
PRODID:-//jEvents 2.0 for Joomla//EN
CALSCALE:GREGORIAN
METHOD:PUBLISH
BEGIN:VEVENT
UID:101f72a7c51b0950d0cb58d1fe7bb1a3
CATEGORIES:15. Bezirk
CREATED:19700101T010000
SUMMARY:Bewegungswerkstatt für Kinder (ab dem Laufalter bis 2,5 Jahre)
LOCATION:VHS Rudolfsheim-Fünfhaus
DESCRIPTION:<p>Das altersgemäße Angebot lässt die Turnstunde zu einer interessanten Bew
 egungs- und Erlebniswelt werden. Kinderturnen stimuliert die Nah- und Basis
 sinne, die Motorik, Tiefenwahrnehmung und das Körpergefühl. Die Begleitpers
 on ist ein*e willkommene*r aktive*r Teilnehmer*in, der*die Unterstützung an
 bietet. Dadurch wird die zwischenmenschliche Beziehung unterstützt.</p><p>B
 itte mit bequemer Bekleidung und rutschfesten Socken/Patschen kommen und ei
 ne Trinkflasche mitnehmen.</p><p>Mo 7x, 22.9.-3.11.2025, 10:30-11:30 Uhr</p
 >
CONTACT:01/891 74 115 000
X-EXTRAINFO:[preis='5700'][anmeldung='true']
DTSTAMP:20260425T160804
DTSTART:20250922T083000
DTEND:20250922T093000
SEQUENCE:0
RRULE:FREQ=WEEKLY;COUNT=6;INTERVAL=1;BYDAY=MO
TRANSP:OPAQUE
END:VEVENT
END:VCALENDAR