BEGIN:VCALENDAR
VERSION:2.0
PRODID:-//jEvents 2.0 for Joomla//EN
CALSCALE:GREGORIAN
METHOD:PUBLISH
BEGIN:VEVENT
UID:fb314c006235516ffd478444ad623e4a
CATEGORIES:15. Bezirk
CREATED:20250819T095120
SUMMARY:Kinderschutz: Was tun, wenn ich mir Sorgen um Kinder mache und wie die Wiener Kinder- und Jugendhilfe helfen kann
LOCATION:VHS Rudolfsheim-Fünfhaus
DESCRIPTION:Gerade in diesen turbulenten Zeiten gewinnt der Schutz von Kindern vor Gewa
 lt und Vernachlässigung wieder an Bedeutung. Wir alle sind gefragt aufmerks
 am zu sein: wenn wir das Nachbarskind auffällig viel weinen hören; Großelte
 rn, die sich Sorgen um mögliches Suchtverhalten der Enkelkinder machen; der
  Wunsch, befreundete betroffene Personen, die gerne Hilfe hätten, aber sich
  vor dem Aufsuchen einer Institution scheuen, zu unterstützen.\nKinder und 
 Jugendliche in schwierigen Situationen brauchen uns, egal ob im privaten un
 d beruflichen Umfeld oder sogar als Krisen- bzw. Langzeitpflegefamilie.\nDi
 eser Abend bietet viele Informationen rund um den Kinderschutz und über die
  Handlungsmöglichkeiten, wie auf unterschiedliche Art und Weise hilfreich u
 nterstützt werden kann. Es wird auch Zeit für Diskussionen mit Expert*innen
  und zur Beantwortung von Fragen zu diesem wichtigen Thema geben.\n \nEine 
 Veranstaltung in Kooperation mit der Wiener Kinder- und Jugendhilfe für Int
 eressierte und Betroffene. \nDie Referent*innen sind Sozialarbeiter*innen u
 nd Sozialpädagog*innen der Öffentlichkeitsarbeit und Servicestelle der Wien
 er Kinder- und Jugendhilfe.\nDieser Vortrag kann nicht als erforderlicher N
 achweis für Kinderschutzbeauftragte angerechnet werden.\n
X-ALT-DESC;FMTTYPE=text/html:<p>Gerade in diesen turbulenten Zeiten gewinnt der Schutz von Kindern vor G
 ewalt und Vernachlässigung wieder an Bedeutung. Wir alle sind gefragt aufme
 rksam zu sein: wenn wir das Nachbarskind auffällig viel weinen hören; Große
 ltern, die sich Sorgen um mögliches Suchtverhalten der Enkelkinder machen; 
 der Wunsch, befreundete betroffene Personen, die gerne Hilfe hätten, aber s
 ich vor dem Aufsuchen einer Institution scheuen, zu unterstützen.</p><p>Kin
 der und Jugendliche in schwierigen Situationen brauchen uns, egal ob im pri
 vaten und beruflichen Umfeld oder sogar als Krisen- bzw. Langzeitpflegefami
 lie.</p><p>Dieser Abend bietet viele Informationen rund um den Kinderschutz
  und über die Handlungsmöglichkeiten, wie auf unterschiedliche Art und Weis
 e hilfreich unterstützt werden kann. Es wird auch Zeit für Diskussionen mit
  Expert*innen und zur Beantwortung von Fragen zu diesem wichtigen Thema geb
 en.</p><p>&nbsp;</p><p>Eine Veranstaltung in Kooperation mit der Wiener Kin
 der- und Jugendhilfe für Interessierte und Betroffene.&nbsp;</p><p>Die Refe
 rent*innen sind Sozialarbeiter*innen und Sozialpädagog*innen der Öffentlich
 keitsarbeit und Servicestelle der Wiener Kinder- und Jugendhilfe.</p><p>Die
 ser Vortrag kann nicht als erforderlicher Nachweis für Kinderschutzbeauftra
 gte angerechnet werden.</p>
CONTACT:01/891 74 115 000
X-EXTRAINFO:[preis='000'][anmeldung='true']
DTSTAMP:20260425T214700
DTSTART:20251202T170000
DTEND:20251202T190000
SEQUENCE:0
TRANSP:OPAQUE
END:VEVENT
END:VCALENDAR