BEGIN:VCALENDAR
VERSION:2.0
PRODID:-//jEvents 2.0 for Joomla//EN
CALSCALE:GREGORIAN
METHOD:PUBLISH
BEGIN:VEVENT
UID:101048feb4ec89d6bb5c1fa534ab167f
CATEGORIES:19. Bezirk
CREATED:20250821T231450
SUMMARY:Waldspielgruppe für Kinder von 0 bis 3 Jahren
LOCATION:Nanaya
DESCRIPTION:Mit einer kleinen Wanderung (ca. 1 km) kommen wir zu unserm Platz im Wald. 
 Hier gibt es einen gemeinsamen Beginn mit Begrüßungsliedern und Jause. Nach
  der Stärkung lassen wir uns von den Kindern und vom Wald leiten: Gemeinsam
  spielen, den Wald erkunden und mit allen Sinnen erfahren, Stöcke sammeln, 
 Tiere finden, balancieren, Zapfen werfen,… Das Unterwegssein in der Natur (
 über Wurzeln, durchs Laub und auf unebenem Boden) bietet vielseitige Sinnes
 erfahrungen und Spielanregungen. Durch das freie Spiel wird der Umgang mit 
 der Natur auf achtsame Weise erfahren. Nach der Freispielzeit gibt es ein A
 bschlusslied, und wir machen uns auf den Weg zurück.\n \nDer Preis ist für 
 alle 3 Termine für 1 Erwachsene/r &amp; 1 Kind zwischen 0 und 3 Jahren\nDie
 nstag, 16. September 2025 von 10:00 bis 11:30Dienstag, 30. September 2025 v
 on 10:00 bis 11:30Dienstag, 07. Oktober 2025 von 10:00 bis 11:30mehr Infos:
  https://nanaya.at/wald-spielgruppe\n
X-ALT-DESC;FMTTYPE=text/html:<p><span style="color: #391142; font-family: 'Open Sans', sans-serif; font-
 size: 16px; background-color: #fefefe;">Mit einer kleinen Wanderung (ca. 1 
 km) kommen wir zu unserm Platz im Wald. Hier gibt es einen gemeinsamen Begi
 nn mit Begrüßungsliedern und Jause. Nach der Stärkung lassen wir uns von de
 n Kindern und vom Wald leiten: Gemeinsam spielen, den Wald erkunden und mit
  allen Sinnen erfahren, Stöcke sammeln, Tiere finden, balancieren, Zapfen w
 erfen,… Das Unterwegssein in der Natur (über Wurzeln, durchs Laub und auf u
 nebenem Boden) bietet vielseitige Sinneserfahrungen und Spielanregungen. Du
 rch das freie Spiel wird der Umgang mit der Natur auf achtsame Weise erfahr
 en. Nach der Freispielzeit gibt es ein Abschlusslied, und wir machen uns au
 f den Weg zurück.</span></p><p>&nbsp;</p><p>Der Preis ist für alle 3 Termin
 e für 1 Erwachsene/r &amp; 1 Kind zwischen 0 und 3 Jahren</p><ul class="dat
 e-list" style="box-sizing: inherit; margin: 0px 0px 0px 1.25rem; padding: 0
 px; list-style-position: outside; line-height: 1.6; color: #391142; font-fa
 mily: 'Open Sans', sans-serif; font-size: 16px; background-color: #fefefe;"
 ><li style="box-sizing: inherit; margin: 0px; padding: 0px; font-size: inhe
 rit;">Dienstag, 16. September 2025 von 10:00 bis 11:30</li><li style="box-s
 izing: inherit; margin: 0px; padding: 0px; font-size: inherit;">Dienstag, 3
 0. September 2025 von 10:00 bis 11:30</li><li style="box-sizing: inherit; m
 argin: 0px; padding: 0px; font-size: inherit;">Dienstag, 07. Oktober 2025 v
 on 10:00 bis 11:30</li></ul><p>mehr Infos:&nbsp;https://nanaya.at/wald-spie
 lgruppe</p>
CONTACT: rundumgeburt@nanaya.at
X-EXTRAINFO:[preis='5000'][anmeldung='true']
DTSTAMP:20260424T231532
DTSTART:20250916T080000
DTEND:20250916T093000
SEQUENCE:0
TRANSP:OPAQUE
END:VEVENT
END:VCALENDAR