BEGIN:VCALENDAR
VERSION:2.0
PRODID:-//jEvents 2.0 for Joomla//EN
CALSCALE:GREGORIAN
METHOD:PUBLISH
BEGIN:VEVENT
UID:3c81a4f6122e969415de4c12286f7013
CATEGORIES:7. Bezirk
CREATED:20250822T103551
SUMMARY:MUMelade - Krühstück für Klein & Groß
LOCATION:Lindengasse 44
DESCRIPTION:Das Eltern-Kind Frühstück gibt es schon seit 15 Jahren: gemeinsam Essen, pl
 audern, Kinder beim Spielen beobachten, singen, tanzen und ganz viel Zeit f
 ür Kennenlernen und Austausch.\nab 9:00 steht das Frühstück bereit - einfac
 h dazukommen, zu welcher Zeit auch immer. Bei jedem Treffen gibt es auch ei
 n kleines Programm: Lieder, Tänze, Basteleien, Malen, Spiele, Gwandtausch,.
 ..\nWir freuen uns aufdie gemeinsame Zeit!\n \n
X-ALT-DESC;FMTTYPE=text/html:<p>Das Eltern-Kind Frühstück gibt es schon seit 15 Jahren: gemeinsam Essen,
  plaudern, Kinder beim Spielen beobachten, singen, tanzen und ganz viel Zei
 t für Kennenlernen und Austausch.</p><p>ab 9:00 steht das Frühstück bereit 
 - einfach dazukommen, zu welcher Zeit auch immer. Bei jedem Treffen gibt es
  auch ein kleines Programm: Lieder, Tänze, Basteleien, Malen, Spiele, Gwand
 tausch,...</p><p>Wir freuen uns aufdie gemeinsame Zeit!</p><p>&nbsp;</p>
CONTACT:https://www.evang-neubau.at/
X-EXTRAINFO:[preis='400'][anmeldung='true']
DTSTAMP:20260424T223748
DTSTART:20250903T070000
DTEND:20250903T100000
SEQUENCE:0
TRANSP:OPAQUE
END:VEVENT
END:VCALENDAR