BEGIN:VCALENDAR
VERSION:2.0
PRODID:-//jEvents 2.0 for Joomla//EN
CALSCALE:GREGORIAN
METHOD:PUBLISH
BEGIN:VEVENT
UID:eda00bc78b1c05fac867549979e8ba99
CATEGORIES:23. Bezirk
CREATED:19700101T010000
SUMMARY:fitdankbaby - Fitness für dich und dein Baby
LOCATION:Wohnpark Alt Erlaa\, Anton Baumgartner Straße 44\, 1230 Wien
DESCRIPTION:<p>fitdankbaby ist ein Fitnesskurs, bei dem dein Baby nicht nur dabei ist s
 ondern aktiv in das Kursgeschehen integriert wird. Es erwartet dich ein Mix
  aus Ausdauer- und Kräftigungsübungen, kombiniert mit altersgerechten Kinde
 rliedern und -spielen. Wir arbeiten an der Kräftigung des gesamten Körpers 
 und unterstützen die Rückbildung.</p><p>Vor Einstieg in den Kurs ist es emp
 fohlen, einen Rückbildungskurs zu besuchen.&nbsp;</p><p>Schnupperstunden un
 d ein Einstieg in den laufenden Kurs sind auf Anfrage jederzeit möglich.</p
 ><p>Alle Kurse und Termine findest du unter <a href="https://www.fitdankbab
 y.at/claudia.klinger">www.fitdankbaby.at/claudia.klinger</a>&nbsp;</p>
CONTACT:claudia.klinger@fitdankbaby.at
X-EXTRAINFO:[preis='1300'][anmeldung='true']
DTSTAMP:20260425T140013
DTSTART:20250909T090000
DTEND:20250909T100000
SEQUENCE:0
RRULE:FREQ=WEEKLY;COUNT=7;INTERVAL=1;BYDAY=TU
TRANSP:OPAQUE
END:VEVENT
END:VCALENDAR