BEGIN:VCALENDAR
VERSION:2.0
PRODID:-//jEvents 2.0 for Joomla//EN
CALSCALE:GREGORIAN
METHOD:PUBLISH
BEGIN:VEVENT
UID:c634e68279776fa729be7c6fa2926e70
CATEGORIES:13. Bezirk
CREATED:19700101T010000
SUMMARY:Schwangerenyoga
LOCATION:Wattmanngasse 7\,1130 Wien
DESCRIPTION:<p style="margin: 0px; font-style: normal; font-variant-caps: normal; font-
 stretch: normal; font-size: 11px; line-height: normal; font-family: Verdana
 ; font-size-adjust: none; font-kerning: auto; font-variant-alternates: norm
 al; font-variant-ligatures: normal; font-variant-numeric: normal; font-vari
 ant-east-asian: normal; font-variant-position: normal; font-variant-emoji: 
 normal; font-feature-settings: normal; font-optical-sizing: auto; font-vari
 ation-settings: normal; color: #000000;">Nütze die positive Wirkung von Yog
 a für dich und dein Baby.&nbsp;</p><p style="margin: 0px; font-style: norma
 l; font-variant-caps: normal; font-stretch: normal; font-size: 11px; line-h
 eight: normal; font-family: Verdana; font-size-adjust: none; font-kerning: 
 auto; font-variant-alternates: normal; font-variant-ligatures: normal; font
 -variant-numeric: normal; font-variant-east-asian: normal; font-variant-pos
 ition: normal; font-variant-emoji: normal; font-feature-settings: normal; f
 ont-optical-sizing: auto; font-variation-settings: normal; color: #000000; 
 min-height: 13px;">&nbsp;</p><p style="margin: 0px; font-style: normal; fon
 t-variant-caps: normal; font-stretch: normal; font-size: 11px; line-height:
  normal; font-family: Verdana; font-size-adjust: none; font-kerning: auto; 
 font-variant-alternates: normal; font-variant-ligatures: normal; font-varia
 nt-numeric: normal; font-variant-east-asian: normal; font-variant-position:
  normal; font-variant-emoji: normal; font-feature-settings: normal; font-op
 tical-sizing: auto; font-variation-settings: normal; color: #e6000e;"><b>di
 enstags 17:00 UHR in 1130 Wien Hietzing</b></p><p style="margin: 0px; font-
 style: normal; font-variant-caps: normal; font-stretch: normal; font-size: 
 11px; line-height: normal; font-family: Verdana; font-size-adjust: none; fo
 nt-kerning: auto; font-variant-alternates: normal; font-variant-ligatures: 
 normal; font-variant-numeric: normal; font-variant-east-asian: normal; font
 -variant-position: normal; font-variant-emoji: normal; font-feature-setting
 s: normal; font-optical-sizing: auto; font-variation-settings: normal; colo
 r: #000000; min-height: 13px;">&nbsp;</p><p style="margin: 0px; font-style:
  normal; font-variant-caps: normal; font-stretch: normal; font-size: 11px; 
 line-height: normal; font-family: Verdana; font-size-adjust: none; font-ker
 ning: auto; font-variant-alternates: normal; font-variant-ligatures: normal
 ; font-variant-numeric: normal; font-variant-east-asian: normal; font-varia
 nt-position: normal; font-variant-emoji: normal; font-feature-settings: nor
 mal; font-optical-sizing: auto; font-variation-settings: normal; color: #00
 0000;">Mit beginnender Schwangerschaft möchten viele Frauen sich und ihrem 
 Baby ganz bewußt&nbsp;etwas Gutes zu tun: mit Massagen, gesundem Essen und 
 Bewegung. Vielleicht warst du vor der Schwangerschaft schon sportlich und m
 öchtest dir deine Fitness beibehalten, vielleicht möchtest du aber auch ger
 ade jetzt fitter werden, um dich optimal auf die bevorstehende Geburt vorzu
 bereiten. Immerhin muss sich dein Körper in den nächsten Monaten daran gewö
 hnen wesentlich mehr Gewicht mit sich herumzutragen. Daher ist es gut, so b
 ald als möglich mit Yoga und sanfter Kräftigung zu starten.&nbsp; &nbsp;</p
 ><p style="margin: 0px; font-style: normal; font-variant-caps: normal; font
 -stretch: normal; font-size: 11px; line-height: normal; font-family: Verdan
 a; font-size-adjust: none; font-kerning: auto; font-variant-alternates: nor
 mal; font-variant-ligatures: normal; font-variant-numeric: normal; font-var
 iant-east-asian: normal; font-variant-position: normal; font-variant-emoji:
  normal; font-feature-settings: normal; font-optical-sizing: auto; font-var
 iation-settings: normal; color: #000000; min-height: 13px;">&nbsp;</p><p st
 yle="margin: 0px; font-style: normal; font-variant-caps: normal; font-stret
 ch: normal; font-size: 11px; line-height: normal; font-family: Verdana; fon
 t-size-adjust: none; font-kerning: auto; font-variant-alternates: normal; f
 ont-variant-ligatures: normal; font-variant-numeric: normal; font-variant-e
 ast-asian: normal; font-variant-position: normal; font-variant-emoji: norma
 l; font-feature-settings: normal; font-optical-sizing: auto; font-variation
 -settings: normal; color: #000000;"><b>Da eine Schwangerschaft eine Zeit de
 s Wandels ist und sich nicht nur der Körper der Frau von Tag zu Tag verände
 rt, sondern auch der Geist eine enorme Reise durchlebt, setzen viele Frauen
  in der Schwangerschaft deshalb auf Yoga, das sich beiden Bereichen widmet 
 und dich in dieser Zeit unterstützt.</b></p><p style="margin: 0px; font-sty
 le: normal; font-variant-caps: normal; font-stretch: normal; font-size: 11p
 x; line-height: normal; font-family: Verdana; font-size-adjust: none; font-
 kerning: auto; font-variant-alternates: normal; font-variant-ligatures: nor
 mal; font-variant-numeric: normal; font-variant-east-asian: normal; font-va
 riant-position: normal; font-variant-emoji: normal; font-feature-settings: 
 normal; font-optical-sizing: auto; font-variation-settings: normal; color: 
 #000000; min-height: 13px;">&nbsp;</p><p style="margin: 0px; font-style: no
 rmal; font-variant-caps: normal; font-stretch: normal; font-size: 11px; lin
 e-height: normal; font-family: Verdana; font-size-adjust: none; font-kernin
 g: auto; font-variant-alternates: normal; font-variant-ligatures: normal; f
 ont-variant-numeric: normal; font-variant-east-asian: normal; font-variant-
 position: normal; font-variant-emoji: normal; font-feature-settings: normal
 ; font-optical-sizing: auto; font-variation-settings: normal; color: #00000
 0;">„Yoga für Schwangere“ kann dir helfen, Ängste vor der Geburt zu nehmen.
  <strong>Die Auswirkungen einer regelmäßigen Yogapraxis beeinflussen nicht 
 nur die Schwangerschaft positiv, sondern auch den Geburtsverlauf und das Wo
 chenbett.&nbsp;</strong></p><p style="margin: 0px; font-style: normal; font
 -variant-caps: normal; font-stretch: normal; font-size: 11px; line-height: 
 normal; font-family: Verdana; font-size-adjust: none; font-kerning: auto; f
 ont-variant-alternates: normal; font-variant-ligatures: normal; font-varian
 t-numeric: normal; font-variant-east-asian: normal; font-variant-position: 
 normal; font-variant-emoji: normal; font-feature-settings: normal; font-opt
 ical-sizing: auto; font-variation-settings: normal; color: #000000;">Yoga f
 ür Schwangere ist konzipiert für werdende Mütter mit oder ohne Yogaerfahrun
 g. Beweglichkeit, Kraft und Ausdauer werden gefördert. Mit geführter Medita
 tion, Atem- und Stimmübungen wird die Körper- und Geistebene als Ganzes ang
 esprochen Asanas dienen sowohl der gesundheitlichen Unterstützung während d
 er Schwangerschaft, als auch als Vorbereitung für die Geburt, um im richtig
 en Moment loslassen zu können. Ab der 12. SSW empfohlen. Schnuppereinheit m
 it Voranmeldung: office@yogavibe.at</p><p style="margin: 0px; font-style: n
 ormal; font-variant-caps: normal; font-stretch: normal; font-size: 11px; li
 ne-height: normal; font-family: Verdana; font-size-adjust: none; font-kerni
 ng: auto; font-variant-alternates: normal; font-variant-ligatures: normal; 
 font-variant-numeric: normal; font-variant-east-asian: normal; font-variant
 -position: normal; font-variant-emoji: normal; font-feature-settings: norma
 l; font-optical-sizing: auto; font-variation-settings: normal; color: #0000
 00; min-height: 13px;">&nbsp;</p><p><span style="caret-color: #000000; colo
 r: #000000; font-family: Verdana; font-size: 11px;">Was dich erwartet:</spa
 n></p><p style="margin: 0px; font-style: normal; font-variant-caps: normal;
  font-stretch: normal; font-size: 11px; line-height: normal; font-family: V
 erdana; font-size-adjust: none; font-kerning: auto; font-variant-alternates
 : normal; font-variant-ligatures: normal; font-variant-numeric: normal; fon
 t-variant-east-asian: normal; font-variant-position: normal; font-variant-e
 moji: normal; font-feature-settings: normal; font-optical-sizing: auto; fon
 t-variation-settings: normal; color: #000000;">In den PRÄNATAL EINHEITEN (D
 ienstag 17:00-18:30 UHR) kombiniere ich entspannende Dehnungsübungen mit ru
 higen, kräftigenden Asanas, die deinen Kreislauf unterstützen und deine Atm
 ung vertiefen. Meditationen, Affirmationen und Tönungsübungen stärken das V
 ertrauen in deine innere Kraft und deinen Körper.</p><p style="margin: 0px;
  font-style: normal; font-variant-caps: normal; font-stretch: normal; font-
 size: 11px; line-height: normal; font-family: Verdana; font-size-adjust: no
 ne; font-kerning: auto; font-variant-alternates: normal; font-variant-ligat
 ures: normal; font-variant-numeric: normal; font-variant-east-asian: normal
 ; font-variant-position: normal; font-variant-emoji: normal; font-feature-s
 ettings: normal; font-optical-sizing: auto; font-variation-settings: normal
 ; color: #000000;">Anmeldung und Details: <span style="color: #e6000e;"><b>
 www.yogavibe.at</b></span></p>
CONTACT:office@yogavibe.at
X-EXTRAINFO:[preis='2100'][anmeldung='true']
DTSTAMP:20260425T140008
DTSTART:20250923T150000
DTEND:20250923T163000
SEQUENCE:0
RRULE:FREQ=WEEKLY;UNTIL=20260101T000000Z;INTERVAL=1;BYDAY=TU
TRANSP:OPAQUE
END:VEVENT
END:VCALENDAR