BEGIN:VCALENDAR
VERSION:2.0
PRODID:-//jEvents 2.0 for Joomla//EN
CALSCALE:GREGORIAN
METHOD:PUBLISH
BEGIN:VEVENT
UID:e006803e1bf600b101b7958c7ce9b4e4
CATEGORIES:21. Bezirk
CREATED:19700101T010000
SUMMARY:Buggyfitness
LOCATION:VHS Großfeldsiedlung
DESCRIPTION:https://www.vhs.at/de/k/277733450 (https://www.vhs.at/de/k/277733450)\n \nG
 emeinsam mit deinem Baby wird an der frischen Luft trainiert. Der Kinderwag
 en ist unser zusätzliches Trainingsgerät mit dem wir unsere Kraft und Ausda
 uer trainieren. Auch der Beckenboden wird dabei gestärkt. Während des Train
 ings kann natürlich auf die Bedürfnisse deines Babys eingegangen werden und
  ein Austausch mit anderen Eltern kommt auch nicht zu kurz. Der Kurs findet
  im Freien statt.\n
X-ALT-DESC;FMTTYPE=text/html:<p><a href="https://www.vhs.at/de/k/277733450">https://www.vhs.at/de/k/2777
 33450</a></p><p>&nbsp;</p><p><span style="caret-color: #000000; color: #000
 000; font-family: Dax, 'System Font', Verdana, sans-serif; font-size: 20px;
  background-color: #f2f2f2;">Gemeinsam mit deinem Baby wird an der frischen
  Luft trainiert. Der Kinderwagen ist unser zusätzliches Trainingsgerät mit 
 dem wir unsere Kraft und Ausdauer trainieren. Auch der Beckenboden wird dab
 ei gestärkt. Während des Trainings kann natürlich auf die Bedürfnisse deine
 s Babys eingegangen werden und ein Austausch mit anderen Eltern kommt auch 
 nicht zu kurz.&nbsp;</span><br style="box-sizing: border-box; caret-color: 
 #000000; color: #000000; font-family: Dax, 'System Font', Verdana, sans-ser
 if; font-size: 20px;" /><span style="caret-color: #000000; color: #000000; 
 font-family: Dax, 'System Font', Verdana, sans-serif; font-size: 20px; back
 ground-color: #f2f2f2;">Der Kurs findet im Freien statt.</span></p>
CONTACT:https://www.vhs.at/de/k/277733450
X-EXTRAINFO:[preis='4100'][anmeldung='true']
DTSTAMP:20260424T222945
DTSTART:20250924T073000
DTEND:20250924T083000
SEQUENCE:0
RRULE:FREQ=WEEKLY;UNTIL=20251023T000000Z;INTERVAL=1;BYDAY=WE
TRANSP:OPAQUE
END:VEVENT
END:VCALENDAR