BEGIN:VCALENDAR
VERSION:2.0
PRODID:-//jEvents 2.0 for Joomla//EN
CALSCALE:GREGORIAN
METHOD:PUBLISH
BEGIN:VEVENT
UID:23a9a25d1c9167b801c091426f46a3de
CATEGORIES:18. Bezirk
CREATED:19700101T010000
SUMMARY:Mama-Baby Pilates
LOCATION:Ferrogasse 9/1 1180 Wien
DESCRIPTION:Diese liebevoll gestaltete Mama-Baby Pilates- und Rückbildungsklasse unters
 tützt dich sanft auf deinem Weg zurück zu einem starken und ausgeglichenen 
 Körper nach der Geburt. Mit Pilates-Übungen, die speziell auf die Bedürfnis
 se von frischgebackenen Müttern abgestimmt sind, liegt der Fokus auf der Kr
 äftigung der Beckenbodenmuskulatur, der Stabilisierung der Rumpfmuskulatur 
 und der Verbesserung der Körperhaltung – wichtige Bausteine für eine effekt
 ive Rückbildung.\nDie Übungen sind sanft und dennoch effektiv, ideal, um de
 inen Körper behutsam wieder aufzubauen, während dein Baby in deiner Nähe is
 t. Vernetze dich mit anderen Müttern, tanke neue Kraft und genieße deine Rü
 ckbildungszeit in einem unterstützenden und entspannten Umfeld.\nDiese Klas
 se wird empfohlen ab etwa 3–6 Monaten nach der Geburt, je nach Genesungsver
 lauf deines Körpers, wenn die Rektusdiastase (Bauchmuskelspaltung) sich zur
 ückgebildet hat und du wieder Lust hast, dich mehr zu bewegen :-)\nBitte be
 achte, dass du auch ohne Baby kommen kannst :-) wenn du frischgebackene Mut
 ter bist und an einem Rückbildungskurs teilnehmen möchtest!\nBitte hole dir
  vor der Teilnahme die Freigabe deiner Ärztin oder deines Arztes ein.\nDies
 er Kurs wird auf Deutsch unterrichtet.\n
X-ALT-DESC;FMTTYPE=text/html:<p style="box-sizing: border-box; border: 0px solid #e5e7eb; --tw-border-sp
 acing-x: 0; --tw-border-spacing-y: 0; --tw-translate-x: 0; --tw-translate-y
 : 0; --tw-rotate: 0; --tw-skew-x: 0; --tw-skew-y: 0; --tw-scale-x: 1; --tw-
 scale-y: 1; --tw-scroll-snap-strictness: proximity; --tw-ring-offset-width:
  0px; --tw-ring-offset-color: #fff; --tw-ring-color: rgb(59 130 246/0.5); -
 -tw-ring-offset-shadow: 0 0 #0000; --tw-ring-shadow: 0 0 #0000; --tw-shadow
 : 0 0 #0000; --tw-shadow-colored: 0 0 #0000; margin: 0px 0px 12px; color: #
 141414; font-family: ui-sans-serif, system-ui, sans-serif, 'Apple Color Emo
 ji', 'Segoe UI Emoji', 'Segoe UI Symbol', 'Noto Color Emoji'; font-size: me
 dium;">Diese&nbsp;<span style="box-sizing: border-box; border: 0px solid #e
 5e7eb; --tw-border-spacing-x: 0; --tw-border-spacing-y: 0; --tw-translate-x
 : 0; --tw-translate-y: 0; --tw-rotate: 0; --tw-skew-x: 0; --tw-skew-y: 0; -
 -tw-scale-x: 1; --tw-scale-y: 1; --tw-scroll-snap-strictness: proximity; --
 tw-ring-offset-width: 0px; --tw-ring-offset-color: #fff; --tw-ring-color: r
 gb(59 130 246/0.5); --tw-ring-offset-shadow: 0 0 #0000; --tw-ring-shadow: 0
  0 #0000; --tw-shadow: 0 0 #0000; --tw-shadow-colored: 0 0 #0000; font-weig
 ht: bold;">liebevoll gestaltete Mama-Baby Pilates- und Rückbildungsklasse</
 span>&nbsp;unterstützt dich sanft auf deinem Weg zurück zu einem starken un
 d ausgeglichenen Körper nach der Geburt. Mit Pilates-Übungen, die speziell 
 auf die Bedürfnisse von frischgebackenen Müttern abgestimmt sind, liegt der
  Fokus auf der&nbsp;<span style="box-sizing: border-box; border: 0px solid 
 #e5e7eb; --tw-border-spacing-x: 0; --tw-border-spacing-y: 0; --tw-translate
 -x: 0; --tw-translate-y: 0; --tw-rotate: 0; --tw-skew-x: 0; --tw-skew-y: 0;
  --tw-scale-x: 1; --tw-scale-y: 1; --tw-scroll-snap-strictness: proximity; 
 --tw-ring-offset-width: 0px; --tw-ring-offset-color: #fff; --tw-ring-color:
  rgb(59 130 246/0.5); --tw-ring-offset-shadow: 0 0 #0000; --tw-ring-shadow:
  0 0 #0000; --tw-shadow: 0 0 #0000; --tw-shadow-colored: 0 0 #0000; font-we
 ight: bold;">Kräftigung der Beckenbodenmuskulatur</span>, der&nbsp;<span st
 yle="box-sizing: border-box; border: 0px solid #e5e7eb; --tw-border-spacing
 -x: 0; --tw-border-spacing-y: 0; --tw-translate-x: 0; --tw-translate-y: 0; 
 --tw-rotate: 0; --tw-skew-x: 0; --tw-skew-y: 0; --tw-scale-x: 1; --tw-scale
 -y: 1; --tw-scroll-snap-strictness: proximity; --tw-ring-offset-width: 0px;
  --tw-ring-offset-color: #fff; --tw-ring-color: rgb(59 130 246/0.5); --tw-r
 ing-offset-shadow: 0 0 #0000; --tw-ring-shadow: 0 0 #0000; --tw-shadow: 0 0
  #0000; --tw-shadow-colored: 0 0 #0000; font-weight: bold;">Stabilisierung 
 der Rumpfmuskulatur</span>&nbsp;und der&nbsp;<span style="box-sizing: borde
 r-box; border: 0px solid #e5e7eb; --tw-border-spacing-x: 0; --tw-border-spa
 cing-y: 0; --tw-translate-x: 0; --tw-translate-y: 0; --tw-rotate: 0; --tw-s
 kew-x: 0; --tw-skew-y: 0; --tw-scale-x: 1; --tw-scale-y: 1; --tw-scroll-sna
 p-strictness: proximity; --tw-ring-offset-width: 0px; --tw-ring-offset-colo
 r: #fff; --tw-ring-color: rgb(59 130 246/0.5); --tw-ring-offset-shadow: 0 0
  #0000; --tw-ring-shadow: 0 0 #0000; --tw-shadow: 0 0 #0000; --tw-shadow-co
 lored: 0 0 #0000; font-weight: bold;">Verbesserung der Körperhaltung</span>
 &nbsp;– wichtige Bausteine für eine effektive Rückbildung.</p><p style="box
 -sizing: border-box; border: 0px solid #e5e7eb; --tw-border-spacing-x: 0; -
 -tw-border-spacing-y: 0; --tw-translate-x: 0; --tw-translate-y: 0; --tw-rot
 ate: 0; --tw-skew-x: 0; --tw-skew-y: 0; --tw-scale-x: 1; --tw-scale-y: 1; -
 -tw-scroll-snap-strictness: proximity; --tw-ring-offset-width: 0px; --tw-ri
 ng-offset-color: #fff; --tw-ring-color: rgb(59 130 246/0.5); --tw-ring-offs
 et-shadow: 0 0 #0000; --tw-ring-shadow: 0 0 #0000; --tw-shadow: 0 0 #0000; 
 --tw-shadow-colored: 0 0 #0000; margin: 0px 0px 12px; color: #141414; font-
 family: ui-sans-serif, system-ui, sans-serif, 'Apple Color Emoji', 'Segoe U
 I Emoji', 'Segoe UI Symbol', 'Noto Color Emoji'; font-size: medium;">Die Üb
 ungen sind&nbsp;<span style="box-sizing: border-box; border: 0px solid #e5e
 7eb; --tw-border-spacing-x: 0; --tw-border-spacing-y: 0; --tw-translate-x: 
 0; --tw-translate-y: 0; --tw-rotate: 0; --tw-skew-x: 0; --tw-skew-y: 0; --t
 w-scale-x: 1; --tw-scale-y: 1; --tw-scroll-snap-strictness: proximity; --tw
 -ring-offset-width: 0px; --tw-ring-offset-color: #fff; --tw-ring-color: rgb
 (59 130 246/0.5); --tw-ring-offset-shadow: 0 0 #0000; --tw-ring-shadow: 0 0
  #0000; --tw-shadow: 0 0 #0000; --tw-shadow-colored: 0 0 #0000; font-weight
 : bold;">sanft und dennoch effektiv</span>, ideal, um deinen Körper behutsa
 m wieder aufzubauen, während dein Baby in deiner Nähe ist. Vernetze dich mi
 t anderen Müttern, tanke neue Kraft und genieße deine Rückbildungszeit in e
 inem&nbsp;<span style="box-sizing: border-box; border: 0px solid #e5e7eb; -
 -tw-border-spacing-x: 0; --tw-border-spacing-y: 0; --tw-translate-x: 0; --t
 w-translate-y: 0; --tw-rotate: 0; --tw-skew-x: 0; --tw-skew-y: 0; --tw-scal
 e-x: 1; --tw-scale-y: 1; --tw-scroll-snap-strictness: proximity; --tw-ring-
 offset-width: 0px; --tw-ring-offset-color: #fff; --tw-ring-color: rgb(59 13
 0 246/0.5); --tw-ring-offset-shadow: 0 0 #0000; --tw-ring-shadow: 0 0 #0000
 ; --tw-shadow: 0 0 #0000; --tw-shadow-colored: 0 0 #0000; font-weight: bold
 ;">unterstützenden und entspannten Umfeld</span>.</p><p style="box-sizing: 
 border-box; border: 0px solid #e5e7eb; --tw-border-spacing-x: 0; --tw-borde
 r-spacing-y: 0; --tw-translate-x: 0; --tw-translate-y: 0; --tw-rotate: 0; -
 -tw-skew-x: 0; --tw-skew-y: 0; --tw-scale-x: 1; --tw-scale-y: 1; --tw-scrol
 l-snap-strictness: proximity; --tw-ring-offset-width: 0px; --tw-ring-offset
 -color: #fff; --tw-ring-color: rgb(59 130 246/0.5); --tw-ring-offset-shadow
 : 0 0 #0000; --tw-ring-shadow: 0 0 #0000; --tw-shadow: 0 0 #0000; --tw-shad
 ow-colored: 0 0 #0000; margin: 0px 0px 12px; color: #141414; font-family: u
 i-sans-serif, system-ui, sans-serif, 'Apple Color Emoji', 'Segoe UI Emoji',
  'Segoe UI Symbol', 'Noto Color Emoji'; font-size: medium;">Diese Klasse wi
 rd empfohlen ab etwa&nbsp;<span style="box-sizing: border-box; border: 0px 
 solid #e5e7eb; --tw-border-spacing-x: 0; --tw-border-spacing-y: 0; --tw-tra
 nslate-x: 0; --tw-translate-y: 0; --tw-rotate: 0; --tw-skew-x: 0; --tw-skew
 -y: 0; --tw-scale-x: 1; --tw-scale-y: 1; --tw-scroll-snap-strictness: proxi
 mity; --tw-ring-offset-width: 0px; --tw-ring-offset-color: #fff; --tw-ring-
 color: rgb(59 130 246/0.5); --tw-ring-offset-shadow: 0 0 #0000; --tw-ring-s
 hadow: 0 0 #0000; --tw-shadow: 0 0 #0000; --tw-shadow-colored: 0 0 #0000; f
 ont-weight: bold;">3–6 Monaten nach der Geburt</span>, je nach Genesungsver
 lauf deines Körpers, wenn die&nbsp;<span style="box-sizing: border-box; bor
 der: 0px solid #e5e7eb; --tw-border-spacing-x: 0; --tw-border-spacing-y: 0;
  --tw-translate-x: 0; --tw-translate-y: 0; --tw-rotate: 0; --tw-skew-x: 0; 
 --tw-skew-y: 0; --tw-scale-x: 1; --tw-scale-y: 1; --tw-scroll-snap-strictne
 ss: proximity; --tw-ring-offset-width: 0px; --tw-ring-offset-color: #fff; -
 -tw-ring-color: rgb(59 130 246/0.5); --tw-ring-offset-shadow: 0 0 #0000; --
 tw-ring-shadow: 0 0 #0000; --tw-shadow: 0 0 #0000; --tw-shadow-colored: 0 0
  #0000; font-weight: bold;">Rektusdiastase (Bauchmuskelspaltung) sich zurüc
 kgebildet hat</span>&nbsp;und du wieder Lust hast, dich mehr zu bewegen :-)
 </p><p style="box-sizing: border-box; border: 0px solid #e5e7eb; --tw-borde
 r-spacing-x: 0; --tw-border-spacing-y: 0; --tw-translate-x: 0; --tw-transla
 te-y: 0; --tw-rotate: 0; --tw-skew-x: 0; --tw-skew-y: 0; --tw-scale-x: 1; -
 -tw-scale-y: 1; --tw-scroll-snap-strictness: proximity; --tw-ring-offset-wi
 dth: 0px; --tw-ring-offset-color: #fff; --tw-ring-color: rgb(59 130 246/0.5
 ); --tw-ring-offset-shadow: 0 0 #0000; --tw-ring-shadow: 0 0 #0000; --tw-sh
 adow: 0 0 #0000; --tw-shadow-colored: 0 0 #0000; margin: 0px 0px 12px; colo
 r: #141414; font-family: ui-sans-serif, system-ui, sans-serif, 'Apple Color
  Emoji', 'Segoe UI Emoji', 'Segoe UI Symbol', 'Noto Color Emoji'; font-size
 : medium;">Bitte beachte, dass du&nbsp;<span style="box-sizing: border-box;
  border: 0px solid #e5e7eb; --tw-border-spacing-x: 0; --tw-border-spacing-y
 : 0; --tw-translate-x: 0; --tw-translate-y: 0; --tw-rotate: 0; --tw-skew-x:
  0; --tw-skew-y: 0; --tw-scale-x: 1; --tw-scale-y: 1; --tw-scroll-snap-stri
 ctness: proximity; --tw-ring-offset-width: 0px; --tw-ring-offset-color: #ff
 f; --tw-ring-color: rgb(59 130 246/0.5); --tw-ring-offset-shadow: 0 0 #0000
 ; --tw-ring-shadow: 0 0 #0000; --tw-shadow: 0 0 #0000; --tw-shadow-colored:
  0 0 #0000; font-weight: bold;">auch ohne Baby kommen kannst</span>&nbsp;:-
 ) wenn du frischgebackene Mutter bist und an einem Rückbildungskurs teilneh
 men möchtest!</p><p style="box-sizing: border-box; border: 0px solid #e5e7e
 b; --tw-border-spacing-x: 0; --tw-border-spacing-y: 0; --tw-translate-x: 0;
  --tw-translate-y: 0; --tw-rotate: 0; --tw-skew-x: 0; --tw-skew-y: 0; --tw-
 scale-x: 1; --tw-scale-y: 1; --tw-scroll-snap-strictness: proximity; --tw-r
 ing-offset-width: 0px; --tw-ring-offset-color: #fff; --tw-ring-color: rgb(5
 9 130 246/0.5); --tw-ring-offset-shadow: 0 0 #0000; --tw-ring-shadow: 0 0 #
 0000; --tw-shadow: 0 0 #0000; --tw-shadow-colored: 0 0 #0000; margin: 0px 0
 px 12px; color: #141414; font-family: ui-sans-serif, system-ui, sans-serif,
  'Apple Color Emoji', 'Segoe UI Emoji', 'Segoe UI Symbol', 'Noto Color Emoj
 i'; font-size: medium;">Bitte hole dir vor der Teilnahme die&nbsp;<span sty
 le="box-sizing: border-box; border: 0px solid #e5e7eb; --tw-border-spacing-
 x: 0; --tw-border-spacing-y: 0; --tw-translate-x: 0; --tw-translate-y: 0; -
 -tw-rotate: 0; --tw-skew-x: 0; --tw-skew-y: 0; --tw-scale-x: 1; --tw-scale-
 y: 1; --tw-scroll-snap-strictness: proximity; --tw-ring-offset-width: 0px; 
 --tw-ring-offset-color: #fff; --tw-ring-color: rgb(59 130 246/0.5); --tw-ri
 ng-offset-shadow: 0 0 #0000; --tw-ring-shadow: 0 0 #0000; --tw-shadow: 0 0 
 #0000; --tw-shadow-colored: 0 0 #0000; font-weight: bold;">Freigabe deiner 
 Ärztin oder deines Arztes</span>&nbsp;ein.</p><p style="box-sizing: border-
 box; border: 0px solid #e5e7eb; --tw-border-spacing-x: 0; --tw-border-spaci
 ng-y: 0; --tw-translate-x: 0; --tw-translate-y: 0; --tw-rotate: 0; --tw-ske
 w-x: 0; --tw-skew-y: 0; --tw-scale-x: 1; --tw-scale-y: 1; --tw-scroll-snap-
 strictness: proximity; --tw-ring-offset-width: 0px; --tw-ring-offset-color:
  #fff; --tw-ring-color: rgb(59 130 246/0.5); --tw-ring-offset-shadow: 0 0 #
 0000; --tw-ring-shadow: 0 0 #0000; --tw-shadow: 0 0 #0000; --tw-shadow-colo
 red: 0 0 #0000; margin: 0px 0px 12px; color: #141414; font-family: ui-sans-
 serif, system-ui, sans-serif, 'Apple Color Emoji', 'Segoe UI Emoji', 'Segoe
  UI Symbol', 'Noto Color Emoji'; font-size: medium;"><span style="box-sizin
 g: border-box; border: 0px solid #e5e7eb; --tw-border-spacing-x: 0; --tw-bo
 rder-spacing-y: 0; --tw-translate-x: 0; --tw-translate-y: 0; --tw-rotate: 0
 ; --tw-skew-x: 0; --tw-skew-y: 0; --tw-scale-x: 1; --tw-scale-y: 1; --tw-sc
 roll-snap-strictness: proximity; --tw-ring-offset-width: 0px; --tw-ring-off
 set-color: #fff; --tw-ring-color: rgb(59 130 246/0.5); --tw-ring-offset-sha
 dow: 0 0 #0000; --tw-ring-shadow: 0 0 #0000; --tw-shadow: 0 0 #0000; --tw-s
 hadow-colored: 0 0 #0000; font-weight: bold;">Dieser Kurs wird auf Deutsch 
 unterrichtet.</span></p>
CONTACT:https://www.beyourmuse.at/stundenplan
X-EXTRAINFO:[preis='2000'][anmeldung='true']
DTSTAMP:20260424T212415
DTSTART:20250917T090000
DTEND:20250917T100000
SEQUENCE:0
RRULE:FREQ=WEEKLY;UNTIL=20260101T000000Z;INTERVAL=1;BYDAY=WE
TRANSP:OPAQUE
END:VEVENT
END:VCALENDAR