BEGIN:VCALENDAR
VERSION:2.0
PRODID:-//jEvents 2.0 for Joomla//EN
CALSCALE:GREGORIAN
METHOD:PUBLISH
BEGIN:VEVENT
UID:ac7c8300d0e0998dcf4e351ccb9fee2b
CATEGORIES:16. Bezirk
CREATED:19700101T010000
SUMMARY:Vinyasa Flow
LOCATION:lemoni - Wilhelminenstraße 45/2\, 1160 Wien
DESCRIPTION:<p class="MsoNormal" style="margin: 0cm; font-size: 12pt; font-family: Apto
 s, sans-serif; color: #000000;">Nina unterrichtet kraftvolle Vinyasa-Flows 
 und schafft dabei auch immer Phasen der Ruhe – eine Kombination aus Dynamik
  und Erholung. Ihre Stunden sind klar aufgebaut, fördern Beweglichkeit und 
 Kraft und bieten zugleich Raum zum Abschalten - ein Ort für Selfcare, um be
 i dir einzuchecken, bei dir anzukommen.</p><p class="MsoNormal" style="marg
 in: 0cm; font-size: 12pt; font-family: Aptos, sans-serif; color: #000000;">
 &nbsp;</p><p class="MsoNormal" style="margin: 0cm; font-size: 12pt; font-fa
 mily: Aptos, sans-serif; color: #000000;">Ein Einstieg ist jederzeit möglic
 h, die Gruppe ist bunt durchgemischt und keine fixe, manche Teilnerhmer:inn
 en kommen wöchentlich, manche, so wie es sich ausgeht. Genau das soll es au
 ch für dich sein. Melde dich direkt über den Anmeldelink an. Du kannst nach
  der ersten gemeinsamen Einheit entscheiden, ob du eine Schnuppereinheit ve
 rrechnet haben möchtest oder einen Stempelpass.</p><p class="MsoNormal" sty
 le="margin: 0cm; font-size: 12pt; font-family: Aptos, sans-serif; color: #0
 00000;">Schnupperstunde: 15€ (nur einmalig gültig)</p><p class="MsoNormal" 
 style="margin: 0cm; font-size: 12pt; font-family: Aptos, sans-serif; color:
  #000000;">Stempelpass: 18€ pro Einheit (6+1 Einheit gratis)&nbsp;</p><p cl
 ass="MsoNormal" style="margin: 0cm; font-size: 12pt; font-family: Aptos, sa
 ns-serif; color: #000000;">&nbsp;</p><p class="MsoNormal" style="margin: 0c
 m; font-size: 12pt; font-family: Aptos, sans-serif; color: #000000;">Sollte
 st du dich für den Stempelpass entscheiden, bekommst du eine Rechnung mit d
 em Gesamtbetrag des Passes zugeschickt (also 108€). Danach bekommst du beim
  Besuch jeder Einheit einen Stempel und nach der 6. Einheit ist die nächste
  Einheit gratis.&nbsp;</p><p class="MsoNormal" style="margin: 0cm; font-siz
 e: 12pt; font-family: Aptos, sans-serif; color: #000000;">Melde dich über d
 iesen Anmeldelink an: <a href="https://form.jotform.com/250020875059353" st
 yle="color: #467886;">https://form.jotform.com/250020875059353</a></p><p cl
 ass="MsoNormal" style="margin: 0cm; font-size: 12pt; font-family: Aptos, sa
 ns-serif; color: #000000;">Ab sofort kannst du die Einheiten auch über den 
 Jö-Sportpass buchen, wenn du eine Move Plus Mitgliedschaft hast: <a href="h
 ttps://www.joe-sportpass.at/de/partners/ceyFAeClm1/mine-by-nina-gaertner/" 
 style="color: #467886;">https://www.joe-sportpass.at/de/partners/ceyFAeClm1
 /mine-by-nina-gaertner/</a></p><p class="MsoNormal" style="margin: 0cm; fon
 t-size: 12pt; font-family: Aptos, sans-serif; color: #000000;">&nbsp;</p><p
  class="MsoNormal" style="margin: 0cm; font-size: 12pt; font-family: Aptos,
  sans-serif; color: #000000;">Stornobedingungen:&nbsp;Eine Abmeldung von de
 r Klasse ist bis zu 6 Stunden vor einer Einheit per Mail möglich. In diesem
  Fall fallen keine Stornokosten an. Meldest du dich erst nach dieser Frist 
 ab, ist der volle Betrag der Einheit zu bezahlen. Deine Anmeldung ist übert
 ragbar - solltest du also nicht teilnehmen können, kannst du deine Buchung 
 an eine Freundin/ einen Freund/ eine*n Bekannte*n weitergeben.</p><p class=
 "MsoNormal" style="margin: 0cm; font-size: 12pt; font-family: Aptos, sans-s
 erif; color: #000000;">&nbsp;</p><p class="MsoNormal" style="margin: 0cm; f
 ont-size: 12pt; font-family: Aptos, sans-serif; color: #000000;">Bei Fragen
  schreibe gerne eine Mail an <a href="mailto:office@mine.co.at" style="colo
 r: #467886;">office@mine.co.at</a></p><p class="MsoNormal" style="margin: 0
 cm; font-size: 12pt; font-family: Aptos, sans-serif; color: #000000;">&nbsp
 ;</p><p class="MsoNormal" style="margin: 0cm; font-size: 12pt; font-family:
  Aptos, sans-serif; color: #000000;">Mehr Infos zu den Angeboten von mine f
 indest du unter: <a href="https://www.mine.co.at/" style="color: #467886;">
 https://www.mine.co.at/</a></p>
CONTACT:office@mine.co.at
X-EXTRAINFO:[preis='1800'][anmeldung='true']
DTSTAMP:20260425T140034
DTSTART:20250910T163000
DTEND:20250910T173000
SEQUENCE:0
RRULE:FREQ=WEEKLY;UNTIL=20251218T000000Z;INTERVAL=1;BYDAY=WE
TRANSP:OPAQUE
END:VEVENT
END:VCALENDAR