BEGIN:VCALENDAR
VERSION:2.0
PRODID:-//jEvents 2.0 for Joomla//EN
CALSCALE:GREGORIAN
METHOD:PUBLISH
BEGIN:VEVENT
UID:15b831822e4bb50461b1baac287f6fca
CATEGORIES:Online
CREATED:20250906T181433
SUMMARY:ONLINE: Physiotherapeutische Geburtsvorbereitung in der Gruppe, live plus Aufzeichnung
LOCATION:online
DESCRIPTION:Wie kann man den Geburtsverlauf positiv beeinflussen?\n\nAn meinem Kurs neh
 men nicht nur Erstgebärende teil, sondern auch viele Frauen, die bereits Ki
 nder haben und deren Geburten anders verlaufen sind als erhofft.\nDer Kurs 
 findet live über Zoom statt, wird aber auch aufgezeichnet. Es ist daher kei
 n Problem, wenn du nicht live dabei sein kannst. Auch ein verspäteter Einst
 ieg ist dadurch möglich!\n\nTermine:\nMi, 3.9., 9:15-11:15\nMi, 10.9., 9:15
 -11:15\nSo, 21.9., 9:30-11:30 (mit Partner*in)\n\nDarum geht es im Kurs:\nW
 ie kann ich meinem Baby helfen, die optimale Startposition zu finden - scho
 n in der Schwangerschaft, aber auch direkt während der Geburt?\nWas kann ic
 h gegen schwangerschaftsbedingte Schmerzen tun?\nDurch welche Positionen un
 d Bewegungen kann ich den Geburtsverlauf positiv beeinflussen und welche kö
 nnen nachteilig sein?\nWarum sollte ich meinen Beckenboden schon jetzt trai
 nieren und wie funktioniert das?\nWie läuft eine Geburt ab?\nWas hat es mit
  der richtigen Atmung auf sich?\nWie bewegt sich das Kind durch das Becken?
 \nWarum ist es wichtig, als gebärende Person gut informiert zu sein?\nWo li
 egen die Unterschiede zwischen Krankenhaus-, Geburtshaus- und Hausgeburt?\n
 Wie kann ich mithelfen, Geburtsverletzungen vorzubeugen?\nWie setze ich mei
 nen Körper während der Geburt optimal ein?\nWie kann mich mein/e Partner*in
  bestmöglich unterstützen?\nWie gestalte ich die Geburt aktiv mit, statt mi
 ch passiv entbinden zu lassen?\nWas kann ich selbst oder mein/e Partner*in 
 gegen den Wehenschmerz tun?\nWas ist nach der Geburt wichtig für meinen Kör
 per?\nAll das und mehr besprechen wir in diesem Kurs. Er kann und soll die 
 Geburtsvorbereitung mit einer Hebamme keineswegs ersetzen, ist aber eine si
 nnvolle Ergänzung dazu. Ich habe als Physiotherapeutin einschlägige Fortbil
 dungen absolviert, eng mit Hebammen zusammengearbeitet, einige Geburten im 
 beruflichen Kontext miterlebt (Krankenhaus, Hausgeburt) und zwei eigene Kin
 der geboren (Krankenhaus, Geburtshaus).\nDie Teilnahme ist ab der 13. Schwa
 ngerschaftswoche möglich. Der dritte Termin sollte am besten mit Partner*in
  besucht werden, ist aber auch mit einer anderen Begleitperson oder notfall
 s alleine möglich. \nEs dürfen nur Schwangere teilnehmen, dies ist keine Fo
 rtbildung!\n
X-ALT-DESC;FMTTYPE=text/html:<p class="MsoNormal" style="border: none; line-height: 1.5em; margin: 0px; 
 color: #000000; font-family: 'Roboto Condensed', sans-serif; font-size: 15p
 x;">Wie kann man den Geburtsverlauf positiv beeinflussen?<br /><br />An mei
 nem Kurs nehmen nicht nur Erstgebärende teil, sondern auch viele Frauen, di
 e bereits Kinder haben und deren Geburten anders verlaufen sind als erhofft
 .<br />Der Kurs findet live über Zoom statt, wird aber auch aufgezeichnet. 
 Es ist daher kein Problem, wenn du nicht live dabei sein kannst. Auch ein v
 erspäteter Einstieg ist dadurch möglich!<br /><br />Termine:<br />Mi, 3.9.,
  9:15-11:15<br />Mi, 10.9., 9:15-11:15<br />So, 21.9., 9:30-11:30 (mit Part
 ner*in)<br /><br />Darum geht es im Kurs:<br />Wie kann ich meinem Baby hel
 fen, die optimale Startposition zu finden - schon in der Schwangerschaft, a
 ber auch direkt während der Geburt?<br />Was kann ich gegen schwangerschaft
 sbedingte Schmerzen tun?<br />Durch welche Positionen und Bewegungen kann i
 ch den Geburtsverlauf positiv beeinflussen und welche können nachteilig sei
 n?<br />Warum sollte ich meinen Beckenboden schon jetzt trainieren und wie 
 funktioniert das?<br />Wie läuft eine Geburt ab?<br />Was hat es mit der ri
 chtigen Atmung auf sich?<br />Wie bewegt sich das Kind durch das Becken?<br
  />Warum ist es wichtig, als gebärende Person gut informiert zu sein?<br />
 Wo liegen die Unterschiede zwischen Krankenhaus-, Geburtshaus- und Hausgebu
 rt?<br />Wie kann ich mithelfen, Geburtsverletzungen vorzubeugen?<br />Wie 
 setze ich meinen Körper während der Geburt optimal ein?<br />Wie kann mich 
 mein/e Partner*in bestmöglich unterstützen?<br />Wie gestalte ich die Gebur
 t aktiv mit, statt mich passiv entbinden zu lassen?<br />Was kann ich selbs
 t oder mein/e Partner*in gegen den Wehenschmerz tun?<br />Was ist nach der 
 Geburt wichtig für meinen Körper?</p><p class="MsoNormal" style="border: no
 ne; line-height: 1.5em; margin: 0px; color: #000000; font-family: 'Roboto C
 ondensed', sans-serif; font-size: 15px;">All das und mehr besprechen wir in
  diesem Kurs. Er kann und soll die Geburtsvorbereitung mit einer Hebamme ke
 ineswegs ersetzen, ist aber eine sinnvolle Ergänzung dazu. Ich habe als Phy
 siotherapeutin einschlägige Fortbildungen absolviert, eng mit Hebammen zusa
 mmengearbeitet, einige Geburten im beruflichen Kontext miterlebt (Krankenha
 us, Hausgeburt) und zwei eigene Kinder geboren (Krankenhaus, Geburtshaus).<
 /p><p class="MsoNormal" style="border: none; line-height: 1.5em; margin: 0p
 x; color: #000000; font-family: 'Roboto Condensed', sans-serif; font-size: 
 15px;">Die Teilnahme ist ab der 13. Schwangerschaftswoche möglich. Der drit
 te Termin sollte am besten mit Partner*in besucht werden, ist aber auch mit
  einer anderen Begleitperson oder notfalls alleine möglich. <br />Es dürfen
  nur Schwangere teilnehmen, dies ist keine Fortbildung!</p>
CONTACT:http://www.physiomattes.at/geburtsvorbereitungskurse (http://www.physiomattes.at/geburtsvorbereitungskurse)
X-EXTRAINFO:[preis='10800'][anmeldung='true']
DTSTAMP:20260425T014329
DTSTART:20250910T071500
DTEND:20250910T091500
SEQUENCE:0
TRANSP:OPAQUE
END:VEVENT
END:VCALENDAR