BEGIN:VCALENDAR
VERSION:2.0
PRODID:-//jEvents 2.0 for Joomla//EN
CALSCALE:GREGORIAN
METHOD:PUBLISH
BEGIN:VEVENT
UID:003313a20ee2cf8d181738456d420055
CATEGORIES:2. Bezirk
CREATED:19700101T010000
SUMMARY:MiniMusik - Kindermusikgruppe 2-4 Jahre
LOCATION:Obere Augartenstraße 28\, 1020 Wien
DESCRIPTION:Singen, Spielen, Musizieren\nwww.minimusik.at (https://www.minimusik.at)\nF
 ür Kinder im Alter von 0-4 bzw. 2-4 Jahren in Begleitung eines Erwachsenen\
 nWir singen, spielen, musizieren und bewegen uns in diesem Kurs zu neuen un
 d alten Liedern und zu eigens für die MiniMusik komponierten Songs. Es gibt
  Instrumente zum Mitmachen und Materialien, die zum Bewegen und Spaßhaben e
 inladen.\nDabei wird ganz spielerisch die kindliche Wahrnehmung und Feinmot
 orik gefördert.\nDie Kinder lernen ihre Energie in Gesang und Bewegung umzu
 setzen und zwischen Aktivität und Zuhören, Konzentration und Entspannung zu
  wechseln.\nSich gemeinsam im Gruppengesang und Gruppenklang geborgen zu fü
 hlen,\nsich ausruhen und austoben zu können und selber zu gestalten - allei
 ne und miteinander, dies alles sind wertvolle Erfahrungen, die die MiniMusi
 k den Kindern bietet.\n
X-ALT-DESC;FMTTYPE=text/html:<p style="color: #000000; font-family: Helvetica, Arial, sans-serif; font-s
 ize: medium;">Singen, Spielen, Musizieren</p><p style="color: #000000; font
 -family: Helvetica, Arial, sans-serif; font-size: medium;"><a href="https:/
 /www.minimusik.at">www.minimusik.at</a></p><p style="color: #000000; font-f
 amily: Helvetica, Arial, sans-serif; font-size: medium;">Für Kinder im Alte
 r von 0-4 bzw. 2-4 Jahren in Begleitung eines Erwachsenen</p><p style="colo
 r: #000000; font-family: Helvetica, Arial, sans-serif; font-size: medium;">
 <b>Wir singen, spielen, musizieren und bewegen uns</b>&nbsp;in diesem Kurs 
 zu neuen und alten Liedern und zu eigens für die MiniMusik komponierten Son
 gs. Es gibt Instrumente zum Mitmachen und Materialien, die zum Bewegen und 
 Spaßhaben einladen.</p><p style="color: #000000; font-family: Helvetica, Ar
 ial, sans-serif; font-size: medium;"><b>Dabei wird ganz spielerisch die kin
 dliche Wahrnehmung und Feinmotorik gefördert</b>.<br />Die Kinder lernen ih
 re Energie in Gesang und Bewegung umzusetzen und zwischen Aktivität und Zuh
 ören, Konzentration und Entspannung zu wechseln.</p><p style="color: #00000
 0; font-family: Helvetica, Arial, sans-serif; font-size: medium;"><b>Sich g
 emeinsam im Gruppengesang und Gruppenklang geborgen zu fühlen</b>,<br />sic
 h ausruhen und austoben zu können und selber zu gestalten - alleine und mit
 einander, dies alles sind wertvolle Erfahrungen, die die MiniMusik den Kind
 ern bietet.</p>
CONTACT:minimusik1020@gmail.com
X-EXTRAINFO:[preis='2000'][anmeldung='true']
DTSTAMP:20260425T141445
DTSTART:20250925T140000
DTEND:20250925T145000
SEQUENCE:0
RRULE:FREQ=WEEKLY;UNTIL=20251212T000000Z;INTERVAL=1;BYDAY=TH
TRANSP:OPAQUE
END:VEVENT
END:VCALENDAR