BEGIN:VCALENDAR
VERSION:2.0
PRODID:-//jEvents 2.0 for Joomla//EN
CALSCALE:GREGORIAN
METHOD:PUBLISH
BEGIN:VEVENT
UID:d44cc15749620de749b063f5f9260801
CATEGORIES:11. Bezirk
CREATED:20250910T101048
SUMMARY:Play Day-Kinder City
LOCATION:Simmeringer Hauptstraße 7
DESCRIPTION:<p>Nach der Sommerpause und Erholung treffen wir uns wieder bei unseren Pla
 y Days.</p><p>Der Preis für einen Erwachsenen und ein Kind beträgt 10 €</p>
 <p>Jede weitere Person oder jedes weitere Kind kostet 5 €</p><p>Im Preis in
 begriffen: Snacks + Saft für die Kinder</p><p>Bezahlung in bar möglich</p><
 p>Anmeldung erforderlich unter der Telefonnummer: 06763284722</p>
CONTACT:06763284722
X-EXTRAINFO:[preis='1000'][anmeldung='false']
DTSTAMP:20260425T013453
DTSTART:20250911T130000
DTEND:20250911T160000
SEQUENCE:0
TRANSP:OPAQUE
END:VEVENT
END:VCALENDAR