BEGIN:VCALENDAR
VERSION:2.0
PRODID:-//jEvents 2.0 for Joomla//EN
CALSCALE:GREGORIAN
METHOD:PUBLISH
BEGIN:VEVENT
UID:eaa078bee8d52c2c9c432ed72db0280b
CATEGORIES:2. Bezirk
CREATED:20250916T212648
SUMMARY:fitmom austria get together
LOCATION:Venediger Au 11\, 1020 Wien (dirket neben dem Wiener Prater)
DESCRIPTION:Fitmom austria lädt euch herzlich zum diesjärhigen fitmom austria get toget
 her ein!\nEs erwartet dich ein kostenloses fitmom Workout und ein Gewinnspi
 el mit tollen Preisen von Swandoo (Kinderautositze), mamalila (hochwertige 
 Tragejacken &amp; Co),  Babymassage, Fachbücher, Trageberatung, etc.\n\nPRO
 GRAMM\nbis 9:30: \n- Check In im Venediger Au Park (Venediger Au 11, 1020 W
 ien) \n- Ausfüllen der Gewinnspielkarten\n10 Uhr: kosteloses fitmom Trainin
 g\n11 Uhr: Experten Wiese: Top-Produkte und Dienstleistungen aus der Mama-B
 aby Welt zum Kennenlernen\n12 Uhr: Große Gewinnspiel Auslosung\n\nBitte reg
 istriere dich vorab kostenlos über die fitmom austria Homepage (https://fit
 -mom.at/kurskalender/ereignis/6857-fitmom-get-together)!\n \nWir freuen uns
  schon sehr auf ein tolles Event mit euch! \n\nEure fitmom austria Traineri
 nnen (https://fit-mom.at/trainerinnen)\n
X-ALT-DESC;FMTTYPE=text/html:<p style="font-size: 16px; box-sizing: border-box; margin-top: 0px; margin-
 bottom: 1rem; break-inside: avoid; caret-color: #5d686e; color: #5d686e; fo
 nt-family: Carlito; text-align: justify;"><strong><span style="box-sizing: 
 border-box; font-family: var(--tpl-body-font-family, var(--bs-font-sans-ser
 if));">Fitmom austria lädt euch herzlich zum diesjärhigen fitmom austria ge
 t together ein!</span></strong></p><p><span style="caret-color: #5d686e; co
 lor: #5d686e; font-family: Carlito; font-size: 16px; text-align: justify;">
 Es erwartet dich ein kostenloses fitmom Workout und ein Gewinnspiel mit tol
 len Preisen von Swandoo (Kinderautositze), mamalila (hochwertige Tragejacke
 n &amp; Co), &nbsp;Babymassage, Fachbücher, Trageberatung, etc.</span></p><
 p><strong style="caret-color: #5d686e; color: #5d686e; font-family: Carlito
 ; font-size: 16px; text-align: justify;"><br />PROGRAMM</strong></p><p styl
 e="font-size: 16px; box-sizing: border-box; margin-top: 0px; margin-bottom:
  1rem; break-inside: avoid; caret-color: #5d686e; color: #5d686e; font-fami
 ly: Carlito; text-align: justify;"><strong>bis 9:30:</strong> <br />- Check
  In im Venediger Au Park (Venediger Au 11, 1020 Wien) <br />- Ausfüllen der
  Gewinnspielkarten</p><p style="font-size: 16px; box-sizing: border-box; ma
 rgin-top: 0px; margin-bottom: 1rem; break-inside: avoid; caret-color: #5d68
 6e; color: #5d686e; font-family: Carlito; text-align: justify;"><strong>10 
 Uhr:&nbsp;</strong><em>kosteloses</em> fitmom Training</p><p style="font-si
 ze: 16px; box-sizing: border-box; margin-top: 0px; margin-bottom: 1rem; bre
 ak-inside: avoid; caret-color: #5d686e; color: #5d686e; font-family: Carlit
 o; text-align: justify;"><strong>11 Uhr:&nbsp;</strong>Experten Wiese: Top-
 Produkte und Dienstleistungen aus der Mama-Baby Welt zum Kennenlernen</p><p
  style="font-size: 16px; box-sizing: border-box; margin-top: 0px; margin-bo
 ttom: 1rem; break-inside: avoid; caret-color: #5d686e; color: #5d686e; font
 -family: Carlito; text-align: justify;"><strong>12 Uhr: </strong>Große Gewi
 nnspiel Auslosung</p><p style="font-size: 16px; box-sizing: border-box; mar
 gin-top: 0px; margin-bottom: 1rem; break-inside: avoid; caret-color: #5d686
 e; color: #5d686e; font-family: Carlito; text-align: justify;"><br /><span 
 style="box-sizing: border-box;">Bitte registriere dich vorab kostenlos über
  die <a href="https://fit-mom.at/kurskalender/ereignis/6857-fitmom-get-toge
 ther">fitmom austria Homepage</a>!</span></p><p>&nbsp;</p><p style="font-si
 ze: 16px; box-sizing: border-box; margin-top: 0px; margin-bottom: 1rem; bre
 ak-inside: avoid; caret-color: #5d686e; color: #5d686e; font-family: Carlit
 o; text-align: justify;"><span style="box-sizing: border-box;">Wir freuen u
 ns schon sehr auf ein tolles Event mit euch! <br /><br />Eure&nbsp;<a href=
 "https://fit-mom.at/trainerinnen">fitmom austria Trainerinnen</a></span></p
 >
CONTACT:fitmom austria: office@fit-mom.at
X-EXTRAINFO:[preis='000'][anmeldung='true']
DTSTAMP:20260425T121729
DTSTART:20251018T073000
DTEND:20251018T110000
SEQUENCE:0
TRANSP:OPAQUE
END:VEVENT
END:VCALENDAR