BEGIN:VCALENDAR
VERSION:2.0
PRODID:-//jEvents 2.0 for Joomla//EN
CALSCALE:GREGORIAN
METHOD:PUBLISH
BEGIN:VEVENT
UID:bec38d29d431af412d99151c8ad80343
CATEGORIES:21. Bezirk
CREATED:20250922T111526
SUMMARY:Elternrunde
LOCATION:Stadtteilbüro Brünnerstraße 34-38/8/R10
DESCRIPTION:Am 5.Dezember findet die kostenlose Elternrunde im Stadtteilbüro statt. Die
 smal zum Thema: \n"Nein" sagen, mit einem guten Gewissen.\nWir freuen uns ü
 ber eure Anmeldung!\nMehr Infos unter \nhttps://beratung.kreuz.wien/ws-besc
 hreibungen.html (https://beratung.kreuz.wien/ws-beschreibungen.html)\n \n
X-ALT-DESC;FMTTYPE=text/html:<p style="border: medium; line-height: 1.5em; margin: 0px; caret-color: #00
 0000; color: #000000; font-family: 'Roboto Condensed', sans-serif; font-siz
 e: 15px;">Am 5.Dezember findet die kostenlose Elternrunde im Stadtteilbüro 
 statt. Diesmal zum Thema:&nbsp;</p><p style="border: medium; line-height: 1
 .5em; margin: 0px; caret-color: #000000; color: #000000; font-family: 'Robo
 to Condensed', sans-serif; font-size: 15px;"><strong>"Nein" sagen, mit eine
 m guten Gewissen.</strong></p><p>Wir freuen uns über eure Anmeldung!</p><p>
 Mehr Infos unter<strong></strong><strong>&nbsp;</strong></p><p style="borde
 r: medium; line-height: 1.5em; margin: 0px; caret-color: #000000; color: #0
 00000; font-family: 'Roboto Condensed', sans-serif; font-size: 15px;"><a hr
 ef="https://beratung.kreuz.wien/ws-beschreibungen.html" style="color: #8a18
 78; text-decoration: none;">https://beratung.kreuz.wien/ws-beschreibungen.h
 tml</a></p><p style="border: medium; line-height: 1.5em; margin: 0px; caret
 -color: #000000; color: #000000; font-family: 'Roboto Condensed', sans-seri
 f; font-size: 15px;">&nbsp;</p>
CONTACT:https://beratung.kreuz.wien/kontakt.html#anchor1-kontaktformular
X-EXTRAINFO:[preis='000'][anmeldung='true']
DTSTAMP:20260425T011510
DTSTART:20250922T160000
DTEND:20250922T173000
SEQUENCE:0
TRANSP:OPAQUE
END:VEVENT
END:VCALENDAR