BEGIN:VCALENDAR
VERSION:2.0
PRODID:-//jEvents 2.0 for Joomla//EN
CALSCALE:GREGORIAN
METHOD:PUBLISH
BEGIN:VEVENT
UID:29df1327d3442a3eaeea15244cdcce69
CATEGORIES:2. Bezirk
CREATED:20250923T124910
SUMMARY:Kindersachenflohmarkt im 2. Bezirk
LOCATION:GRÜN2\, Engerthstraße 213\, 1020 Wien
DESCRIPTION:Komm zum Kindersachenflohmarkt - von Kindern für Kinder\n \nBring deine Spi
 elsachen, Kinder- und Babygewand und werde los, was du nicht mehr brauchst.
  🧸👗 \n \nDu (ver)kaufst, wir stellen dir die Tische und unser Lokal zur Ver
 fügung und sorgen für Snacks und Getränke.\nWir freuen uns auf dich! 💚\n \n
 Anmeldung unter leopoldstadt@gruene.at (mailto:leopoldstadt@gruene.at)  \n 
 \nWann? Samstag, 04.10.2025, 10:00-13:00 Uhr\nWo? GRÜN2, Engerthstraße 213,
  1020 Wien\n \n
X-ALT-DESC;FMTTYPE=text/html:<div class="xdj266r x14z9mp xat24cr x1lziwak x1vvkbs" style="overflow-wrap:
  break-word; margin-inline: 0px; margin-bottom: 0px; margin-top: 0px; font-
 family: system-ui, -apple-system, BlinkMacSystemFont, '.SFNSText-Regular', 
 sans-serif; caret-color: #080809; color: #080809; font-size: 15px;"><p>Komm
  zum Kindersachenflohmarkt - von Kindern für Kinder</p><p>&nbsp;</p><p>Brin
 g deine Spielsachen, Kinder- und Babygewand und werde los, was du nicht meh
 r brauchst.&nbsp;<span style="font-family: 'Apple Color Emoji';">🧸👗&nbsp;</
 span></p><p>&nbsp;</p><p>Du (ver)kaufst, wir stellen dir die Tische und uns
 er Lokal zur Verfügung und sorgen für Snacks und Getränke.</p><p>Wir freuen
  uns auf dich!&nbsp;<span style="font-family: 'Apple Color Emoji';">💚</span
 ></p><p>&nbsp;</p><p>Anmeldung unter <a href="mailto:leopoldstadt@gruene.at
 ">leopoldstadt@gruene.at</a>&nbsp;&nbsp;</p><p>&nbsp;</p><p>Wann? Samstag, 
 04.10.2025, 10:00-13:00 Uhr<br />Wo? GRÜN2, Engerthstraße 213, 1020 Wien</p
 ><p class="MsoNormal" style="margin: 0cm; font-size: medium; font-family: A
 ptos, sans-serif; caret-color: #000000; color: #000000;">&nbsp;</p></div>
CONTACT:leopoldstadt@gruene.at 
X-EXTRAINFO:[preis='000'][anmeldung='true']
DTSTAMP:20260425T121803
DTSTART:20251004T080000
DTEND:20251004T110000
SEQUENCE:0
TRANSP:OPAQUE
END:VEVENT
END:VCALENDAR