BEGIN:VCALENDAR
VERSION:2.0
PRODID:-//jEvents 2.0 for Joomla//EN
CALSCALE:GREGORIAN
METHOD:PUBLISH
BEGIN:VEVENT
UID:813d5254e26760d2339354df46abf4e9
CATEGORIES:21. Bezirk
CREATED:19700101T010000
SUMMARY:Babymassagekurs
LOCATION:Strebersdorfer Straße 163/2
DESCRIPTION:\n\nEin Babymassagekurs besteht aus vier aufeinanderfolgenden Terminen, die
  alle auf einander aufbauen. Jede Woche konzentrieren wir uns auf eine ande
 re Körperregion. \nIch stelle dir das Massageöl und ein umfassendes Handout
  zur Verfügung. Ziel ist es, die Massageabläufe kennen zu lernen und zuhaus
 e durchführen zu können.\nWir fördern die Bindung, bauen Spannung ab, förde
 rn die Durchblutung, lassen die Glückshormone sprudeln und fördern die Wahr
 nehmung.\nEine Einheit dauert zirka 30 Minuten. Davor und danach ist genüge
 nd Zeit zum Austauschen, Wickeln und Stillen.\nDer Kurs ist für Babys ab zi
 rka zwei Monaten bis zum Krabbelalter geeignet.\nmeine Website: www.starke-
 Verbindung.com\n
X-ALT-DESC;FMTTYPE=text/html:<p class="cvGsUA direction-ltr align-start para-style-body" style="color: r
 gba(0,0,0,var(--o42jjq,1)); caret-color: #000000; --8sd0kg: none; font-fami
 ly: YAD1aU3sLnI_0, _fb_, auto; --cyv3zq: 18.6667px; --gjplxq: 1.4; line-hei
 ght: 26px;"><span class="a_GcMg font-feature-liga-off font-feature-clig-off
  font-feature-calt-off text-decoration-none text-strikethrough-none" style=
 "color: rgba(0,0,0,var(--o42jjq,1)); --ys-xuq: none; font-kerning: none;"><
 /span></p><p class="cvGsUA direction-ltr align-start para-style-body" style
 ="color: rgba(245,243,225,var(--o42jjq,1)); caret-color: #f5f3e1; --8sd0kg:
  none; font-family: YAD1aU3sLnI_0, _fb_, auto; --cyv3zq: 18.6667px; --gjplx
 q: 1.4; line-height: 26px;"><span class="a_GcMg font-feature-liga-off font-
 feature-clig-off font-feature-calt-off text-decoration-none text-strikethro
 ugh-none" style="color: rgba(0,0,0,var(--o42jjq,1)); caret-color: #000000; 
 --ys-xuq: none; font-kerning: none;"></span></p><p>Ein Babymassagekurs best
 eht aus vier aufeinanderfolgenden Terminen, die alle auf einander aufbauen.
  Jede Woche konzentrieren wir uns auf eine andere Körperregion.&nbsp;</p><p
 >Ich stelle dir das Massageöl und ein umfassendes Handout zur Verfügung. Zi
 el ist es, die Massageabläufe kennen zu lernen und zuhause durchführen zu k
 önnen.</p><p>Wir fördern die Bindung, bauen Spannung ab, fördern die Durchb
 lutung, lassen die Glückshormone sprudeln und fördern die Wahrnehmung.</p><
 p>Eine Einheit dauert zirka 30 Minuten. Davor und danach ist genügend Zeit 
 zum Austauschen, Wickeln und Stillen.</p><p>Der Kurs ist für Babys ab zirka
  zwei Monaten bis zum Krabbelalter geeignet.</p><p>meine Website: www.stark
 e-Verbindung.com</p>
CONTACT:06502301643 oder susi21@live.at
X-EXTRAINFO:[preis='9900'][anmeldung='true']
DTSTAMP:20260424T223748
DTSTART:20251002T080000
DTEND:20251002T090000
SEQUENCE:0
RRULE:FREQ=WEEKLY;UNTIL=20251024T000000Z;INTERVAL=1;BYDAY=TH
TRANSP:OPAQUE
END:VEVENT
END:VCALENDAR