BEGIN:VCALENDAR
VERSION:2.0
PRODID:-//jEvents 2.0 for Joomla//EN
CALSCALE:GREGORIAN
METHOD:PUBLISH
BEGIN:VEVENT
UID:c68440b57515255329d93f2106795349
CATEGORIES:21. Bezirk
CREATED:19700101T010000
SUMMARY:Mama Baby Treffen (auch für Schwangere)
LOCATION:Strebersdorfer Straße 163/2
DESCRIPTION:Ich möchte einen Raum für alle Mamas schaffen, egal ob Schwanger oder schon
  Mama von einem Baby, für einen Austausch und Kontakte knüpfen.\nAlle Frage
 n zum Thema Familie, Schlafen, Stillen und Tragen sind Willkommen. \nAls Fa
 milienbegleiterin, Trageberaterin und Stillberaterin sowie Kindergartenpäda
 gogin bin ich da um mein Wissen weiterzugeben und vielleicht die ein oder a
 ndere Herausforderung zu begleiten. \nDer Raum ist offen für einen gemütlic
 hen Austausch, Spiele für die Babys, Fragen, Themenrunden.\nMeine Webiste: 
 www.starke-Verbindung.com\n
X-ALT-DESC;FMTTYPE=text/html:<p>Ich möchte einen Raum für alle Mamas schaffen, egal ob Schwanger oder sc
 hon Mama von einem Baby, für einen Austausch und Kontakte knüpfen.</p><p>Al
 le Fragen zum Thema Familie, Schlafen, Stillen und Tragen sind Willkommen.&
 nbsp;</p><p>Als Familienbegleiterin, Trageberaterin und Stillberaterin sowi
 e Kindergartenpädagogin bin ich da um mein Wissen weiterzugeben und viellei
 cht die ein oder andere Herausforderung zu begleiten.&nbsp;</p><p>Der Raum 
 ist offen für einen gemütlichen Austausch, Spiele für die Babys, Fragen, Th
 emenrunden.</p><p>Meine Webiste: www.starke-Verbindung.com</p>
CONTACT:06502301643 oder susi21@live.at
X-EXTRAINFO:[preis='1200'][anmeldung='true']
DTSTAMP:20260424T223748
DTSTART:20251002T070000
DTEND:20251002T080000
SEQUENCE:0
RRULE:FREQ=WEEKLY;UNTIL=20251219T000000Z;INTERVAL=1;BYDAY=TH
TRANSP:OPAQUE
END:VEVENT
END:VCALENDAR