BEGIN:VCALENDAR
VERSION:2.0
PRODID:-//jEvents 2.0 for Joomla//EN
CALSCALE:GREGORIAN
METHOD:PUBLISH
BEGIN:VEVENT
UID:2e9263b9212cd0d65b3cde828b2b9c99
CATEGORIES:22. Bezirk
CREATED:19700101T010000
SUMMARY:WindelHopser-Tanzkurs (2-3 Jahre)
LOCATION:Tanzschule Schwebach\, Maculangasse 1b\, 1220 Wien
DESCRIPTION:<p><strong>Tanz- und Bewegungsreise für die Kleinsten</strong></p><p>In die
 sem liebevoll gestalteten Kurs entdecken Kinder gemeinsam mit Mama, Papa od
 er einer anderen vertrauten Begleitperson erste Kreis-, Bewegungs- und Fing
 erspiele. Wir singen, lauschen Klängen und erleben die Freude an der Bewegu
 ng.&nbsp;<br />Jede Stunde wird zu einer kleinen Entdeckungsreise, bei der 
 die gemeinsame Zeit im Mittelpunkt steht.4</p><p><span style="text-decorati
 on: underline;">Hinweis</span>: Der Kurs kann nur mit einer Begleitperson b
 esucht werden.</p><p>Kostenlose Schnupperstunde zu den Einstiegsterminen!</
 p><p>Preise p. Person.</p><p>Schaut auf unserer Homepage vorbei:&nbsp;<stro
 ng>www.familydancesensation.at</strong></p>
CONTACT:info@familydancesensation.at
X-EXTRAINFO:[preis='000'][anmeldung='true']
DTSTAMP:20260425T141945
DTSTART:20251202T150000
DTEND:20251202T155000
SEQUENCE:0
RRULE:FREQ=WEEKLY;UNTIL=20251224T000000Z;INTERVAL=1;BYDAY=TU
TRANSP:OPAQUE
END:VEVENT
END:VCALENDAR