BEGIN:VCALENDAR
VERSION:2.0
PRODID:-//jEvents 2.0 for Joomla//EN
CALSCALE:GREGORIAN
METHOD:PUBLISH
BEGIN:VEVENT
UID:fab89590357b33c3890d434eaea7afbf
CATEGORIES:22. Bezirk
CREATED:19700101T010000
SUMMARY:DancingShakers-Tanzkurs (6-7 Jahre)
LOCATION:Tanzschule Schwebach\, Maculangasse 1b\, 1220 Wien
DESCRIPTION:In diesem energiegeladenen Kurs tanzen wir mal zu deutschen, mal zu englisc
 hen Songs – von bekannten Filmhits bis zu den aktuellen Charts ist alles da
 bei!\n Mit coole Choreos, die spielerisch erste Basic-Schritte vermitteln, 
 lernen die Kinder nicht zu tolle Moves, sondern stärken auch ihr Rhythmusge
 fühl und Selbstbewusstsein.\n Hier wird gelacht, getanzt und voller Freude 
 geshakt – ein Kurs, der bewegt und begeistert!\n Kostenlose Schnupperstunde
  zu den Einstiegsterminen!\n Preise p. Monat.\n Schaut auf unserer Homepage
  vorbei: www.familydancesensation.at\n
X-ALT-DESC;FMTTYPE=text/html:<p class="MsoNormal">In diesem energiegeladenen Kurs tanzen wir mal zu deut
 schen, mal zu englischen Songs – von bekannten Filmhits bis zu den aktuelle
 n Charts ist alles dabei!<br /> Mit coole Choreos, die spielerisch erste Ba
 sic-Schritte vermitteln, lernen die Kinder nicht zu tolle Moves, sondern st
 ärken auch ihr Rhythmusgefühl und Selbstbewusstsein.<br /> Hier wird gelach
 t, getanzt und voller Freude geshakt – ein Kurs, der bewegt und begeistert!
 <br /> <b style="mso-bidi-font-weight: normal;">Kostenlose Schnupperstunde 
 zu den Einstiegsterminen!</b><br /> Preise p. Monat.<br /> Schaut auf unser
 er Homepage vorbei: <b style="mso-bidi-font-weight: normal;">www.familydanc
 esensation.at</b></p>
CONTACT:info@familydancesensation.at
X-EXTRAINFO:[preis='3900'][anmeldung='true']
DTSTAMP:20260425T105037
DTSTART:20251203T154500
DTEND:20251203T163500
SEQUENCE:0
RRULE:FREQ=WEEKLY;UNTIL=20251218T000000Z;INTERVAL=1;BYDAY=WE
TRANSP:OPAQUE
END:VEVENT
END:VCALENDAR