BEGIN:VCALENDAR
VERSION:2.0
PRODID:-//jEvents 2.0 for Joomla//EN
CALSCALE:GREGORIAN
METHOD:PUBLISH
BEGIN:VEVENT
UID:1e7eb7f52ee062fc24c12a0934a546f2
CATEGORIES:22. Bezirk
CREATED:19700101T010000
SUMMARY:Hip Hop Basic-Tanzkurs (11-13 Jahre)
LOCATION:Tanzschule Schwebach\, Maculangasse 1b\, 1220 Wien
DESCRIPTION:In unserem HipHop Basic Kurs lernen Kinder und Jugendliche moderne Choreogr
 afien zu aktuellen Beats. Der Kurs verbindet verschiedene HipHop-Stile und 
 bringt Abwechslung und Herausforderung – ideal, um Koordination Rhythmusgef
 ühl und Körperbewusstsein zu stärken.\n Durch das gemeinsame Erarbeiten der
  Choreos, fördern wir außerdem Teamgeist, Selbstvertrauen und Ausdauer- und
  natürlich kommt der Spaß dabei nicht zu kurz!\nKostenlose Schnupperstunde 
 zu den Einstiegsterminen!\n Preise p. Monat.\n Schaut auf unserer Homepage 
 vorbei: www.familydancesensation.at (http://www.familydancesensation.at)\n
X-ALT-DESC;FMTTYPE=text/html:<p class="MsoNormal">In unserem HipHop Basic Kurs lernen Kinder und Jugendl
 iche moderne Choreografien zu aktuellen Beats. Der Kurs verbindet verschied
 ene HipHop-Stile und bringt Abwechslung und Herausforderung – ideal, um Koo
 rdination Rhythmusgefühl und Körperbewusstsein zu stärken.<br /> Durch das 
 gemeinsame Erarbeiten der Choreos, fördern wir außerdem Teamgeist, Selbstve
 rtrauen und Ausdauer- und natürlich kommt der Spaß dabei nicht zu kurz!</p>
 <p class="MsoNormal"><b style="mso-bidi-font-weight: normal;">Kostenlose Sc
 hnupperstunde zu den Einstiegsterminen!</b><br /> Preise p. Monat.<br /> Sc
 haut auf unserer Homepage vorbei: <b style="mso-bidi-font-weight: normal;">
 <a href="http://www.familydancesensation.at">www.familydancesensation.at</a
 ></b></p>
CONTACT:info@familydancesensation.at
X-EXTRAINFO:[preis='3900'][anmeldung='true']
DTSTAMP:20260425T105003
DTSTART:20251203T160000
DTEND:20251203T165000
SEQUENCE:0
RRULE:FREQ=WEEKLY;UNTIL=20251218T000000Z;INTERVAL=1;BYDAY=WE
TRANSP:OPAQUE
END:VEVENT
END:VCALENDAR