BEGIN:VCALENDAR
VERSION:2.0
PRODID:-//jEvents 2.0 for Joomla//EN
CALSCALE:GREGORIAN
METHOD:PUBLISH
BEGIN:VEVENT
UID:f693eb5f60f9c105ab9890453b35563f
CATEGORIES:13. Bezirk
CREATED:20251007T111737
SUMMARY:Immer bei uns - Wenn Kinder gestorben sind (Gesprächsgruppe)
LOCATION:Kurszentrum St. Josef Krankenhaus (Auhofstraße 189\, Lift A - Ebene 4\, 113
 0 Wien
DESCRIPTION:<p>Wenn ein Kind stirbt, scheint die Welt stillzustehen.<br /> Zurück bleib
 t oft eine Leere, die den Alltag durchdringt – begleitet von einer Sehnsuch
 t nach dem geliebten Kind, die nicht endet, und einer Liebe, die bleibt.</p
 ><p>&nbsp;</p><p>Viele trauernde Eltern erleben, dass es im eigenen Umfeld 
 schwer ist, über ihr verstorbenes Kind zu sprechen. Doch der Verlust vergeh
 t nicht. Das Kind bleibt – im Herzen, in Gedanken, in jeder Erinnerung. Es 
 ist da, auch wenn es nicht mehr an der Hand gehalten werden kann.</p><p><br
  /> Diese offene Gesprächsgruppe möchte einen sicheren Raum bieten, in dem 
 von Kindern und ihren Geschichten erzählt, Erinnerungen geteilt und Worte g
 efunden werden dürfen – für das, was war, was ist und was bleibt.<br /> Hie
 r ist Platz für das, was bewegt, was schmerzt – und was trägt. Unabhängig d
 avon, wie lange der Verlust zurückliegt: Jede*r ist willkommen. Mit allem, 
 was ist.</p><p><br /><strong>Was erwartet Sie in dieser Gruppe:</strong></p
 ><ul><li>Gemeinsames, liebevolles Erinnern</li><li>Ein geschützter Raum übe
 r das verstorbene Kind zu reden</li><li>Austausch mit anderen Betroffenen</
 li><li>Möglichkeit Fragen zu Trauer, Trauerbewältigung, Ritualen,... zu ste
 llen</li></ul><p>&nbsp;<span style="text-decoration: underline;">Zielgruppe
 :</span></p><ul><li>Eltern, deren Baby (in der Schwangerschaft) oder Kind g
 estorben ist</li><li>Großeltern deren Enkelkind gestorben ist</li><li>Ander
 e nahestehende Personen, die um ein Kind trauern</li></ul><p><strong>Jeden 
 letzten Dienstag im Monat von 17:30 bis 19:30 Uhr</strong></p><p>&nbsp;</p>
 <p><span style="text-decoration: underline;">Die nächsten Termine:</span><b
 r /> 21.10.2025 (AUSNAHME eine Woche früher wegen der Herbstferien)&nbsp;<b
 r /> 25.11.2025<br />16.12.2025<br /> <br /> <span style="text-decoration: 
 underline;">Ort:</span> <a href="https://gesundheitszentrum.sjk-wien.at/ind
 ex,35342,Immer+bei+uns+++Wenn+Kinder+gestorben+sind.html">Kurszentrum St. J
 osef Krankenhaus</a> (Auhofstraße 189, Lift A -&nbsp;Ebene 4, 1130 Wien)<br
  /> <span style="text-decoration: underline;">Kosten</span>: 30€ als Einzel
 person, 50€ als Paar</p><p><br /> <span style="text-decoration: underline;"
 >Anmeldung:</span> Für eine bessere Planung freue ich mich über eine kurze 
 Anmeldung (<a href="mailto:anmeldung@weihs.org?subject=Anmeldung%20%22Immer
 %20bei%20uns%22">anmeldung@weihs.org</a>). Auch spontane Besuche sind herzl
 ich willkommen – in diesem Fall empfiehlt sich ein kurzer Blick hier zu den
  Terminen oder ein Anruf bzw. eine Nachricht unter <a href="tel:00436991073
 4116">+43 699 10 734 116</a> um sicherzugehen, dass die Veranstaltung wie g
 eplant stattfindet.</p><p>&nbsp;</p><p><span style="text-decoration: underl
 ine;">Leitung:</span> Lisi Weihs - Psychosoziale Beraterin, Dipl. Lebens- u
 nd Sozialberaterin, Systemisches Coaching, Kinderkrankenschwester (www.weih
 s.org)</p>
X-ALT-DESC;FMTTYPE=text/html:<p>Wenn ein Kind stirbt, scheint die Welt stillzustehen.<br /> Zurück bleib
 t oft eine Leere, die den Alltag durchdringt – begleitet von einer Sehnsuch
 t nach dem geliebten Kind, die nicht endet, und einer Liebe, die bleibt.</p
 ><p>&nbsp;</p><p>Viele trauernde Eltern erleben, dass es im eigenen Umfeld 
 schwer ist, über ihr verstorbenes Kind zu sprechen. Doch der Verlust vergeh
 t nicht. Das Kind bleibt – im Herzen, in Gedanken, in jeder Erinnerung. Es 
 ist da, auch wenn es nicht mehr an der Hand gehalten werden kann.</p><p><br
  /> Diese offene Gesprächsgruppe möchte einen sicheren Raum bieten, in dem 
 von Kindern und ihren Geschichten erzählt, Erinnerungen geteilt und Worte g
 efunden werden dürfen – für das, was war, was ist und was bleibt.<br /> Hie
 r ist Platz für das, was bewegt, was schmerzt – und was trägt. Unabhängig d
 avon, wie lange der Verlust zurückliegt: Jede*r ist willkommen. Mit allem, 
 was ist.</p><p><br /><strong>Was erwartet Sie in dieser Gruppe:</strong></p
 ><ul><li>Gemeinsames, liebevolles Erinnern</li><li>Ein geschützter Raum übe
 r das verstorbene Kind zu reden</li><li>Austausch mit anderen Betroffenen</
 li><li>Möglichkeit Fragen zu Trauer, Trauerbewältigung, Ritualen,... zu ste
 llen</li></ul><p>&nbsp;<span style="text-decoration: underline;">Zielgruppe
 :</span></p><ul><li>Eltern, deren Baby (in der Schwangerschaft) oder Kind g
 estorben ist</li><li>Großeltern deren Enkelkind gestorben ist</li><li>Ander
 e nahestehende Personen, die um ein Kind trauern</li></ul><p><strong>Jeden 
 letzten Dienstag im Monat von 17:30 bis 19:30 Uhr</strong></p><p>&nbsp;</p>
 <p><span style="text-decoration: underline;">Die nächsten Termine:</span><b
 r /> 21.10.2025 (AUSNAHME eine Woche früher wegen der Herbstferien)&nbsp;<b
 r /> 25.11.2025<br />16.12.2025<br /> <br /> <span style="text-decoration: 
 underline;">Ort:</span> <a href="https://gesundheitszentrum.sjk-wien.at/ind
 ex,35342,Immer+bei+uns+++Wenn+Kinder+gestorben+sind.html">Kurszentrum St. J
 osef Krankenhaus</a> (Auhofstraße 189, Lift A -&nbsp;Ebene 4, 1130 Wien)<br
  /> <span style="text-decoration: underline;">Kosten</span>: 30€ als Einzel
 person, 50€ als Paar</p><p><br /> <span style="text-decoration: underline;"
 >Anmeldung:</span> Für eine bessere Planung freue ich mich über eine kurze 
 Anmeldung (<a href="mailto:anmeldung@weihs.org?subject=Anmeldung%20%22Immer
 %20bei%20uns%22">anmeldung@weihs.org</a>). Auch spontane Besuche sind herzl
 ich willkommen – in diesem Fall empfiehlt sich ein kurzer Blick hier zu den
  Terminen oder ein Anruf bzw. eine Nachricht unter <a href="https://babymam
 as.at/tel:004369910734116">+43 699 10 734 116</a> um sicherzugehen, dass di
 e Veranstaltung wie geplant stattfindet.</p><p>&nbsp;</p><p><span style="te
 xt-decoration: underline;">Leitung:</span> Lisi Weihs - Psychosoziale Berat
 erin, Dipl. Lebens- und Sozialberaterin, Systemisches Coaching, Kinderkrank
 enschwester (www.weihs.org)</p>
CONTACT:anmeldung@weihs.org
X-EXTRAINFO:[preis='3000'][anmeldung='true']
DTSTAMP:20260425T185018
DTSTART:20251021T153000
DTEND:20251021T173000
SEQUENCE:0
TRANSP:OPAQUE
END:VEVENT
END:VCALENDAR