BEGIN:VCALENDAR
VERSION:2.0
PRODID:-//jEvents 2.0 for Joomla//EN
CALSCALE:GREGORIAN
METHOD:PUBLISH
BEGIN:VEVENT
UID:bc0dc465c5aac7853d81f211ef1c8f53
CATEGORIES:21. Bezirk
CREATED:20251015T075126
SUMMARY:KINDERKONZERT ab 2 Jahren / DIE GRILLE UND DIE AMEISE
LOCATION:Bezirksmuseum Floridsdorf
DESCRIPTION:🐜🦗 KLASSIK COOL!Die Grille und die Ameise\nMitmach-Konzert für Kinder ab 2 
 Jahren\nDie Grille musiziert den ganzen Sommer lang. 🎶 Aber was soll sie es
 sen, wenn sie keine Körner gesammelt hat? Und wo soll sie wohnen, wenn sie 
 kein Haus gebaut hat?Eine verspielte und doch tiefgründige Geschichte über 
 Musik, Freundschaft und den Lauf der Jahreszeiten. 🌿✨Mit Musik von Bartók, 
 Liszt &amp; Schubert. Zum Mitsingen und Mitmachen für Kinder ab 2 Jahren! 💫
 🎟️ Karten: www.kinderkonzerte.wien (https://www.kinderkonzerte.wien)\n
X-ALT-DESC;FMTTYPE=text/html:<p><br style="color: #000000; font-family: -apple-system, BlinkMacSystemFon
 t, 'Segoe UI', Roboto, Helvetica, Arial, sans-serif; font-size: 14px;" /><s
 pan style="color: #000000; font-family: -apple-system, BlinkMacSystemFont, 
 'Segoe UI', Roboto, Helvetica, Arial, sans-serif; font-size: 14px;">🐜🦗 <str
 ong>KLASSIK COOL!</strong></span><strong><br style="color: #000000; font-fa
 mily: -apple-system, BlinkMacSystemFont, 'Segoe UI', Roboto, Helvetica, Ari
 al, sans-serif; font-size: 14px;" /><span style="color: #000000; font-famil
 y: -apple-system, BlinkMacSystemFont, 'Segoe UI', Roboto, Helvetica, Arial,
  sans-serif; font-size: 14px;">Die Grille und die Ameise</span></strong></p
 ><p>Mitmach-Konzert für Kinder ab 2 Jahren</p><p><span style="color: #00000
 0; font-family: -apple-system, BlinkMacSystemFont, 'Segoe UI', Roboto, Helv
 etica, Arial, sans-serif; font-size: 14px;">Die Grille musiziert den ganzen
  Sommer lang. 🎶 Aber was soll sie essen, wenn sie keine Körner gesammelt ha
 t? Und wo soll sie wohnen, wenn sie kein Haus gebaut hat?</span><br style="
 color: #000000; font-family: -apple-system, BlinkMacSystemFont, 'Segoe UI',
  Roboto, Helvetica, Arial, sans-serif; font-size: 14px;" /><br style="color
 : #000000; font-family: -apple-system, BlinkMacSystemFont, 'Segoe UI', Robo
 to, Helvetica, Arial, sans-serif; font-size: 14px;" /><span style="color: #
 000000; font-family: -apple-system, BlinkMacSystemFont, 'Segoe UI', Roboto,
  Helvetica, Arial, sans-serif; font-size: 14px;">Eine verspielte und doch t
 iefgründige Geschichte über Musik, Freundschaft und den Lauf der Jahreszeit
 en. 🌿✨</span><br style="color: #000000; font-family: -apple-system, BlinkMa
 cSystemFont, 'Segoe UI', Roboto, Helvetica, Arial, sans-serif; font-size: 1
 4px;" /><br style="color: #000000; font-family: -apple-system, BlinkMacSyst
 emFont, 'Segoe UI', Roboto, Helvetica, Arial, sans-serif; font-size: 14px;"
  /><span style="color: #000000; font-family: -apple-system, BlinkMacSystemF
 ont, 'Segoe UI', Roboto, Helvetica, Arial, sans-serif; font-size: 14px;">Mi
 t Musik von Bartók, Liszt &amp; Schubert. Zum Mitsingen und Mitmachen für K
 inder ab 2 Jahren! 💫</span><br style="color: #000000; font-family: -apple-s
 ystem, BlinkMacSystemFont, 'Segoe UI', Roboto, Helvetica, Arial, sans-serif
 ; font-size: 14px;" /><br style="color: #000000; font-family: -apple-system
 , BlinkMacSystemFont, 'Segoe UI', Roboto, Helvetica, Arial, sans-serif; fon
 t-size: 14px;" /><span style="color: #000000; font-family: -apple-system, B
 linkMacSystemFont, 'Segoe UI', Roboto, Helvetica, Arial, sans-serif; font-s
 ize: 14px;">🎟️ Karten: <a href="https://www.kinderkonzerte.wien">www.kinder
 konzerte.wien</a></span><br style="color: #000000; font-family: -apple-syst
 em, BlinkMacSystemFont, 'Segoe UI', Roboto, Helvetica, Arial, sans-serif; f
 ont-size: 14px;" /></p>
CONTACT:office@grossundklein.info
X-EXTRAINFO:[preis='1300'][anmeldung='false']
DTSTAMP:20260424T224658
DTSTART:20251018T083000
DTEND:20251018T091500
SEQUENCE:0
TRANSP:OPAQUE
END:VEVENT
END:VCALENDAR