BEGIN:VCALENDAR
VERSION:2.0
PRODID:-//jEvents 2.0 for Joomla//EN
CALSCALE:GREGORIAN
METHOD:PUBLISH
BEGIN:VEVENT
UID:80eac752dfad684b70e4956e3d299fe1
CATEGORIES:8. Bezirk
CREATED:20251015T075712
SUMMARY:KINDERKONZERT ab 2 Jahren / KLASSIK COOL! DIE GRILLE UND DIE AMEISE
LOCATION:Bezirksmuseum Josefstadt\, 8.\, Schmidgasse 18
DESCRIPTION:🐜🦗 KLASSIK COOL!Die Grille und die Ameise\nDie Grille musiziert den ganzen 
 Sommer lang. 🎶 Aber was soll sie essen, wenn sie keine Körner gesammelt hat
 ? Und wo soll sie wohnen, wenn sie kein Haus gebaut hat?Eine verspielte und
  doch tiefgründige Geschichte über Musik, Freundschaft und den Lauf der Jah
 reszeiten. 🌿✨Mit Musik von Bartók, Liszt &amp; Schubert. Zum Mitsingen und 
 Mitmachen für Kinder ab 2 Jahren! 💫🎟️ Karten: www.kinderkonzerte.wien (http
 s://www.kinderkonzerte.wien)\nBilder und Videos: https://www.instagram.com/
 klassikcool/ (https://www.instagram.com/klassikcool/)\nKLASSIK COOL! gibt e
 s auch für Kindergartengruppen und Volksschulklassen. Wir sind Partner der 
 Wiener Bildungschancen. Mehr darüber auf unsere Webseite.\n
X-ALT-DESC;FMTTYPE=text/html:<p><br style="color: #000000; font-family: -apple-system, BlinkMacSystemFon
 t, 'Segoe UI', Roboto, Helvetica, Arial, sans-serif; font-size: 14px;" /><s
 pan style="color: #000000; font-family: -apple-system, BlinkMacSystemFont, 
 'Segoe UI', Roboto, Helvetica, Arial, sans-serif; font-size: 14px;">🐜🦗<stro
 ng> KLASSIK COOL!</strong></span><strong><br style="color: #000000; font-fa
 mily: -apple-system, BlinkMacSystemFont, 'Segoe UI', Roboto, Helvetica, Ari
 al, sans-serif; font-size: 14px;" /><span style="color: #000000; font-famil
 y: -apple-system, BlinkMacSystemFont, 'Segoe UI', Roboto, Helvetica, Arial,
  sans-serif; font-size: 14px;">Die Grille und die Ameise</span></strong></p
 ><p><span style="color: #000000; font-family: -apple-system, BlinkMacSystem
 Font, 'Segoe UI', Roboto, Helvetica, Arial, sans-serif; font-size: 14px;">D
 ie Grille musiziert den ganzen Sommer lang. 🎶 Aber was soll sie essen, wenn
  sie keine Körner gesammelt hat? Und wo soll sie wohnen, wenn sie kein Haus
  gebaut hat?</span><br style="color: #000000; font-family: -apple-system, B
 linkMacSystemFont, 'Segoe UI', Roboto, Helvetica, Arial, sans-serif; font-s
 ize: 14px;" /><br style="color: #000000; font-family: -apple-system, BlinkM
 acSystemFont, 'Segoe UI', Roboto, Helvetica, Arial, sans-serif; font-size: 
 14px;" /><span style="color: #000000; font-family: -apple-system, BlinkMacS
 ystemFont, 'Segoe UI', Roboto, Helvetica, Arial, sans-serif; font-size: 14p
 x;">Eine verspielte und doch tiefgründige Geschichte über Musik, Freundscha
 ft und den Lauf der Jahreszeiten. 🌿✨</span><br style="color: #000000; font-
 family: -apple-system, BlinkMacSystemFont, 'Segoe UI', Roboto, Helvetica, A
 rial, sans-serif; font-size: 14px;" /><br style="color: #000000; font-famil
 y: -apple-system, BlinkMacSystemFont, 'Segoe UI', Roboto, Helvetica, Arial,
  sans-serif; font-size: 14px;" /><span style="color: #000000; font-family: 
 -apple-system, BlinkMacSystemFont, 'Segoe UI', Roboto, Helvetica, Arial, sa
 ns-serif; font-size: 14px;">Mit Musik von Bartók, Liszt &amp; Schubert. Zum
  Mitsingen und Mitmachen für Kinder ab 2 Jahren! 💫</span><br style="color: 
 #000000; font-family: -apple-system, BlinkMacSystemFont, 'Segoe UI', Roboto
 , Helvetica, Arial, sans-serif; font-size: 14px;" /><br style="color: #0000
 00; font-family: -apple-system, BlinkMacSystemFont, 'Segoe UI', Roboto, Hel
 vetica, Arial, sans-serif; font-size: 14px;" /><span style="color: #000000;
  font-family: -apple-system, BlinkMacSystemFont, 'Segoe UI', Roboto, Helvet
 ica, Arial, sans-serif; font-size: 14px;">🎟️ Karten: <a href="https://www.k
 inderkonzerte.wien">www.kinderkonzerte.wien</a></span><br style="color: #00
 0000; font-family: -apple-system, BlinkMacSystemFont, 'Segoe UI', Roboto, H
 elvetica, Arial, sans-serif; font-size: 14px;" /></p><p>Bilder und Videos:&
 nbsp;<a href="https://www.instagram.com/klassikcool/">https://www.instagram
 .com/klassikcool/</a></p><p><span style="color: #000000; font-family: -appl
 e-system, BlinkMacSystemFont, 'Segoe UI', Roboto, Helvetica, Arial, sans-se
 rif;"><span style="font-size: 14px;">KLASSIK COOL! gibt es auch für Kinderg
 artengruppen und Volksschulklassen. Wir sind Partner der Wiener Bildungscha
 ncen. Mehr darüber auf unsere Webseite.</span></span></p>
CONTACT:office@grossundklein.info
X-EXTRAINFO:[preis='1300'][anmeldung='false']
DTSTAMP:20260425T034251
DTSTART:20251019T083000
DTEND:20251019T091500
SEQUENCE:0
TRANSP:OPAQUE
END:VEVENT
END:VCALENDAR