BEGIN:VCALENDAR
VERSION:2.0
PRODID:-//jEvents 2.0 for Joomla//EN
CALSCALE:GREGORIAN
METHOD:PUBLISH
BEGIN:VEVENT
UID:12f71df16850bc2975b22c6d5818e9a6
CATEGORIES:23. Bezirk
CREATED:20251015T081031
SUMMARY:KINDERKONZERT ab 2 Jahren/ KLASSIK COOL! SONNE, MOND UND STERNE
LOCATION:VHS Erlaa\, Putzendoplergasse 4 1230
DESCRIPTION:🎶 KLASSIK COOL! ☀️🌙⭐ Sonne, Mond und Sterne\nMitmach-Konzert für Kinder ab 
 2 Jahren\n🎶 Da kommt Martin, der Soldat, stolz mit seinem Pferd 🐴, auf sein
 er Schulter sein größter Schatz: ein wunderschöner roter Mantel ❤️🧥.\n✨ Ein
  Konzert rund um das Laternenfest 🏮: die Legende von St. Martin liebevoll u
 nd kleinkindgerecht erzählt 👧🧒 – begleitet von klassischer Musik 🎻🎹.\nWähre
 nd des Konzerts werden die Kinder selbst zu kleinen Musikanten 🥁🎵 und begle
 iten mit Rhythmus und Lautmalerei 👏🎶 die Geschichte! 🕒 Dauer: ca. 45 Minute
 n\nNach dem Konzert dürfen interessierte Kinder die Instrumente ausprobiere
 n 🎺🎻🎹. Mit Erzählung 📖, Violine 🎻 und Klavier 🎹.\nKARTEN: www.kinderkonzert
 e.wien (https://www.kinderkonzerte.wien)\nErmäßigung mit WienXtra Aktivcard
 !\n
X-ALT-DESC;FMTTYPE=text/html:<p>🎶 <strong data-start="158" data-end="204">KLASSIK COOL! ☀️🌙⭐ Sonne, Mond
  und Sterne</strong></p><p>Mitmach-Konzert für Kinder ab 2 Jahren</p><p dat
 a-start="101" data-end="245">🎶 <strong data-start="104" data-end="243">Da k
 ommt Martin, der Soldat, stolz mit seinem Pferd 🐴,<br data-start="161" data
 -end="164" /> auf seiner Schulter sein größter Schatz: ein wunderschöner ro
 ter Mantel ❤️🧥.</strong></p><p data-start="247" data-end="422">✨ Ein Konzer
 t rund um das <strong data-start="273" data-end="292">Laternenfest 🏮</stron
 g>:<br data-start="293" data-end="296" /> die <strong data-start="300" data
 -end="326">Legende von St. Martin</strong> liebevoll und <strong data-start
 ="341" data-end="374">kleinkindgerecht erzählt 👧🧒</strong> –<br data-start=
 "376" data-end="379" /> begleitet von <strong data-start="393" data-end="41
 9">klassischer Musik 🎻🎹</strong>.</p><p data-start="424" data-end="607">Wäh
 rend des Konzerts werden die Kinder selbst zu <strong data-start="473" data
 -end="500">kleinen Musikanten 🥁🎵</strong><br data-start="500" data-end="503
 " /> und begleiten mit <strong data-start="521" data-end="554">Rhythmus und
  Lautmalerei 👏🎶</strong> die Geschichte!<br data-start="570" data-end="573"
  /> 🕒 <strong data-start="576" data-end="586">Dauer:</strong> ca. <strong d
 ata-start="591" data-end="605">45 Minuten</strong></p><p data-start="609" d
 ata-end="755">Nach dem Konzert dürfen <strong data-start="633" data-end="69
 3">interessierte Kinder die Instrumente ausprobieren 🎺🎻🎹</strong>.<br data-
 start="694" data-end="697" /> Mit <strong data-start="701" data-end="717">E
 rzählung 📖</strong>, <strong data-start="719" data-end="733">Violine 🎻</str
 ong> und <strong data-start="738" data-end="752">Klavier 🎹</strong>.</p><p>
 KARTEN: <a href="https://www.kinderkonzerte.wien">www.kinderkonzerte.wien</
 a></p><p>Ermäßigung mit WienXtra Aktivcard!</p>
CONTACT:office@grossundklein.info
X-EXTRAINFO:[preis='1300'][anmeldung='false']
DTSTAMP:20260425T104011
DTSTART:20251025T090000
DTEND:20251025T094500
SEQUENCE:0
TRANSP:OPAQUE
END:VEVENT
END:VCALENDAR