BEGIN:VCALENDAR
VERSION:2.0
PRODID:-//jEvents 2.0 for Joomla//EN
CALSCALE:GREGORIAN
METHOD:PUBLISH
BEGIN:VEVENT
UID:7c78a0d186a2a44a25d040b0d1523aeb
CATEGORIES:19. Bezirk
CREATED:20251018T144811
SUMMARY:Waldspielgruppe
LOCATION:Cobenzl
DESCRIPTION:Mit einer kleinen Wanderung (ca. 1 km) kommen wir zu unserm Platz im Wald. 
 Hier gibt es einen gemeinsamen Beginn mit Begrüßungsliedern und Jause. Nach
  der Stärkung lassen wir uns von den Kindern und vom Wald leiten: Gemeinsam
  spielen, den Wald erkunden und mit allen Sinnen erfahren, Stöcke sammeln, 
 Tiere finden, balancieren, Zapfen werfen,… Das Unterwegssein in der Natur (
 über Wurzeln, durchs Laub und auf unebenem Boden) bietet vielseitige Sinnes
 erfahrungen und Spielanregungen. Durch das freie Spiel wird der Umgang mit 
 der Natur auf achtsame Weise erfahren. Nach der Freispielzeit gibt es ein A
 bschlusslied, und wir machen uns auf den Weg zurück.\nDreimal am Dienstag: 
  21. 10., 04.  &amp; 11. November 2025 \n \n
X-ALT-DESC;FMTTYPE=text/html:<p><span style="color: #391142; font-family: 'Open Sans', sans-serif; font-
 size: 16px; background-color: #fefefe;">Mit einer kleinen Wanderung (ca. 1 
 km) kommen wir zu unserm Platz im Wald. Hier gibt es einen gemeinsamen Begi
 nn mit Begrüßungsliedern und Jause. Nach der Stärkung lassen wir uns von de
 n Kindern und vom Wald leiten: Gemeinsam spielen, den Wald erkunden und mit
  allen Sinnen erfahren, Stöcke sammeln, Tiere finden, balancieren, Zapfen w
 erfen,… Das Unterwegssein in der Natur (über Wurzeln, durchs Laub und auf u
 nebenem Boden) bietet vielseitige Sinneserfahrungen und Spielanregungen. Du
 rch das freie Spiel wird der Umgang mit der Natur auf achtsame Weise erfahr
 en. Nach der Freispielzeit gibt es ein Abschlusslied, und wir machen uns au
 f den Weg zurück.</span></p><p>Dreimal am Dienstag:&nbsp; 21. 10.,&nbsp;04.
 &nbsp; &amp;&nbsp;11. November 2025&nbsp;</p><p>&nbsp;</p>
CONTACT: rundumgeburt@nanaya.at
X-EXTRAINFO:[preis='5000'][anmeldung='true']
DTSTAMP:20260425T003745
DTSTART:20251021T080000
DTEND:20251021T093000
SEQUENCE:0
TRANSP:OPAQUE
END:VEVENT
END:VCALENDAR